BEGIN:VCALENDAR
VERSION:2.0
PRODID:-//EZFacility.com, Inc.//EZL 2.5.5.28621
BEGIN:VEVENT
UID:15260423@ezleagues.ezfacility.com
DTSTAMP:20260426T033737Z
CREATED:20260426T033737Z
DTSTART:20230929T220000Z
DTEND:20230930T000000Z
LOCATION:Baseball Field 3
CONTACT:
SUMMARY:Boilermakers - Navy (5) VS. Total Skills (12)
DESCRIPTION:League Name: Fall '23 Long Shot Tourney 14U\nGame Type: Regular
 \nGame Status: Complete\nHome Team: Boilermakers - Navy (5)\nAway Team: To
 tal Skills (12)\nHome Score: 13\nAway Score: 1
END:VEVENT
BEGIN:VEVENT
UID:15260432@ezleagues.ezfacility.com
DTSTAMP:20260426T033737Z
CREATED:20260426T033737Z
DTSTART:20230930T221000Z
DTEND:20231001T001000Z
LOCATION:Baseball Field 1 
CONTACT:
SUMMARY:Total Skills (12) VS. Baseball U PA - Reda (3)
DESCRIPTION:League Name: Fall '23 Long Shot Tourney 14U\nGame Type: Regular
 \nGame Status: Complete\nHome Team: Total Skills (12)\nAway Team: Baseball
  U PA - Reda (3)\nHome Score: 4\nAway Score: 21
END:VEVENT
BEGIN:VEVENT
UID:15260435@ezleagues.ezfacility.com
DTSTAMP:20260426T033737Z
CREATED:20260426T033737Z
DTSTART:20231001T120000Z
DTEND:20231001T140000Z
LOCATION:Baseball Field 3
CONTACT:
SUMMARY:Titus Baseball Academy 14u (11) VS. Total Skills (12)
DESCRIPTION:League Name: Fall '23 Long Shot Tourney 14U\nGame Type: Regular
 \nGame Status: Complete\nHome Team: Titus Baseball Academy 14u (11)\nAway 
 Team: Total Skills (12)\nHome Score: 12\nAway Score: 5
END:VEVENT
END:VCALENDAR
