BEGIN:VCALENDAR
VERSION:2.0
PRODID:-//EZFacility.com, Inc.//EZL 2.5.5.28621
BEGIN:VEVENT
UID:15263244@ezleagues.ezfacility.com
DTSTAMP:20260424T041401Z
CREATED:20260424T041401Z
DTSTART:20231001T192000Z
DTEND:20231001T201500Z
LOCATION:PFFC Field House - A
CONTACT:
SUMMARY:NK Neretva (Light Blue) VS. Mississauga Dolphins (Black)
DESCRIPTION:League Name: MSL Fall 2023 - Sunday Men's First Games\nGame Typ
 e: Regular\nGame Status: Complete\nHome Team: NK Neretva (Light Blue)\nAwa
 y Team: Mississauga Dolphins (Black)\nHome Score: 7\nAway Score: 8
END:VEVENT
BEGIN:VEVENT
UID:15279010@ezleagues.ezfacility.com
DTSTAMP:20260424T041401Z
CREATED:20260424T041401Z
DTSTART:20231008T173000Z
DTEND:20231008T182500Z
LOCATION:PFFC Field House - C
CONTACT:
SUMMARY:Mississauga Dolphins (Black) VS. BnD FC (Orange)
DESCRIPTION:League Name: MSL Fall 2023 - Sunday Men's First Games\nGame Typ
 e: Regular\nGame Status: Pending\nHome Team: Mississauga Dolphins (Black)\
 nAway Team: BnD FC (Orange)\n
END:VEVENT
END:VCALENDAR
