BEGIN:VCALENDAR
VERSION:2.0
PRODID:-//EZFacility.com, Inc.//EZL 2.5.5.28621
BEGIN:VEVENT
UID:15263262@ezleagues.ezfacility.com
DTSTAMP:20260423T080316Z
CREATED:20260423T080316Z
DTSTART:20231001T192000Z
DTEND:20231001T201500Z
LOCATION:PFFC Field House - C
CONTACT:
SUMMARY:Swol Team 6 (White) VS. Jamdoot (Black)
DESCRIPTION:League Name: MSL Fall 2023 - Sunday Men's First Games\nGame Typ
 e: Regular\nGame Status: Complete\nHome Team: Swol Team 6 (White)\nAway Te
 am: Jamdoot (Black)\nHome Score: 1\nAway Score: 10
END:VEVENT
BEGIN:VEVENT
UID:15279026@ezleagues.ezfacility.com
DTSTAMP:20260423T080316Z
CREATED:20260423T080316Z
DTSTART:20231008T230000Z
DTEND:20231008T235500Z
LOCATION:PFFC Field House - D
CONTACT:
SUMMARY:B.O.M.P (White) VS. Swol Team 6 (White)
DESCRIPTION:League Name: MSL Fall 2023 - Sunday Men's First Games\nGame Typ
 e: Regular\nGame Status: Complete\nHome Team: B.O.M.P (White)\nAway Team: 
 Swol Team 6 (White)\nHome Score: 3\nAway Score: 0
END:VEVENT
END:VCALENDAR
