BEGIN:VCALENDAR
VERSION:2.0
PRODID:-//EZFacility.com, Inc.//EZL 2.5.5.28621
BEGIN:VEVENT
UID:15263263@ezleagues.ezfacility.com
DTSTAMP:20260424T041500Z
CREATED:20260424T041500Z
DTSTART:20231001T201500Z
DTEND:20231001T211000Z
LOCATION:PFFC Field House - C
CONTACT:
SUMMARY:Parle G's (Gold) VS. FBGM (Navy Blue)
DESCRIPTION:League Name: MSL Fall 2023 - Sunday Men's First Games\nGame Typ
 e: Regular\nGame Status: Complete\nHome Team: Parle G's (Gold)\nAway Team:
  FBGM (Navy Blue)\nHome Score: 3\nAway Score: 4
END:VEVENT
BEGIN:VEVENT
UID:15279024@ezleagues.ezfacility.com
DTSTAMP:20260424T041500Z
CREATED:20260424T041500Z
DTSTART:20231008T211000Z
DTEND:20231008T220500Z
LOCATION:PFFC Field House - D
CONTACT:
SUMMARY:Ecua Tucos (Black) VS. Parle G's (Gold)
DESCRIPTION:League Name: MSL Fall 2023 - Sunday Men's First Games\nGame Typ
 e: Regular\nGame Status: Complete\nHome Team: Ecua Tucos (Black)\nAway Tea
 m: Parle G's (Gold)\nHome Score: 3\nAway Score: 1
END:VEVENT
END:VCALENDAR
