BEGIN:VCALENDAR
VERSION:2.0
PRODID:-//EZFacility.com, Inc.//EZL 2.5.5.28621
BEGIN:VEVENT
UID:15263271@ezleagues.ezfacility.com
DTSTAMP:20260424T041331Z
CREATED:20260424T041331Z
DTSTART:20231001T201500Z
DTEND:20231001T211000Z
LOCATION:PFFC Field House - D
CONTACT:
SUMMARY:Scuba Divers FC (Black) VS. Mississauga Panthers (Black)
DESCRIPTION:League Name: MSL Fall 2023 - Sunday Men's First Games\nGame Typ
 e: Regular\nGame Status: Complete\nHome Team: Scuba Divers FC (Black)\nAwa
 y Team: Mississauga Panthers (Black)\nHome Score: 3\nAway Score: 2
END:VEVENT
BEGIN:VEVENT
UID:15279006@ezleagues.ezfacility.com
DTSTAMP:20260424T041331Z
CREATED:20260424T041331Z
DTSTART:20231008T230000Z
DTEND:20231008T235500Z
LOCATION:PFFC Field House - B
CONTACT:
SUMMARY:Mississauga Panthers (Black) VS. Gambli Legends (Blue)
DESCRIPTION:League Name: MSL Fall 2023 - Sunday Men's First Games\nGame Typ
 e: Regular\nGame Status: Complete\nHome Team: Mississauga Panthers (Black)
 \nAway Team: Gambli Legends (Blue)\nHome Score: 6\nAway Score: 2
END:VEVENT
END:VCALENDAR
