BEGIN:VCALENDAR
VERSION:2.0
PRODID:-//EZFacility.com, Inc.//EZL 2.5.5.28621
BEGIN:VEVENT
UID:15266540@ezleagues.ezfacility.com
DTSTAMP:20260426T035123Z
CREATED:20260426T035123Z
DTSTART:20231003T024000Z
DTEND:20231003T033500Z
LOCATION:PFFC Field House - A
CONTACT:
SUMMARY:Buns No Burgers FC (Black and Red) VS. Pink Power Puffs (Pink)
DESCRIPTION:League Name: MSL Fall 2023 - Coed First Games\nGame Type: Regul
 ar\nGame Status: Complete\nHome Team: Buns No Burgers FC (Black and Red)\n
 Away Team: Pink Power Puffs (Pink)\nHome Score: 4\nAway Score: 4
END:VEVENT
BEGIN:VEVENT
UID:15300593@ezleagues.ezfacility.com
DTSTAMP:20260426T035123Z
CREATED:20260426T035123Z
DTSTART:20231019T230000Z
DTEND:20231019T235500Z
LOCATION:PFFC Field House - C
CONTACT:
SUMMARY:Ainsworth FC (Blue) VS. Pink Power Puffs (Pink)
DESCRIPTION:League Name: MSL Fall 2023 - Coed First Games\nGame Type: Regul
 ar\nGame Status: Complete\nHome Team: Ainsworth FC (Blue)\nAway Team: Pink
  Power Puffs (Pink)\nHome Score: 0\nAway Score: 7
END:VEVENT
END:VCALENDAR
