BEGIN:VCALENDAR
VERSION:2.0
PRODID:-//EZFacility.com, Inc.//EZL 2.5.5.28621
BEGIN:VEVENT
UID:15266543@ezleagues.ezfacility.com
DTSTAMP:20260424T115403Z
CREATED:20260424T115403Z
DTSTART:20231002T235500Z
DTEND:20231003T005000Z
LOCATION:PFFC Field House - B
CONTACT:
SUMMARY:The REF-ugees FC (Yellow) VS. 6 FT Under (Baby Blue)
DESCRIPTION:League Name: MSL Fall 2023 - Coed First Games\nGame Type: Regul
 ar\nGame Status: Rescheduled\nHome Team: The REF-ugees FC (Yellow)\nAway T
 eam: 6 FT Under (Baby Blue)\n
END:VEVENT
BEGIN:VEVENT
UID:15289181@ezleagues.ezfacility.com
DTSTAMP:20260424T115403Z
CREATED:20260424T115403Z
DTSTART:20231012T230000Z
DTEND:20231012T235500Z
LOCATION:PFFC Field House - B
CONTACT:
SUMMARY:The REF-ugees FC (Yellow) VS. 6 FT Under (Baby Blue)
DESCRIPTION:League Name: MSL Fall 2023 - Coed First Games\nGame Type: Regul
 ar\nGame Status: Complete\nHome Team: The REF-ugees FC (Yellow)\nAway Team
 : 6 FT Under (Baby Blue)\nHome Score: 3\nAway Score: 4
END:VEVENT
BEGIN:VEVENT
UID:15300573@ezleagues.ezfacility.com
DTSTAMP:20260424T115403Z
CREATED:20260424T115403Z
DTSTART:20231017T024000Z
DTEND:20231017T033500Z
LOCATION:PFFC Field House - D
CONTACT:
SUMMARY:6 FT Under (Baby Blue) VS. The LAB FC
DESCRIPTION:League Name: MSL Fall 2023 - Coed First Games\nGame Type: Regul
 ar\nGame Status: Complete\nHome Team: 6 FT Under (Baby Blue)\nAway Team: T
 he LAB FC\nHome Score: 4\nAway Score: 7
END:VEVENT
END:VCALENDAR
