BEGIN:VCALENDAR
VERSION:2.0
PRODID:-//EZFacility.com, Inc.//EZL 2.5.5.28621
BEGIN:VEVENT
UID:15266555@ezleagues.ezfacility.com
DTSTAMP:20260420T045136Z
CREATED:20260420T045136Z
DTSTART:20231002T235500Z
DTEND:20231003T005000Z
LOCATION:PFFC Field House - D
CONTACT:
SUMMARY:90s FC (Red) VS. Grinders FC (Black)
DESCRIPTION:League Name: MSL Fall 2023 - Coed First Games\nGame Type: Regul
 ar\nGame Status: Rescheduled\nHome Team: 90s FC (Red)\nAway Team: Grinders
  FC (Black)\n
END:VEVENT
BEGIN:VEVENT
UID:15289183@ezleagues.ezfacility.com
DTSTAMP:20260420T045136Z
CREATED:20260420T045136Z
DTSTART:20231012T230000Z
DTEND:20231012T235500Z
LOCATION:PFFC Field House - D
CONTACT:
SUMMARY:90s FC (Red) VS. Grinders FC (Black)
DESCRIPTION:League Name: MSL Fall 2023 - Coed First Games\nGame Type: Regul
 ar\nGame Status: Complete\nHome Team: 90s FC (Red)\nAway Team: Grinders FC
  (Black)\nHome Score: 4\nAway Score: 4
END:VEVENT
BEGIN:VEVENT
UID:15300418@ezleagues.ezfacility.com
DTSTAMP:20260420T045136Z
CREATED:20260420T045136Z
DTSTART:20231016T235500Z
DTEND:20231017T005000Z
LOCATION:PFFC Field House - A
CONTACT:
SUMMARY:MNP Mississauga VS. 90s FC (Red)
DESCRIPTION:League Name: MSL Fall 2023 - Coed First Games\nGame Type: Regul
 ar\nGame Status: Complete\nHome Team: MNP Mississauga\nAway Team: 90s FC (
 Red)\nHome Score: 1\nAway Score: 9
END:VEVENT
END:VCALENDAR
