BEGIN:VCALENDAR
VERSION:2.0
PRODID:-//EZFacility.com, Inc.//EZL 2.5.5.28621
BEGIN:VEVENT
UID:15266595@ezleagues.ezfacility.com
DTSTAMP:20260426T034940Z
CREATED:20260426T034940Z
DTSTART:20231001T220000Z
DTEND:20231001T230000Z
LOCATION:Field 1
CONTACT:
SUMMARY:Ballers VS. Jas and the girls
DESCRIPTION:League Name: Sunday, October 1, 2023 Women's Open\nGame Type: R
 egular\nGame Status: Complete\nHome Team: Ballers\nAway Team: Jas and the 
 girls\nHome Score: 3\nAway Score: 13
END:VEVENT
BEGIN:VEVENT
UID:15269860@ezleagues.ezfacility.com
DTSTAMP:20260426T034940Z
CREATED:20260426T034940Z
DTSTART:20231009T000000Z
DTEND:20231009T010000Z
LOCATION:Field 1
CONTACT:Zelaya
SUMMARY:Jas and the girls VS. Goal Diggers
DESCRIPTION:League Name: Sunday, October 1, 2023 Women's Open\nGame Type: R
 egular\nGame Status: Complete\nHome Team: Jas and the girls\nAway Team: Go
 al Diggers\nHome Score: 12\nAway Score: 4
END:VEVENT
BEGIN:VEVENT
UID:15269862@ezleagues.ezfacility.com
DTSTAMP:20260426T034940Z
CREATED:20260426T034940Z
DTSTART:20231016T000000Z
DTEND:20231016T010000Z
LOCATION: Field 3
CONTACT:Zelaya
SUMMARY:Sprinkles VS. Jas and the girls
DESCRIPTION:League Name: Sunday, October 1, 2023 Women's Open\nGame Type: R
 egular\nGame Status: Complete\nHome Team: Sprinkles\nAway Team: Jas and th
 e girls\nHome Score: 7\nAway Score: 14
END:VEVENT
BEGIN:VEVENT
UID:15269863@ezleagues.ezfacility.com
DTSTAMP:20260426T034940Z
CREATED:20260426T034940Z
DTSTART:20231022T230000Z
DTEND:20231023T000000Z
LOCATION:Field 1
CONTACT:Huber
SUMMARY:Jas and the girls VS. Ballers
DESCRIPTION:League Name: Sunday, October 1, 2023 Women's Open\nGame Type: R
 egular\nGame Status: Complete\nHome Team: Jas and the girls\nAway Team: Ba
 llers\nHome Score: 15\nAway Score: 0
END:VEVENT
BEGIN:VEVENT
UID:15269858@ezleagues.ezfacility.com
DTSTAMP:20260426T034940Z
CREATED:20260426T034940Z
DTSTART:20231029T220000Z
DTEND:20231029T230000Z
LOCATION:Field 1
CONTACT:Canales
SUMMARY:Goal Diggers VS. Jas and the girls
DESCRIPTION:League Name: Sunday, October 1, 2023 Women's Open\nGame Type: R
 egular\nGame Status: Complete\nHome Team: Goal Diggers\nAway Team: Jas and
  the girls\nHome Score: 4\nAway Score: 6
END:VEVENT
BEGIN:VEVENT
UID:15303746@ezleagues.ezfacility.com
DTSTAMP:20260426T034940Z
CREATED:20260426T034940Z
DTSTART:20231105T230000Z
DTEND:20231106T000000Z
LOCATION:VA Army National Guard Field 2
CONTACT:Huber
SUMMARY:Jas and the girls VS. Ballers
DESCRIPTION:League Name: Sunday, October 1, 2023 Women's Open\nGame Type: P
 ostseason\nGame Status: Complete\nHome Team: Jas and the girls\nAway Team:
  Ballers\nHome Score: 19\nAway Score: 4
END:VEVENT
BEGIN:VEVENT
UID:15303748@ezleagues.ezfacility.com
DTSTAMP:20260426T034940Z
CREATED:20260426T034940Z
DTSTART:20231113T010000Z
DTEND:20231113T020000Z
LOCATION:VA Army National Guard Field 2
CONTACT:Zelaya
SUMMARY:Jas and the girls VS. Goal Diggers
DESCRIPTION:League Name: Sunday, October 1, 2023 Women's Open\nGame Type: P
 ostseason\nGame Status: Complete\nHome Team: Jas and the girls\nAway Team:
  Goal Diggers\nHome Score: 8\nAway Score: 3
END:VEVENT
END:VCALENDAR
