BEGIN:VCALENDAR
VERSION:2.0
PRODID:-//EZFacility.com, Inc.//EZL 2.5.5.28621
BEGIN:VEVENT
UID:15270605@ezleagues.ezfacility.com
DTSTAMP:20260426T033824Z
CREATED:20260426T033824Z
DTSTART:20231006T235500Z
DTEND:20231007T005000Z
LOCATION:PFFC Field House - B
CONTACT:
SUMMARY:OBCD FC (Green) VS. MASUD FC (Blue)
DESCRIPTION:League Name: MSL Fall 2023 - Friday Ov35 First Games\nGame Type
 : Regular\nGame Status: Complete\nHome Team: OBCD FC (Green)\nAway Team: M
 ASUD FC (Blue)\nHome Score: 6\nAway Score: 1
END:VEVENT
BEGIN:VEVENT
UID:15293490@ezleagues.ezfacility.com
DTSTAMP:20260426T033824Z
CREATED:20260426T033824Z
DTSTART:20231014T014500Z
DTEND:20231014T024000Z
LOCATION:PFFC Field House - C
CONTACT:
SUMMARY:MASUD FC (Blue) VS. Armada FC (White)
DESCRIPTION:League Name: MSL Fall 2023 - Friday Ov35 First Games\nGame Type
 : Regular\nGame Status: Complete\nHome Team: MASUD FC (Blue)\nAway Team: A
 rmada FC (White)\nHome Score: 2\nAway Score: 5
END:VEVENT
END:VCALENDAR
