BEGIN:VCALENDAR
VERSION:2.0
PRODID:-//EZFacility.com, Inc.//EZL 2.5.5.28621
BEGIN:VEVENT
UID:15273165@ezleagues.ezfacility.com
DTSTAMP:20260420T060315Z
CREATED:20260420T060315Z
DTSTART:20231002T000000Z
DTEND:20231002T010000Z
LOCATION:ACA West
CONTACT:
SUMMARY:Mas Dreamers VS. SA Starz Blue
DESCRIPTION:League Name: 2023 HS Fall League - Boys HS Open\nGame Type: Reg
 ular\nGame Status: Complete\nHome Team: Mas Dreamers\nAway Team: SA Starz 
 Blue\nHome Score: 48\nAway Score: 32
END:VEVENT
BEGIN:VEVENT
UID:15278927@ezleagues.ezfacility.com
DTSTAMP:20260420T060315Z
CREATED:20260420T060315Z
DTSTART:20231009T000000Z
DTEND:20231009T010000Z
LOCATION:ACA North
CONTACT:
SUMMARY:Mas Dreamers VS. SA Starz White
DESCRIPTION:League Name: 2023 HS Fall League - Boys HS Open\nGame Type: Reg
 ular\nGame Status: Complete\nHome Team: Mas Dreamers\nAway Team: SA Starz 
 White\nHome Score: 41\nAway Score: 17
END:VEVENT
BEGIN:VEVENT
UID:15278935@ezleagues.ezfacility.com
DTSTAMP:20260420T060315Z
CREATED:20260420T060315Z
DTSTART:20231016T010000Z
DTEND:20231016T020000Z
LOCATION:ACA South
CONTACT:
SUMMARY:Mas Dreamers VS. Slackers
DESCRIPTION:League Name: 2023 HS Fall League - Boys HS Open\nGame Type: Reg
 ular\nGame Status: Complete\nHome Team: Mas Dreamers\nAway Team: Slackers\
 nHome Score: 43\nAway Score: 40
END:VEVENT
BEGIN:VEVENT
UID:15278941@ezleagues.ezfacility.com
DTSTAMP:20260420T060315Z
CREATED:20260420T060315Z
DTSTART:20231022T230000Z
DTEND:20231023T000000Z
LOCATION:ACA South
CONTACT:
SUMMARY:Xtreme Heat Orange VS. Mas Dreamers
DESCRIPTION:League Name: 2023 HS Fall League - Boys HS Open\nGame Type: Reg
 ular\nGame Status: Pending\nHome Team: Xtreme Heat Orange\nAway Team: Mas 
 Dreamers\n
END:VEVENT
BEGIN:VEVENT
UID:15278951@ezleagues.ezfacility.com
DTSTAMP:20260420T060315Z
CREATED:20260420T060315Z
DTSTART:20231030T000000Z
DTEND:20231030T010000Z
LOCATION:ACA West
CONTACT:
SUMMARY:Mas Dreamers VS. Kekambas
DESCRIPTION:League Name: 2023 HS Fall League - Boys HS Open\nGame Type: Reg
 ular\nGame Status: Pending\nHome Team: Mas Dreamers\nAway Team: Kekambas\n
END:VEVENT
END:VCALENDAR
