BEGIN:VCALENDAR
VERSION:2.0
PRODID:-//EZFacility.com, Inc.//EZL 2.5.5.28621
BEGIN:VEVENT
UID:15276963@ezleagues.ezfacility.com
DTSTAMP:20260426T033404Z
CREATED:20260426T033404Z
DTSTART:20231005T000000Z
DTEND:20231005T010000Z
LOCATION:Turf 1
CONTACT:
SUMMARY:Angry Buzz VS. Southcoast Strikers 
DESCRIPTION:League Name: Women's Soccer A ( Oct. 2023 )\nGame Type: Regular
 \nGame Status: Complete\nHome Team: Angry Buzz\nAway Team: Southcoast Stri
 kers \nHome Score: 3\nAway Score: 2
END:VEVENT
BEGIN:VEVENT
UID:15286106@ezleagues.ezfacility.com
DTSTAMP:20260426T033404Z
CREATED:20260426T033404Z
DTSTART:20231011T230000Z
DTEND:20231012T000000Z
LOCATION:Turf 1
CONTACT:
SUMMARY:Paramedics  VS. Southcoast Strikers 
DESCRIPTION:League Name: Women's Soccer A ( Oct. 2023 )\nGame Type: Regular
 \nGame Status: Complete\nHome Team: Paramedics \nAway Team: Southcoast Str
 ikers \nHome Score: 6\nAway Score: 3
END:VEVENT
BEGIN:VEVENT
UID:15286108@ezleagues.ezfacility.com
DTSTAMP:20260426T033404Z
CREATED:20260426T033404Z
DTSTART:20231018T230000Z
DTEND:20231019T000000Z
LOCATION:Turf 1
CONTACT:
SUMMARY:Felons VS. Southcoast Strikers 
DESCRIPTION:League Name: Women's Soccer A ( Oct. 2023 )\nGame Type: Regular
 \nGame Status: Complete\nHome Team: Felons\nAway Team: Southcoast Strikers
  \nHome Score: 1\nAway Score: 8
END:VEVENT
BEGIN:VEVENT
UID:15286111@ezleagues.ezfacility.com
DTSTAMP:20260426T033404Z
CREATED:20260426T033404Z
DTSTART:20231026T000000Z
DTEND:20231026T010000Z
LOCATION:Turf 1
CONTACT:
SUMMARY:Angry Buzz VS. Southcoast Strikers 
DESCRIPTION:League Name: Women's Soccer A ( Oct. 2023 )\nGame Type: Regular
 \nGame Status: Complete\nHome Team: Angry Buzz\nAway Team: Southcoast Stri
 kers \nHome Score: 2\nAway Score: 0
END:VEVENT
BEGIN:VEVENT
UID:15286112@ezleagues.ezfacility.com
DTSTAMP:20260426T033404Z
CREATED:20260426T033404Z
DTSTART:20231101T230000Z
DTEND:20231102T000000Z
LOCATION:Turf 1
CONTACT:
SUMMARY:Paramedics  VS. Southcoast Strikers 
DESCRIPTION:League Name: Women's Soccer A ( Oct. 2023 )\nGame Type: Regular
 \nGame Status: Complete\nHome Team: Paramedics \nAway Team: Southcoast Str
 ikers \nHome Score: 7\nAway Score: 3
END:VEVENT
BEGIN:VEVENT
UID:15286114@ezleagues.ezfacility.com
DTSTAMP:20260426T033404Z
CREATED:20260426T033404Z
DTSTART:20231109T000000Z
DTEND:20231109T010000Z
LOCATION:Turf 1
CONTACT:
SUMMARY:Felons VS. Southcoast Strikers 
DESCRIPTION:League Name: Women's Soccer A ( Oct. 2023 )\nGame Type: Regular
 \nGame Status: Complete\nHome Team: Felons\nAway Team: Southcoast Strikers
  \nHome Score: 1\nAway Score: 7
END:VEVENT
BEGIN:VEVENT
UID:15286117@ezleagues.ezfacility.com
DTSTAMP:20260426T033404Z
CREATED:20260426T033404Z
DTSTART:20231116T010000Z
DTEND:20231116T020000Z
LOCATION:Turf 1
CONTACT:
SUMMARY:Angry Buzz VS. Southcoast Strikers 
DESCRIPTION:League Name: Women's Soccer A ( Oct. 2023 )\nGame Type: Regular
 \nGame Status: Complete\nHome Team: Angry Buzz\nAway Team: Southcoast Stri
 kers \nHome Score: 6\nAway Score: 1
END:VEVENT
BEGIN:VEVENT
UID:15286119@ezleagues.ezfacility.com
DTSTAMP:20260426T033404Z
CREATED:20260426T033404Z
DTSTART:20231123T000000Z
DTEND:20231123T010000Z
LOCATION:Turf 1
CONTACT:
SUMMARY:Paramedics  VS. Southcoast Strikers 
DESCRIPTION:League Name: Women's Soccer A ( Oct. 2023 )\nGame Type: Regular
 \nGame Status: Complete\nHome Team: Paramedics \nAway Team: Southcoast Str
 ikers \nHome Score: 1\nAway Score: 0
END:VEVENT
BEGIN:VEVENT
UID:15286121@ezleagues.ezfacility.com
DTSTAMP:20260426T033404Z
CREATED:20260426T033404Z
DTSTART:20231130T000000Z
DTEND:20231130T010000Z
LOCATION:Turf 1
CONTACT:
SUMMARY:Felons VS. Southcoast Strikers 
DESCRIPTION:League Name: Women's Soccer A ( Oct. 2023 )\nGame Type: Regular
 \nGame Status: Complete\nHome Team: Felons\nAway Team: Southcoast Strikers
  \nHome Score: 0\nAway Score: 1
END:VEVENT
BEGIN:VEVENT
UID:15286124@ezleagues.ezfacility.com
DTSTAMP:20260426T033404Z
CREATED:20260426T033404Z
DTSTART:20231207T010000Z
DTEND:20231207T020000Z
LOCATION:Turf 1
CONTACT:
SUMMARY:Angry Buzz VS. Southcoast Strikers 
DESCRIPTION:League Name: Women's Soccer A ( Oct. 2023 )\nGame Type: Regular
 \nGame Status: Complete\nHome Team: Angry Buzz\nAway Team: Southcoast Stri
 kers \nHome Score: 4\nAway Score: 11
END:VEVENT
BEGIN:VEVENT
UID:15286126@ezleagues.ezfacility.com
DTSTAMP:20260426T033404Z
CREATED:20260426T033404Z
DTSTART:20231214T003000Z
DTEND:20231214T010000Z
LOCATION:Turf 1
CONTACT:
SUMMARY:Angry Buzz VS. Southcoast Strikers 
DESCRIPTION:League Name: Women's Soccer A ( Oct. 2023 )\nGame Type: Postsea
 son\nGame Status: Complete\nHome Team: Angry Buzz\nAway Team: Southcoast S
 trikers \nHome Score: 0\nAway Score: 2
END:VEVENT
BEGIN:VEVENT
UID:15286127@ezleagues.ezfacility.com
DTSTAMP:20260426T033404Z
CREATED:20260426T033404Z
DTSTART:20231214T010000Z
DTEND:20231214T020000Z
LOCATION:Turf 1
CONTACT:
SUMMARY:Southcoast Strikers  VS. Paramedics 
DESCRIPTION:League Name: Women's Soccer A ( Oct. 2023 )\nGame Type: Postsea
 son\nGame Status: Complete\nHome Team: Southcoast Strikers \nAway Team: Pa
 ramedics \nHome Score: 2\nAway Score: 4
END:VEVENT
END:VCALENDAR
