BEGIN:VCALENDAR
VERSION:2.0
PRODID:-//EZFacility.com, Inc.//EZL 2.5.5.28621
BEGIN:VEVENT
UID:15282579@ezleagues.ezfacility.com
DTSTAMP:20260421T044941Z
CREATED:20260421T044941Z
DTSTART:20231017T000600Z
DTEND:20231017T005800Z
LOCATION:Field   ID 1
CONTACT:
SUMMARY:Hot Flashes VS. Just for Fun
DESCRIPTION:League Name: Fall Indoor 2023 Women's 40+ (Mondays)\nGame Type:
  Regular\nGame Status: Complete\nHome Team: Hot Flashes\nAway Team: Just f
 or Fun\nHome Score: 18\nAway Score: 1
END:VEVENT
BEGIN:VEVENT
UID:15282580@ezleagues.ezfacility.com
DTSTAMP:20260421T044941Z
CREATED:20260421T044941Z
DTSTART:20231023T231400Z
DTEND:20231024T000600Z
LOCATION:Field   ID 1
CONTACT:
SUMMARY:Brewzn VS. Hot Flashes
DESCRIPTION:League Name: Fall Indoor 2023 Women's 40+ (Mondays)\nGame Type:
  Regular\nGame Status: Complete\nHome Team: Brewzn\nAway Team: Hot Flashes
 \nHome Score: 3\nAway Score: 4
END:VEVENT
BEGIN:VEVENT
UID:15282583@ezleagues.ezfacility.com
DTSTAMP:20260421T044941Z
CREATED:20260421T044941Z
DTSTART:20231031T000600Z
DTEND:20231031T005800Z
LOCATION:Field   ID 1
CONTACT:
SUMMARY:The Leftovers VS. Hot Flashes
DESCRIPTION:League Name: Fall Indoor 2023 Women's 40+ (Mondays)\nGame Type:
  Regular\nGame Status: Complete\nHome Team: The Leftovers\nAway Team: Hot 
 Flashes\nHome Score: 0\nAway Score: 5
END:VEVENT
BEGIN:VEVENT
UID:15282585@ezleagues.ezfacility.com
DTSTAMP:20260421T044941Z
CREATED:20260421T044941Z
DTSTART:20231107T001400Z
DTEND:20231107T010600Z
LOCATION:Field   ID 1
CONTACT:
SUMMARY:Just for Fun VS. Hot Flashes
DESCRIPTION:League Name: Fall Indoor 2023 Women's 40+ (Mondays)\nGame Type:
  Regular\nGame Status: Complete\nHome Team: Just for Fun\nAway Team: Hot F
 lashes\nHome Score: 0\nAway Score: 9
END:VEVENT
BEGIN:VEVENT
UID:15282586@ezleagues.ezfacility.com
DTSTAMP:20260421T044941Z
CREATED:20260421T044941Z
DTSTART:20231114T010600Z
DTEND:20231114T015800Z
LOCATION:Field   ID 1
CONTACT:
SUMMARY:Hot Flashes VS. Brewzn
DESCRIPTION:League Name: Fall Indoor 2023 Women's 40+ (Mondays)\nGame Type:
  Regular\nGame Status: Complete\nHome Team: Hot Flashes\nAway Team: Brewzn
 \nHome Score: 2\nAway Score: 8
END:VEVENT
BEGIN:VEVENT
UID:15282589@ezleagues.ezfacility.com
DTSTAMP:20260421T044941Z
CREATED:20260421T044941Z
DTSTART:20231121T001400Z
DTEND:20231121T010600Z
LOCATION:Field   ID 1
CONTACT:
SUMMARY:Hot Flashes VS. The Leftovers
DESCRIPTION:League Name: Fall Indoor 2023 Women's 40+ (Mondays)\nGame Type:
  Regular\nGame Status: Complete\nHome Team: Hot Flashes\nAway Team: The Le
 ftovers\nHome Score: 9\nAway Score: 3
END:VEVENT
BEGIN:VEVENT
UID:15282591@ezleagues.ezfacility.com
DTSTAMP:20260421T044941Z
CREATED:20260421T044941Z
DTSTART:20231128T010600Z
DTEND:20231128T015800Z
LOCATION:Field   ID 1
CONTACT:
SUMMARY:Just for Fun VS. Hot Flashes
DESCRIPTION:League Name: Fall Indoor 2023 Women's 40+ (Mondays)\nGame Type:
  Regular\nGame Status: Complete\nHome Team: Just for Fun\nAway Team: Hot F
 lashes\nHome Score: 2\nAway Score: 10
END:VEVENT
BEGIN:VEVENT
UID:15282592@ezleagues.ezfacility.com
DTSTAMP:20260421T044941Z
CREATED:20260421T044941Z
DTSTART:20231205T001400Z
DTEND:20231205T010600Z
LOCATION:Field   ID 1
CONTACT:
SUMMARY:Hot Flashes VS. Brewzn
DESCRIPTION:League Name: Fall Indoor 2023 Women's 40+ (Mondays)\nGame Type:
  Regular\nGame Status: Complete\nHome Team: Hot Flashes\nAway Team: Brewzn
 \nHome Score: 7\nAway Score: 5
END:VEVENT
BEGIN:VEVENT
UID:15282595@ezleagues.ezfacility.com
DTSTAMP:20260421T044941Z
CREATED:20260421T044941Z
DTSTART:20231212T010600Z
DTEND:20231212T015800Z
LOCATION:Field   ID 1
CONTACT:
SUMMARY:Hot Flashes VS. The Leftovers
DESCRIPTION:League Name: Fall Indoor 2023 Women's 40+ (Mondays)\nGame Type:
  Regular\nGame Status: Complete\nHome Team: Hot Flashes\nAway Team: The Le
 ftovers\nHome Score: 7\nAway Score: 1
END:VEVENT
END:VCALENDAR
