BEGIN:VCALENDAR
VERSION:2.0
PRODID:-//EZFacility.com, Inc.//EZL 2.5.5.28621
BEGIN:VEVENT
UID:15288893@ezleagues.ezfacility.com
DTSTAMP:20260424T012956Z
CREATED:20260424T012956Z
DTSTART:20231016T013000Z
DTEND:20231016T021500Z
LOCATION:StFX Stadium Turf 1
CONTACT:
SUMMARY:Goodfellas VS. MSB PISS MISSILES
DESCRIPTION:League Name: 2023-24-Intramural Flag Football-Men's Division\nG
 ame Type: Regular\nGame Status: Complete\nHome Team: Goodfellas\nAway Team
 : MSB PISS MISSILES\nHome Score: 26\nAway Score: 18
END:VEVENT
BEGIN:VEVENT
UID:15288925@ezleagues.ezfacility.com
DTSTAMP:20260424T012956Z
CREATED:20260424T012956Z
DTSTART:20231018T014000Z
DTEND:20231018T022500Z
LOCATION:StFX Stadium Turf 1
CONTACT:
SUMMARY:Show me your TD's VS. MSB PISS MISSILES
DESCRIPTION:League Name: 2023-24-Intramural Flag Football-Men's Division\nG
 ame Type: Regular\nGame Status: Complete\nHome Team: Show me your TD's\nAw
 ay Team: MSB PISS MISSILES\nHome Score: 12\nAway Score: 12
END:VEVENT
BEGIN:VEVENT
UID:15288903@ezleagues.ezfacility.com
DTSTAMP:20260424T012956Z
CREATED:20260424T012956Z
DTSTART:20231024T014000Z
DTEND:20231024T022500Z
LOCATION:StFX Stadium Turf 1
CONTACT:
SUMMARY:MSB PISS MISSILES VS. Fourth Down Felons
DESCRIPTION:League Name: 2023-24-Intramural Flag Football-Men's Division\nG
 ame Type: Regular\nGame Status: Complete\nHome Team: MSB PISS MISSILES\nAw
 ay Team: Fourth Down Felons\nHome Score: 8\nAway Score: 27
END:VEVENT
BEGIN:VEVENT
UID:15288913@ezleagues.ezfacility.com
DTSTAMP:20260424T012956Z
CREATED:20260424T012956Z
DTSTART:20231030T004500Z
DTEND:20231030T013000Z
LOCATION:StFX Stadium Turf 1
CONTACT:
SUMMARY:MSB PISS MISSILES VS. B.Ed Bugs
DESCRIPTION:League Name: 2023-24-Intramural Flag Football-Men's Division\nG
 ame Type: Regular\nGame Status: Complete\nHome Team: MSB PISS MISSILES\nAw
 ay Team: B.Ed Bugs\nHome Score: 19\nAway Score: 25
END:VEVENT
END:VCALENDAR
