BEGIN:VCALENDAR
VERSION:2.0
PRODID:-//EZFacility.com, Inc.//EZL 2.5.5.28621
BEGIN:VEVENT
UID:15288930@ezleagues.ezfacility.com
DTSTAMP:20260423T060857Z
CREATED:20260423T060857Z
DTSTART:20231013T022500Z
DTEND:20231013T031000Z
LOCATION:StFX Stadium Turf 3
CONTACT:
SUMMARY:St Ninian VS. Bad Apples
DESCRIPTION:League Name: 2023-24-Intramural Flag Football - Women's divisio
 n\nGame Type: Regular\nGame Status: Complete\nHome Team: St Ninian\nAway T
 eam: Bad Apples\nHome Score: 0\nAway Score: 6
END:VEVENT
BEGIN:VEVENT
UID:15288900@ezleagues.ezfacility.com
DTSTAMP:20260423T060857Z
CREATED:20260423T060857Z
DTSTART:20231016T004500Z
DTEND:20231016T013000Z
LOCATION:StFX Stadium Turf 3
CONTACT:
SUMMARY:Kansas City Chiefs  VS. St Ninian
DESCRIPTION:League Name: 2023-24-Intramural Flag Football - Women's divisio
 n\nGame Type: Regular\nGame Status: Complete\nHome Team: Kansas City Chief
 s \nAway Team: St Ninian\nHome Score: 12\nAway Score: 28
END:VEVENT
BEGIN:VEVENT
UID:15288910@ezleagues.ezfacility.com
DTSTAMP:20260423T060857Z
CREATED:20260423T060857Z
DTSTART:20231025T022500Z
DTEND:20231025T031000Z
LOCATION:StFX Stadium Turf 3
CONTACT:
SUMMARY:St Ninian VS. Ball Busters
DESCRIPTION:League Name: 2023-24-Intramural Flag Football - Women's divisio
 n\nGame Type: Regular\nGame Status: Complete\nHome Team: St Ninian\nAway T
 eam: Ball Busters\nHome Score: 24\nAway Score: 12
END:VEVENT
BEGIN:VEVENT
UID:15288920@ezleagues.ezfacility.com
DTSTAMP:20260423T060857Z
CREATED:20260423T060857Z
DTSTART:20231030T004500Z
DTEND:20231030T013000Z
LOCATION:StFX Stadium Turf 3
CONTACT:
SUMMARY:Hoedell Beckham VS. St Ninian
DESCRIPTION:League Name: 2023-24-Intramural Flag Football - Women's divisio
 n\nGame Type: Regular\nGame Status: Complete\nHome Team: Hoedell Beckham\n
 Away Team: St Ninian\nHome Score: 26\nAway Score: 30
END:VEVENT
BEGIN:VEVENT
UID:15359893@ezleagues.ezfacility.com
DTSTAMP:20260423T060857Z
CREATED:20260423T060857Z
DTSTART:20231114T013000Z
DTEND:20231114T021500Z
LOCATION:StFX Stadium Turf 1
CONTACT:
SUMMARY:Game Readys VS. St Ninian
DESCRIPTION:League Name: 2023-24-Intramural Flag Football - Women's divisio
 n\nGame Type: Regular\nGame Status: Complete\nHome Team: Game Readys\nAway
  Team: St Ninian\nHome Score: 0\nAway Score: 18
END:VEVENT
BEGIN:VEVENT
UID:15384410@ezleagues.ezfacility.com
DTSTAMP:20260423T060857Z
CREATED:20260423T060857Z
DTSTART:20231116T021500Z
DTEND:20231116T030000Z
LOCATION:StFX Stadium Turf 1
CONTACT:
SUMMARY:St Ninian VS. Bad Apples
DESCRIPTION:League Name: 2023-24-Intramural Flag Football - Women's divisio
 n\nGame Type: Regular\nGame Status: Complete\nHome Team: St Ninian\nAway T
 eam: Bad Apples\nHome Score: 25\nAway Score: 32
END:VEVENT
END:VCALENDAR
