BEGIN:VCALENDAR
VERSION:2.0
PRODID:-//EZFacility.com, Inc.//EZL 2.5.5.28621
BEGIN:VEVENT
UID:15298734@ezleagues.ezfacility.com
DTSTAMP:20260422T065541Z
CREATED:20260422T065541Z
DTSTART:20231022T124000Z
DTEND:20231022T133500Z
LOCATION:PFFC Field House Half Field CD
CONTACT:
SUMMARY:DSC B2012 Black VS. FFTW Academy U12
DESCRIPTION:League Name: BU12 - Target\nGame Type: Regular\nGame Status: Pe
 nding\nHome Team: DSC B2012 Black\nAway Team: FFTW Academy U12\n
END:VEVENT
BEGIN:VEVENT
UID:15316391@ezleagues.ezfacility.com
DTSTAMP:20260422T065541Z
CREATED:20260422T065541Z
DTSTART:20231029T153500Z
DTEND:20231029T163000Z
LOCATION:PFFC Field House Half Field AB
CONTACT:
SUMMARY:First Touch Jaguars White U12 VS. FFTW Academy U12
DESCRIPTION:League Name: BU12 - Target\nGame Type: Regular\nGame Status: Pe
 nding\nHome Team: First Touch Jaguars White U12\nAway Team: FFTW Academy U
 12\n
END:VEVENT
BEGIN:VEVENT
UID:15316412@ezleagues.ezfacility.com
DTSTAMP:20260422T065541Z
CREATED:20260422T065541Z
DTSTART:20231105T120000Z
DTEND:20231105T125500Z
LOCATION:PFFC Field House Half Field CD
CONTACT:
SUMMARY:SSE 90 '2012 VS. FFTW Academy U12
DESCRIPTION:League Name: BU12 - Target\nGame Type: Regular\nGame Status: Pe
 nding\nHome Team: SSE 90 '2012\nAway Team: FFTW Academy U12\n
END:VEVENT
BEGIN:VEVENT
UID:15316434@ezleagues.ezfacility.com
DTSTAMP:20260422T065541Z
CREATED:20260422T065541Z
DTSTART:20231112T125500Z
DTEND:20231112T135000Z
LOCATION:PFFC Field House Half Field AB
CONTACT:
SUMMARY:Force Soccer M U12 Black VS. FFTW Academy U12
DESCRIPTION:League Name: BU12 - Target\nGame Type: Regular\nGame Status: Pe
 nding\nHome Team: Force Soccer M U12 Black\nAway Team: FFTW Academy U12\n
END:VEVENT
BEGIN:VEVENT
UID:15316454@ezleagues.ezfacility.com
DTSTAMP:20260422T065541Z
CREATED:20260422T065541Z
DTSTART:20231119T144500Z
DTEND:20231119T154000Z
LOCATION:PFFC Field House Half Field CD
CONTACT:
SUMMARY:FFTW Academy U12 VS. Force Soccer M U12 White
DESCRIPTION:League Name: BU12 - Target\nGame Type: Regular\nGame Status: Pe
 nding\nHome Team: FFTW Academy U12\nAway Team: Force Soccer M U12 White\n
END:VEVENT
BEGIN:VEVENT
UID:15316500@ezleagues.ezfacility.com
DTSTAMP:20260422T065541Z
CREATED:20260422T065541Z
DTSTART:20231203T135000Z
DTEND:20231203T144500Z
LOCATION:PFFC Field House Half Field CD
CONTACT:
SUMMARY:FFTW Academy U12 VS. International SC Target
DESCRIPTION:League Name: BU12 - Target\nGame Type: Regular\nGame Status: Pe
 nding\nHome Team: FFTW Academy U12\nAway Team: International SC Target\n
END:VEVENT
BEGIN:VEVENT
UID:15316477@ezleagues.ezfacility.com
DTSTAMP:20260422T065541Z
CREATED:20260422T065541Z
DTSTART:20231210T154000Z
DTEND:20231210T163500Z
LOCATION:PFFC Field House Half Field CD
CONTACT:
SUMMARY:FFTW Academy U12 VS. 2012 u12 EFC
DESCRIPTION:League Name: BU12 - Target\nGame Type: Regular\nGame Status: Pe
 nding\nHome Team: FFTW Academy U12\nAway Team: 2012 u12 EFC\n
END:VEVENT
BEGIN:VEVENT
UID:15416796@ezleagues.ezfacility.com
DTSTAMP:20260422T065541Z
CREATED:20260422T065541Z
DTSTART:20231217T125500Z
DTEND:20231217T135000Z
LOCATION:PFFC Field House Half Field CD
CONTACT:
SUMMARY:2012 u12 EFC VS. FFTW Academy U12
DESCRIPTION:League Name: BU12 - Target\nGame Type: Regular\nGame Status: Pe
 nding\nHome Team: 2012 u12 EFC\nAway Team: FFTW Academy U12\n
END:VEVENT
BEGIN:VEVENT
UID:15416818@ezleagues.ezfacility.com
DTSTAMP:20260422T065541Z
CREATED:20260422T065541Z
DTSTART:20240107T144500Z
DTEND:20240107T154000Z
LOCATION:PFFC Field House Half Field AB
CONTACT:
SUMMARY:FFTW Academy U12 VS. Force Soccer M U12 Black
DESCRIPTION:League Name: BU12 - Target\nGame Type: Regular\nGame Status: Pe
 nding\nHome Team: FFTW Academy U12\nAway Team: Force Soccer M U12 Black\n
END:VEVENT
BEGIN:VEVENT
UID:15416834@ezleagues.ezfacility.com
DTSTAMP:20260422T065541Z
CREATED:20260422T065541Z
DTSTART:20240121T135000Z
DTEND:20240121T144500Z
LOCATION:PFFC Field House Half Field CD
CONTACT:
SUMMARY:FFTW Academy U12 VS. Erin Mills Eagles M 2012 Green
DESCRIPTION:League Name: BU12 - Target\nGame Type: Regular\nGame Status: Pe
 nding\nHome Team: FFTW Academy U12\nAway Team: Erin Mills Eagles M 2012 Gr
 een\n
END:VEVENT
BEGIN:VEVENT
UID:15416842@ezleagues.ezfacility.com
DTSTAMP:20260422T065541Z
CREATED:20260422T065541Z
DTSTART:20240128T154000Z
DTEND:20240128T163500Z
LOCATION:PFFC Field House Half Field AB
CONTACT:
SUMMARY:FFTW Academy U12 VS. International SC Target
DESCRIPTION:League Name: BU12 - Target\nGame Type: Regular\nGame Status: Pe
 nding\nHome Team: FFTW Academy U12\nAway Team: International SC Target\n
END:VEVENT
BEGIN:VEVENT
UID:15416857@ezleagues.ezfacility.com
DTSTAMP:20260422T065541Z
CREATED:20260422T065541Z
DTSTART:20240211T135000Z
DTEND:20240211T144500Z
LOCATION:PFFC Field House Half Field CD
CONTACT:
SUMMARY:DSC B2012 Black VS. FFTW Academy U12
DESCRIPTION:League Name: BU12 - Target\nGame Type: Regular\nGame Status: Pe
 nding\nHome Team: DSC B2012 Black\nAway Team: FFTW Academy U12\n
END:VEVENT
BEGIN:VEVENT
UID:15416863@ezleagues.ezfacility.com
DTSTAMP:20260422T065541Z
CREATED:20260422T065541Z
DTSTART:20240218T154000Z
DTEND:20240218T163500Z
LOCATION:PFFC Field House Half Field CD
CONTACT:
SUMMARY:First Touch Jaguars White U12 VS. FFTW Academy U12
DESCRIPTION:League Name: BU12 - Target\nGame Type: Regular\nGame Status: Pe
 nding\nHome Team: First Touch Jaguars White U12\nAway Team: FFTW Academy U
 12\n
END:VEVENT
BEGIN:VEVENT
UID:15416802@ezleagues.ezfacility.com
DTSTAMP:20260422T065541Z
CREATED:20260422T065541Z
DTSTART:20240303T135000Z
DTEND:20240303T144500Z
LOCATION:PFFC Field House Half Field CD
CONTACT:
SUMMARY:Force Soccer M U12 White VS. FFTW Academy U12
DESCRIPTION:League Name: BU12 - Target\nGame Type: Regular\nGame Status: Pe
 nding\nHome Team: Force Soccer M U12 White\nAway Team: FFTW Academy U12\n
END:VEVENT
BEGIN:VEVENT
UID:15416810@ezleagues.ezfacility.com
DTSTAMP:20260422T065541Z
CREATED:20260422T065541Z
DTSTART:20240310T110000Z
DTEND:20240310T115500Z
LOCATION:PFFC Field House Half Field AB
CONTACT:
SUMMARY:FFTW Academy U12 VS. USC Karpaty 2012B
DESCRIPTION:League Name: BU12 - Target\nGame Type: Regular\nGame Status: Pe
 nding\nHome Team: FFTW Academy U12\nAway Team: USC Karpaty 2012B\n
END:VEVENT
BEGIN:VEVENT
UID:15416826@ezleagues.ezfacility.com
DTSTAMP:20260422T065541Z
CREATED:20260422T065541Z
DTSTART:20240324T110000Z
DTEND:20240324T115500Z
LOCATION:PFFC Field House Half Field CD
CONTACT:
SUMMARY:FFTW Academy U12 VS. First Touch Jaguars Yellow U12
DESCRIPTION:League Name: BU12 - Target\nGame Type: Regular\nGame Status: Pe
 nding\nHome Team: FFTW Academy U12\nAway Team: First Touch Jaguars Yellow 
 U12\n
END:VEVENT
BEGIN:VEVENT
UID:15416850@ezleagues.ezfacility.com
DTSTAMP:20260422T065541Z
CREATED:20260422T065541Z
DTSTART:20240414T134500Z
DTEND:20240414T144000Z
LOCATION:PFFC Field House Half Field CD
CONTACT:
SUMMARY:FFTW Academy U12 VS. Gil Vicente U12 Boys
DESCRIPTION:League Name: BU12 - Target\nGame Type: Regular\nGame Status: Pe
 nding\nHome Team: FFTW Academy U12\nAway Team: Gil Vicente U12 Boys\n
END:VEVENT
BEGIN:VEVENT
UID:15416869@ezleagues.ezfacility.com
DTSTAMP:20260422T065541Z
CREATED:20260422T065541Z
DTSTART:20240421T115500Z
DTEND:20240421T125000Z
LOCATION:PFFC Field House Half Field AB
CONTACT:
SUMMARY:SSE 90 '2012 VS. FFTW Academy U12
DESCRIPTION:League Name: BU12 - Target\nGame Type: Regular\nGame Status: Pe
 nding\nHome Team: SSE 90 '2012\nAway Team: FFTW Academy U12\n
END:VEVENT
END:VCALENDAR
