BEGIN:VCALENDAR
VERSION:2.0
PRODID:-//EZFacility.com, Inc.//EZL 2.5.5.28621
BEGIN:VEVENT
UID:15322876@ezleagues.ezfacility.com
DTSTAMP:20260424T044414Z
CREATED:20260424T044414Z
DTSTART:20231028T164500Z
DTEND:20231028T174000Z
LOCATION:PFFC Field House - Field D
CONTACT:
SUMMARY:FGSU U10 Girls T1 VS. CB Red Panthers 
DESCRIPTION:League Name: GU10 - Target\nGame Type: Regular\nGame Status: Pe
 nding\nHome Team: FGSU U10 Girls T1\nAway Team: CB Red Panthers \n
END:VEVENT
BEGIN:VEVENT
UID:15360840@ezleagues.ezfacility.com
DTSTAMP:20260424T044414Z
CREATED:20260424T044414Z
DTSTART:20231104T155000Z
DTEND:20231104T164500Z
LOCATION:PFFC Field House - Field B
CONTACT:
SUMMARY:Bolton Wanderers  VS. CB Red Panthers 
DESCRIPTION:League Name: GU10 - Target\nGame Type: Regular\nGame Status: Pe
 nding\nHome Team: Bolton Wanderers \nAway Team: CB Red Panthers \n
END:VEVENT
BEGIN:VEVENT
UID:15360847@ezleagues.ezfacility.com
DTSTAMP:20260424T044414Z
CREATED:20260424T044414Z
DTSTART:20231111T130000Z
DTEND:20231111T135500Z
LOCATION:PFFC Dome - Field #4
CONTACT:
SUMMARY:CB Red Panthers  VS. FGSU U10 Girls T1
DESCRIPTION:League Name: GU10 - Target\nGame Type: Regular\nGame Status: Pe
 nding\nHome Team: CB Red Panthers \nAway Team: FGSU U10 Girls T1\n
END:VEVENT
BEGIN:VEVENT
UID:15360861@ezleagues.ezfacility.com
DTSTAMP:20260424T044414Z
CREATED:20260424T044414Z
DTSTART:20231125T120000Z
DTEND:20231125T125500Z
LOCATION:PFFC Dome - Field #4
CONTACT:
SUMMARY:CB Red Panthers  VS. Force Soocer G U10 Black
DESCRIPTION:League Name: GU10 - Target\nGame Type: Regular\nGame Status: Pe
 nding\nHome Team: CB Red Panthers \nAway Team: Force Soocer G U10 Black\n
END:VEVENT
BEGIN:VEVENT
UID:15360854@ezleagues.ezfacility.com
DTSTAMP:20260424T044414Z
CREATED:20260424T044414Z
DTSTART:20231202T165000Z
DTEND:20231202T174500Z
LOCATION:PFFC Field House - Field A
CONTACT:
SUMMARY:Etobicoke FC 2014G VS. CB Red Panthers 
DESCRIPTION:League Name: GU10 - Target\nGame Type: Regular\nGame Status: Pe
 nding\nHome Team: Etobicoke FC 2014G\nAway Team: CB Red Panthers \n
END:VEVENT
BEGIN:VEVENT
UID:15412966@ezleagues.ezfacility.com
DTSTAMP:20260424T044414Z
CREATED:20260424T044414Z
DTSTART:20231216T144500Z
DTEND:20231216T154000Z
LOCATION:PFFC Dome - Field #3
CONTACT:
SUMMARY:Erin Mills Eagles F 2014 Green VS. CB Red Panthers 
DESCRIPTION:League Name: GU10 - Target\nGame Type: Regular\nGame Status: Pe
 nding\nHome Team: Erin Mills Eagles F 2014 Green\nAway Team: CB Red Panthe
 rs \n
END:VEVENT
BEGIN:VEVENT
UID:15412971@ezleagues.ezfacility.com
DTSTAMP:20260424T044414Z
CREATED:20260424T044414Z
DTSTART:20231223T135000Z
DTEND:20231223T144500Z
LOCATION:CMCC Field 3
CONTACT:
SUMMARY:Puma FC VS. CB Red Panthers 
DESCRIPTION:League Name: GU10 - Target\nGame Type: Regular\nGame Status: Pe
 nding\nHome Team: Puma FC\nAway Team: CB Red Panthers \n
END:VEVENT
BEGIN:VEVENT
UID:15412980@ezleagues.ezfacility.com
DTSTAMP:20260424T044414Z
CREATED:20260424T044414Z
DTSTART:20240106T135500Z
DTEND:20240106T145000Z
LOCATION:CMCC Field 3
CONTACT:
SUMMARY:CB Red Panthers  VS. Bolton Wanderers 
DESCRIPTION:League Name: GU10 - Target\nGame Type: Regular\nGame Status: Pe
 nding\nHome Team: CB Red Panthers \nAway Team: Bolton Wanderers \n
END:VEVENT
BEGIN:VEVENT
UID:15412983@ezleagues.ezfacility.com
DTSTAMP:20260424T044414Z
CREATED:20260424T044414Z
DTSTART:20240113T131000Z
DTEND:20240113T140500Z
LOCATION:PFFC Field House - Field D
CONTACT:
SUMMARY:CB Red Panthers  VS. FGSU U10 Girls T1
DESCRIPTION:League Name: GU10 - Target\nGame Type: Regular\nGame Status: Pe
 nding\nHome Team: CB Red Panthers \nAway Team: FGSU U10 Girls T1\n
END:VEVENT
BEGIN:VEVENT
UID:15412989@ezleagues.ezfacility.com
DTSTAMP:20260424T044414Z
CREATED:20260424T044414Z
DTSTART:20240127T135000Z
DTEND:20240127T144500Z
LOCATION:PFFC Dome - Field #3
CONTACT:
SUMMARY:CB Red Panthers  VS. Force Soocer G U10 Black
DESCRIPTION:League Name: GU10 - Target\nGame Type: Regular\nGame Status: Pe
 nding\nHome Team: CB Red Panthers \nAway Team: Force Soocer G U10 Black\n
END:VEVENT
BEGIN:VEVENT
UID:15412994@ezleagues.ezfacility.com
DTSTAMP:20260424T044414Z
CREATED:20260424T044414Z
DTSTART:20240203T131000Z
DTEND:20240203T140500Z
LOCATION:PFFC Field House - Field D
CONTACT:
SUMMARY:CB Red Panthers  VS. Erin Mills Eagles F 2014 Green
DESCRIPTION:League Name: GU10 - Target\nGame Type: Regular\nGame Status: Pe
 nding\nHome Team: CB Red Panthers \nAway Team: Erin Mills Eagles F 2014 Gr
 een\n
END:VEVENT
BEGIN:VEVENT
UID:15412999@ezleagues.ezfacility.com
DTSTAMP:20260424T044414Z
CREATED:20260424T044414Z
DTSTART:20240210T135000Z
DTEND:20240210T144500Z
LOCATION:PFFC Dome - Field #3
CONTACT:
SUMMARY:CB Red Panthers  VS. Puma FC
DESCRIPTION:League Name: GU10 - Target\nGame Type: Regular\nGame Status: Pe
 nding\nHome Team: CB Red Panthers \nAway Team: Puma FC\n
END:VEVENT
BEGIN:VEVENT
UID:15413008@ezleagues.ezfacility.com
DTSTAMP:20260424T044414Z
CREATED:20260424T044414Z
DTSTART:20240224T144500Z
DTEND:20240224T154000Z
LOCATION:PFFC Dome - Field #3
CONTACT:
SUMMARY:Bolton Wanderers  VS. CB Red Panthers 
DESCRIPTION:League Name: GU10 - Target\nGame Type: Regular\nGame Status: Pe
 nding\nHome Team: Bolton Wanderers \nAway Team: CB Red Panthers \n
END:VEVENT
BEGIN:VEVENT
UID:15413011@ezleagues.ezfacility.com
DTSTAMP:20260424T044414Z
CREATED:20260424T044414Z
DTSTART:20240302T144500Z
DTEND:20240302T154000Z
LOCATION:PFFC Dome - Field #3
CONTACT:
SUMMARY:FGSU U10 Girls T1 VS. CB Red Panthers 
DESCRIPTION:League Name: GU10 - Target\nGame Type: Regular\nGame Status: Pe
 nding\nHome Team: FGSU U10 Girls T1\nAway Team: CB Red Panthers \n
END:VEVENT
BEGIN:VEVENT
UID:15413014@ezleagues.ezfacility.com
DTSTAMP:20260424T044414Z
CREATED:20260424T044414Z
DTSTART:20240316T120000Z
DTEND:20240316T125500Z
LOCATION:CMCC Field 4
CONTACT:
SUMMARY:Etobicoke FC 2014G VS. CB Red Panthers 
DESCRIPTION:League Name: GU10 - Target\nGame Type: Regular\nGame Status: Pe
 nding\nHome Team: Etobicoke FC 2014G\nAway Team: CB Red Panthers \n
END:VEVENT
BEGIN:VEVENT
UID:15412976@ezleagues.ezfacility.com
DTSTAMP:20260424T044414Z
CREATED:20260424T044414Z
DTSTART:20240330T134500Z
DTEND:20240330T144000Z
LOCATION:PFFC Dome - Field #3
CONTACT:
SUMMARY:North York Cosmos VS. CB Red Panthers 
DESCRIPTION:League Name: GU10 - Target\nGame Type: Regular\nGame Status: Pe
 nding\nHome Team: North York Cosmos\nAway Team: CB Red Panthers \n
END:VEVENT
BEGIN:VEVENT
UID:15412986@ezleagues.ezfacility.com
DTSTAMP:20260424T044414Z
CREATED:20260424T044414Z
DTSTART:20240406T125500Z
DTEND:20240406T135000Z
LOCATION:PFFC Dome - Field #4
CONTACT:
SUMMARY:CB Red Panthers  VS. Etobicoke FC 2014G
DESCRIPTION:League Name: GU10 - Target\nGame Type: Regular\nGame Status: Pe
 nding\nHome Team: CB Red Panthers \nAway Team: Etobicoke FC 2014G\n
END:VEVENT
BEGIN:VEVENT
UID:15413004@ezleagues.ezfacility.com
DTSTAMP:20260424T044414Z
CREATED:20260424T044414Z
DTSTART:20240413T134500Z
DTEND:20240413T144000Z
LOCATION:PFFC Dome - Field #1
CONTACT:
SUMMARY:CB Red Panthers  VS. North York Cosmos
DESCRIPTION:League Name: GU10 - Target\nGame Type: Regular\nGame Status: Co
 mplete\nHome Team: CB Red Panthers \nAway Team: North York Cosmos\nHome Sc
 ore: 5\nAway Score: 1
END:VEVENT
END:VCALENDAR
