BEGIN:VCALENDAR
VERSION:2.0
PRODID:-//EZFacility.com, Inc.//EZL 2.5.5.28621
BEGIN:VEVENT
UID:15318616@ezleagues.ezfacility.com
DTSTAMP:20260422T155417Z
CREATED:20260422T155417Z
DTSTART:20231030T003000Z
DTEND:20231030T012500Z
LOCATION:PFFC Dome - Full Field
CONTACT:
SUMMARY:GSC Mustangs F U17 2007 Red VS. Guelph Gryphons
DESCRIPTION:League Name: GU17 - Development\nGame Type: Regular\nGame Statu
 s: Complete\nHome Team: GSC Mustangs F U17 2007 Red\nAway Team: Guelph Gry
 phons\nHome Score: 2\nAway Score: 1
END:VEVENT
BEGIN:VEVENT
UID:15318644@ezleagues.ezfacility.com
DTSTAMP:20260422T155417Z
CREATED:20260422T155417Z
DTSTART:20231120T013000Z
DTEND:20231120T022500Z
LOCATION:PFFC Dome - Full Field
CONTACT:
SUMMARY:Guelph Gryphons VS. FC Milton United
DESCRIPTION:League Name: GU17 - Development\nGame Type: Regular\nGame Statu
 s: Complete\nHome Team: Guelph Gryphons\nAway Team: FC Milton United\nHome
  Score: 1\nAway Score: 0
END:VEVENT
BEGIN:VEVENT
UID:15428723@ezleagues.ezfacility.com
DTSTAMP:20260422T155417Z
CREATED:20260422T155417Z
DTSTART:20231210T224500Z
DTEND:20231210T234000Z
LOCATION:PFFC Dome - Full Field
CONTACT:
SUMMARY:Guelph Gryphons VS. Brams United F U17
DESCRIPTION:League Name: GU17 - Development\nGame Type: Regular\nGame Statu
 s: Complete\nHome Team: Guelph Gryphons\nAway Team: Brams United F U17\nHo
 me Score: 7\nAway Score: 0
END:VEVENT
BEGIN:VEVENT
UID:15428825@ezleagues.ezfacility.com
DTSTAMP:20260422T155417Z
CREATED:20260422T155417Z
DTSTART:20240107T031500Z
DTEND:20240107T041000Z
LOCATION:PFFC Dome - Full Field
CONTACT:
SUMMARY:Guelph Gryphons VS. Burlington Soccer Club
DESCRIPTION:League Name: GU17 - Development\nGame Type: Regular\nGame Statu
 s: Complete\nHome Team: Guelph Gryphons\nAway Team: Burlington Soccer Club
 \nHome Score: 0\nAway Score: 1
END:VEVENT
BEGIN:VEVENT
UID:15428948@ezleagues.ezfacility.com
DTSTAMP:20260422T155417Z
CREATED:20260422T155417Z
DTSTART:20240121T200500Z
DTEND:20240121T210000Z
LOCATION:PFFC Field House - Full Field 
CONTACT:
SUMMARY:Guelph Gryphons VS. Erin Mills Eagles F 2007 Black
DESCRIPTION:League Name: GU17 - Development\nGame Type: Regular\nGame Statu
 s: Complete\nHome Team: Guelph Gryphons\nAway Team: Erin Mills Eagles F 20
 07 Black\nHome Score: 0\nAway Score: 2
END:VEVENT
BEGIN:VEVENT
UID:15428898@ezleagues.ezfacility.com
DTSTAMP:20260422T155417Z
CREATED:20260422T155417Z
DTSTART:20240127T224000Z
DTEND:20240127T233500Z
LOCATION:PFFC Dome - Full Field
CONTACT:
SUMMARY:Brams United F U17 VS. Guelph Gryphons
DESCRIPTION:League Name: GU17 - Development\nGame Type: Regular\nGame Statu
 s: Complete\nHome Team: Brams United F U17\nAway Team: Guelph Gryphons\nHo
 me Score: 0\nAway Score: 6
END:VEVENT
BEGIN:VEVENT
UID:15428747@ezleagues.ezfacility.com
DTSTAMP:20260422T155417Z
CREATED:20260422T155417Z
DTSTART:20240217T224000Z
DTEND:20240217T233500Z
LOCATION:PFFC Dome - Full Field
CONTACT:
SUMMARY:Islington Rangers VS. Guelph Gryphons
DESCRIPTION:League Name: GU17 - Development\nGame Type: Regular\nGame Statu
 s: Complete\nHome Team: Islington Rangers\nAway Team: Guelph Gryphons\nHom
 e Score: 1\nAway Score: 1
END:VEVENT
BEGIN:VEVENT
UID:15428773@ezleagues.ezfacility.com
DTSTAMP:20260422T155417Z
CREATED:20260422T155417Z
DTSTART:20240310T180000Z
DTEND:20240310T185500Z
LOCATION:PFFC Field House - Full Field 
CONTACT:
SUMMARY:Erin Mills Eagles F 2007 Black VS. Guelph Gryphons
DESCRIPTION:League Name: GU17 - Development\nGame Type: Regular\nGame Statu
 s: Complete\nHome Team: Erin Mills Eagles F 2007 Black\nAway Team: Guelph 
 Gryphons\nHome Score: 2\nAway Score: 3
END:VEVENT
BEGIN:VEVENT
UID:15428922@ezleagues.ezfacility.com
DTSTAMP:20260422T155417Z
CREATED:20260422T155417Z
DTSTART:20240323T224500Z
DTEND:20240323T234000Z
LOCATION:PFFC Field House - Full Field 
CONTACT:
SUMMARY:Guelph Gryphons VS. Islington Rangers
DESCRIPTION:League Name: GU17 - Development\nGame Type: Regular\nGame Statu
 s: Complete\nHome Team: Guelph Gryphons\nAway Team: Islington Rangers\nHom
 e Score: 6\nAway Score: 0
END:VEVENT
BEGIN:VEVENT
UID:15428799@ezleagues.ezfacility.com
DTSTAMP:20260422T155417Z
CREATED:20260422T155417Z
DTSTART:20240331T013000Z
DTEND:20240331T022500Z
LOCATION:PFFC Field House - Full Field 
CONTACT:
SUMMARY:Guelph Gryphons VS. Brampton SC
DESCRIPTION:League Name: GU17 - Development\nGame Type: Regular\nGame Statu
 s: Complete\nHome Team: Guelph Gryphons\nAway Team: Brampton SC\nHome Scor
 e: 1\nAway Score: 0
END:VEVENT
BEGIN:VEVENT
UID:15428874@ezleagues.ezfacility.com
DTSTAMP:20260422T155417Z
CREATED:20260422T155417Z
DTSTART:20240413T215000Z
DTEND:20240413T224500Z
LOCATION:PFFC Field House - Full Field 
CONTACT:
SUMMARY:FC Milton United VS. Guelph Gryphons
DESCRIPTION:League Name: GU17 - Development\nGame Type: Regular\nGame Statu
 s: Complete\nHome Team: FC Milton United\nAway Team: Guelph Gryphons\nHome
  Score: 3\nAway Score: 1
END:VEVENT
BEGIN:VEVENT
UID:15428850@ezleagues.ezfacility.com
DTSTAMP:20260422T155417Z
CREATED:20260422T155417Z
DTSTART:20240421T214000Z
DTEND:20240421T223500Z
LOCATION:CMCC - Full Field
CONTACT:
SUMMARY:GSC Mustangs F U17 2007 Red VS. Guelph Gryphons
DESCRIPTION:League Name: GU17 - Development\nGame Type: Regular\nGame Statu
 s: Complete\nHome Team: GSC Mustangs F U17 2007 Red\nAway Team: Guelph Gry
 phons\nHome Score: 1\nAway Score: 2
END:VEVENT
END:VCALENDAR
