BEGIN:VCALENDAR
VERSION:2.0
PRODID:-//EZFacility.com, Inc.//EZL 2.5.5.28621
BEGIN:VEVENT
UID:15293902@ezleagues.ezfacility.com
DTSTAMP:20260424T044321Z
CREATED:20260424T044321Z
DTSTART:20231012T224500Z
DTEND:20231012T233000Z
LOCATION:South Court
CONTACT:
SUMMARY:Stethoskers VS. PT2Peat
DESCRIPTION:League Name: 2023 Fall Volleyball South\nGame Type: Regular\nGa
 me Status: Complete\nHome Team: Stethoskers\nAway Team: PT2Peat\nHome Scor
 e: 0\nAway Score: 2
END:VEVENT
BEGIN:VEVENT
UID:15293905@ezleagues.ezfacility.com
DTSTAMP:20260424T044321Z
CREATED:20260424T044321Z
DTSTART:20231019T233000Z
DTEND:20231020T001500Z
LOCATION:South Court
CONTACT:
SUMMARY:PT2Peat VS. Spike Protein
DESCRIPTION:League Name: 2023 Fall Volleyball South\nGame Type: Regular\nGa
 me Status: Complete\nHome Team: PT2Peat\nAway Team: Spike Protein\nHome Sc
 ore: 2\nAway Score: 0
END:VEVENT
BEGIN:VEVENT
UID:15293908@ezleagues.ezfacility.com
DTSTAMP:20260424T044321Z
CREATED:20260424T044321Z
DTSTART:20231026T224500Z
DTEND:20231026T233000Z
LOCATION:South Court
CONTACT:
SUMMARY:PT2Peat VS. Happy Slappies
DESCRIPTION:League Name: 2023 Fall Volleyball South\nGame Type: Regular\nGa
 me Status: Complete\nHome Team: PT2Peat\nAway Team: Happy Slappies\nHome S
 core: 1\nAway Score: 2
END:VEVENT
BEGIN:VEVENT
UID:15293913@ezleagues.ezfacility.com
DTSTAMP:20260424T044321Z
CREATED:20260424T044321Z
DTSTART:20231102T233000Z
DTEND:20231103T001500Z
LOCATION:South Court
CONTACT:
SUMMARY:Goni-Homies VS. PT2Peat
DESCRIPTION:League Name: 2023 Fall Volleyball South\nGame Type: Regular\nGa
 me Status: Complete\nHome Team: Goni-Homies\nAway Team: PT2Peat\nHome Scor
 e: 0\nAway Score: 2
END:VEVENT
BEGIN:VEVENT
UID:15293918@ezleagues.ezfacility.com
DTSTAMP:20260424T044321Z
CREATED:20260424T044321Z
DTSTART:20231109T234500Z
DTEND:20231110T003000Z
LOCATION:South Court
CONTACT:
SUMMARY:PT2Peat VS. Beta Blockers
DESCRIPTION:League Name: 2023 Fall Volleyball South\nGame Type: Regular\nGa
 me Status: Complete\nHome Team: PT2Peat\nAway Team: Beta Blockers\nHome Sc
 ore: 2\nAway Score: 0
END:VEVENT
BEGIN:VEVENT
UID:15293923@ezleagues.ezfacility.com
DTSTAMP:20260424T044321Z
CREATED:20260424T044321Z
DTSTART:20231117T011500Z
DTEND:20231117T020000Z
LOCATION:South Court
CONTACT:
SUMMARY:Beach Babes VS. PT2Peat
DESCRIPTION:League Name: 2023 Fall Volleyball South\nGame Type: Regular\nGa
 me Status: Complete\nHome Team: Beach Babes\nAway Team: PT2Peat\nHome Scor
 e: 0\nAway Score: 2
END:VEVENT
END:VCALENDAR
