BEGIN:VCALENDAR
VERSION:2.0
PRODID:-//EZFacility.com, Inc.//EZL 2.5.5.28621
BEGIN:VEVENT
UID:15303486@ezleagues.ezfacility.com
DTSTAMP:20260423T192715Z
CREATED:20260423T192715Z
DTSTART:20231006T000000Z
DTEND:20231006T005500Z
LOCATION:Volleyball Court 5
CONTACT:
SUMMARY:Hugo Tree Service VS. Diggin Big Hitties
DESCRIPTION:League Name: Thursday VBall Fall 2023 \nGame Type: Regular\nGam
 e Status: Complete\nHome Team: Hugo Tree Service\nAway Team: Diggin Big Hi
 tties\nHome Score: 1\nAway Score: 2
END:VEVENT
BEGIN:VEVENT
UID:15310576@ezleagues.ezfacility.com
DTSTAMP:20260423T192715Z
CREATED:20260423T192715Z
DTSTART:20231006T005500Z
DTEND:20231006T015000Z
LOCATION:Volleyball Court 5
CONTACT:
SUMMARY:Diggin Big Hitties VS. Big Dig Energy
DESCRIPTION:League Name: Thursday VBall Fall 2023 \nGame Type: Regular\nGam
 e Status: Complete\nHome Team: Diggin Big Hitties\nAway Team: Big Dig Ener
 gy\nHome Score: 2\nAway Score: 0
END:VEVENT
BEGIN:VEVENT
UID:15303488@ezleagues.ezfacility.com
DTSTAMP:20260423T192715Z
CREATED:20260423T192715Z
DTSTART:20231013T000000Z
DTEND:20231013T005500Z
LOCATION:Volleyball Court 2
CONTACT:
SUMMARY:Diggin Big Hitties VS. Storm
DESCRIPTION:League Name: Thursday VBall Fall 2023 \nGame Type: Regular\nGam
 e Status: Complete\nHome Team: Diggin Big Hitties\nAway Team: Storm\nHome 
 Score: 2\nAway Score: 1
END:VEVENT
BEGIN:VEVENT
UID:15310627@ezleagues.ezfacility.com
DTSTAMP:20260423T192715Z
CREATED:20260423T192715Z
DTSTART:20231013T005500Z
DTEND:20231013T015000Z
LOCATION:Volleyball Court 1
CONTACT:
SUMMARY:Diggin Big Hitties VS. Bumpin Schrages
DESCRIPTION:League Name: Thursday VBall Fall 2023 \nGame Type: Regular\nGam
 e Status: Complete\nHome Team: Diggin Big Hitties\nAway Team: Bumpin Schra
 ges\nHome Score: 1\nAway Score: 2
END:VEVENT
BEGIN:VEVENT
UID:15303494@ezleagues.ezfacility.com
DTSTAMP:20260423T192715Z
CREATED:20260423T192715Z
DTSTART:20231020T000000Z
DTEND:20231020T005500Z
LOCATION:Volleyball Court 2
CONTACT:
SUMMARY:Fluffy Penguins VS. Diggin Big Hitties
DESCRIPTION:League Name: Thursday VBall Fall 2023 \nGame Type: Regular\nGam
 e Status: Complete\nHome Team: Fluffy Penguins\nAway Team: Diggin Big Hitt
 ies\nHome Score: 2\nAway Score: 1
END:VEVENT
BEGIN:VEVENT
UID:15310628@ezleagues.ezfacility.com
DTSTAMP:20260423T192715Z
CREATED:20260423T192715Z
DTSTART:20231020T005500Z
DTEND:20231020T015000Z
LOCATION:Volleyball Court 1
CONTACT:
SUMMARY:Hugo Tree Service VS. Diggin Big Hitties
DESCRIPTION:League Name: Thursday VBall Fall 2023 \nGame Type: Regular\nGam
 e Status: Complete\nHome Team: Hugo Tree Service\nAway Team: Diggin Big Hi
 tties\nHome Score: 0\nAway Score: 2
END:VEVENT
BEGIN:VEVENT
UID:15303500@ezleagues.ezfacility.com
DTSTAMP:20260423T192715Z
CREATED:20260423T192715Z
DTSTART:20231027T000000Z
DTEND:20231027T005500Z
LOCATION:Volleyball Court 5
CONTACT:
SUMMARY:Diggin Big Hitties VS. Big Dig Energy
DESCRIPTION:League Name: Thursday VBall Fall 2023 \nGame Type: Regular\nGam
 e Status: Complete\nHome Team: Diggin Big Hitties\nAway Team: Big Dig Ener
 gy\nHome Score: 1\nAway Score: 2
END:VEVENT
BEGIN:VEVENT
UID:15310660@ezleagues.ezfacility.com
DTSTAMP:20260423T192715Z
CREATED:20260423T192715Z
DTSTART:20231027T005500Z
DTEND:20231027T014500Z
LOCATION:Volleyball Court 2
CONTACT:
SUMMARY:Diggin Big Hitties VS. Storm
DESCRIPTION:League Name: Thursday VBall Fall 2023 \nGame Type: Regular\nGam
 e Status: Complete\nHome Team: Diggin Big Hitties\nAway Team: Storm\nHome 
 Score: 2\nAway Score: 1
END:VEVENT
BEGIN:VEVENT
UID:15303501@ezleagues.ezfacility.com
DTSTAMP:20260423T192715Z
CREATED:20260423T192715Z
DTSTART:20231103T000000Z
DTEND:20231103T005500Z
LOCATION:Volleyball Court 5
CONTACT:
SUMMARY:Diggin Big Hitties VS. Bumpin Schrages
DESCRIPTION:League Name: Thursday VBall Fall 2023 \nGame Type: Regular\nGam
 e Status: Pending\nHome Team: Diggin Big Hitties\nAway Team: Bumpin Schrag
 es\n
END:VEVENT
BEGIN:VEVENT
UID:15310635@ezleagues.ezfacility.com
DTSTAMP:20260423T192715Z
CREATED:20260423T192715Z
DTSTART:20231103T005500Z
DTEND:20231103T015000Z
LOCATION:Volleyball Court 2
CONTACT:
SUMMARY:Fluffy Penguins VS. Diggin Big Hitties
DESCRIPTION:League Name: Thursday VBall Fall 2023 \nGame Type: Regular\nGam
 e Status: Pending\nHome Team: Fluffy Penguins\nAway Team: Diggin Big Hitti
 es\n
END:VEVENT
BEGIN:VEVENT
UID:15303513@ezleagues.ezfacility.com
DTSTAMP:20260423T192715Z
CREATED:20260423T192715Z
DTSTART:20231110T010000Z
DTEND:20231110T015500Z
LOCATION:Volleyball Court 5
CONTACT:
SUMMARY:Hugo Tree Service VS. Diggin Big Hitties
DESCRIPTION:League Name: Thursday VBall Fall 2023 \nGame Type: Regular\nGam
 e Status: Complete\nHome Team: Hugo Tree Service\nAway Team: Diggin Big Hi
 tties\nHome Score: 1\nAway Score: 2
END:VEVENT
BEGIN:VEVENT
UID:15310639@ezleagues.ezfacility.com
DTSTAMP:20260423T192715Z
CREATED:20260423T192715Z
DTSTART:20231110T015500Z
DTEND:20231110T025000Z
LOCATION:Volleyball Court 5
CONTACT:
SUMMARY:Diggin Big Hitties VS. Big Dig Energy
DESCRIPTION:League Name: Thursday VBall Fall 2023 \nGame Type: Regular\nGam
 e Status: Complete\nHome Team: Diggin Big Hitties\nAway Team: Big Dig Ener
 gy\nHome Score: 0\nAway Score: 2
END:VEVENT
BEGIN:VEVENT
UID:15303515@ezleagues.ezfacility.com
DTSTAMP:20260423T192715Z
CREATED:20260423T192715Z
DTSTART:20231117T010000Z
DTEND:20231117T015500Z
LOCATION:Volleyball Court 2
CONTACT:
SUMMARY:Diggin Big Hitties VS. Storm
DESCRIPTION:League Name: Thursday VBall Fall 2023 \nGame Type: Regular\nGam
 e Status: Pending\nHome Team: Diggin Big Hitties\nAway Team: Storm\n
END:VEVENT
BEGIN:VEVENT
UID:15310642@ezleagues.ezfacility.com
DTSTAMP:20260423T192715Z
CREATED:20260423T192715Z
DTSTART:20231117T015500Z
DTEND:20231117T025000Z
LOCATION:Volleyball Court 1
CONTACT:
SUMMARY:Diggin Big Hitties VS. Bumpin Schrages
DESCRIPTION:League Name: Thursday VBall Fall 2023 \nGame Type: Regular\nGam
 e Status: Pending\nHome Team: Diggin Big Hitties\nAway Team: Bumpin Schrag
 es\n
END:VEVENT
BEGIN:VEVENT
UID:15303518@ezleagues.ezfacility.com
DTSTAMP:20260423T192715Z
CREATED:20260423T192715Z
DTSTART:20231201T010000Z
DTEND:20231201T015500Z
LOCATION:Volleyball Court 2
CONTACT:
SUMMARY:Fluffy Penguins VS. Diggin Big Hitties
DESCRIPTION:League Name: Thursday VBall Fall 2023 \nGame Type: Regular\nGam
 e Status: Complete\nHome Team: Fluffy Penguins\nAway Team: Diggin Big Hitt
 ies\nHome Score: 0\nAway Score: 2
END:VEVENT
BEGIN:VEVENT
UID:15310646@ezleagues.ezfacility.com
DTSTAMP:20260423T192715Z
CREATED:20260423T192715Z
DTSTART:20231201T015500Z
DTEND:20231201T025000Z
LOCATION:Volleyball Court 1
CONTACT:
SUMMARY:Hugo Tree Service VS. Diggin Big Hitties
DESCRIPTION:League Name: Thursday VBall Fall 2023 \nGame Type: Regular\nGam
 e Status: Complete\nHome Team: Hugo Tree Service\nAway Team: Diggin Big Hi
 tties\nHome Score: 0\nAway Score: 2
END:VEVENT
BEGIN:VEVENT
UID:15303521@ezleagues.ezfacility.com
DTSTAMP:20260423T192715Z
CREATED:20260423T192715Z
DTSTART:20231208T010000Z
DTEND:20231208T015500Z
LOCATION:Volleyball Court 5
CONTACT:
SUMMARY:Diggin Big Hitties VS. Big Dig Energy
DESCRIPTION:League Name: Thursday VBall Fall 2023 \nGame Type: Regular\nGam
 e Status: Pending\nHome Team: Diggin Big Hitties\nAway Team: Big Dig Energ
 y\n
END:VEVENT
BEGIN:VEVENT
UID:15310651@ezleagues.ezfacility.com
DTSTAMP:20260423T192715Z
CREATED:20260423T192715Z
DTSTART:20231208T015500Z
DTEND:20231208T025000Z
LOCATION:Volleyball Court 2
CONTACT:
SUMMARY:Diggin Big Hitties VS. Storm
DESCRIPTION:League Name: Thursday VBall Fall 2023 \nGame Type: Regular\nGam
 e Status: Pending\nHome Team: Diggin Big Hitties\nAway Team: Storm\n
END:VEVENT
END:VCALENDAR
