BEGIN:VCALENDAR
VERSION:2.0
PRODID:-//EZFacility.com, Inc.//EZL 2.5.5.28621
BEGIN:VEVENT
UID:15300689@ezleagues.ezfacility.com
DTSTAMP:20260424T043930Z
CREATED:20260424T043930Z
DTSTART:20231015T021500Z
DTEND:20231015T030000Z
LOCATION:South Field
CONTACT:
SUMMARY:Juticalpa VS. Huitzuco
DESCRIPTION:League Name: Centro America Fall 2023\nGame Type: Regular\nGame
  Status: Complete\nHome Team: Juticalpa\nAway Team: Huitzuco\nHome Score: 
 7\nAway Score: 3
END:VEVENT
BEGIN:VEVENT
UID:15323011@ezleagues.ezfacility.com
DTSTAMP:20260424T043930Z
CREATED:20260424T043930Z
DTSTART:20231022T010000Z
DTEND:20231022T014500Z
LOCATION:South Field
CONTACT:
SUMMARY:I G M 2.0 VS. Huitzuco
DESCRIPTION:League Name: Centro America Fall 2023\nGame Type: Regular\nGame
  Status: Complete\nHome Team: I G M 2.0\nAway Team: Huitzuco\nHome Score: 
 4\nAway Score: 7
END:VEVENT
BEGIN:VEVENT
UID:15323434@ezleagues.ezfacility.com
DTSTAMP:20260424T043930Z
CREATED:20260424T043930Z
DTSTART:20231028T233000Z
DTEND:20231029T001500Z
LOCATION:North Field
CONTACT:
SUMMARY:Atl.  Cuyamal VS. Huitzuco
DESCRIPTION:League Name: Centro America Fall 2023\nGame Type: Regular\nGame
  Status: Complete\nHome Team: Atl.  Cuyamal\nAway Team: Huitzuco\nHome Sco
 re: 6\nAway Score: 7
END:VEVENT
BEGIN:VEVENT
UID:15323812@ezleagues.ezfacility.com
DTSTAMP:20260424T043930Z
CREATED:20260424T043930Z
DTSTART:20231104T234500Z
DTEND:20231105T003000Z
LOCATION:North Field
CONTACT:
SUMMARY:Monaco VS. Huitzuco
DESCRIPTION:League Name: Centro America Fall 2023\nGame Type: Regular\nGame
  Status: Complete\nHome Team: Monaco\nAway Team: Huitzuco\nHome Score: 2\n
 Away Score: 7
END:VEVENT
BEGIN:VEVENT
UID:15372280@ezleagues.ezfacility.com
DTSTAMP:20260424T043930Z
CREATED:20260424T043930Z
DTSTART:20231112T021500Z
DTEND:20231112T030000Z
LOCATION:North Field
CONTACT:
SUMMARY:Huitzuco VS. Ace Elites
DESCRIPTION:League Name: Centro America Fall 2023\nGame Type: Regular\nGame
  Status: Complete\nHome Team: Huitzuco\nAway Team: Ace Elites\nHome Score:
  4\nAway Score: 4
END:VEVENT
BEGIN:VEVENT
UID:15408450@ezleagues.ezfacility.com
DTSTAMP:20260424T043930Z
CREATED:20260424T043930Z
DTSTART:20231119T023000Z
DTEND:20231119T031500Z
LOCATION:South Field
CONTACT:
SUMMARY:Atl. Olanchano VS. Huitzuco
DESCRIPTION:League Name: Centro America Fall 2023\nGame Type: Regular\nGame
  Status: Complete\nHome Team: Atl. Olanchano\nAway Team: Huitzuco\nHome Sc
 ore: 3\nAway Score: 3
END:VEVENT
BEGIN:VEVENT
UID:15288884@ezleagues.ezfacility.com
DTSTAMP:20260424T043930Z
CREATED:20260424T043930Z
DTSTART:20231126T024500Z
DTEND:20231126T033000Z
LOCATION:South Field
CONTACT:
SUMMARY: Silca. Fc VS. Huitzuco
DESCRIPTION:League Name: Centro America Fall 2023\nGame Type: Regular\nGame
  Status: Complete\nHome Team:  Silca. Fc\nAway Team: Huitzuco\nHome Score:
  3\nAway Score: 6
END:VEVENT
BEGIN:VEVENT
UID:15430253@ezleagues.ezfacility.com
DTSTAMP:20260424T043930Z
CREATED:20260424T043930Z
DTSTART:20231203T011500Z
DTEND:20231203T020000Z
LOCATION:South Field
CONTACT:
SUMMARY:Huitzuco VS. El Chaparral
DESCRIPTION:League Name: Centro America Fall 2023\nGame Type: Postseason\nG
 ame Status: Complete\nHome Team: Huitzuco\nAway Team: El Chaparral\nHome S
 core: 3\nAway Score: 4
END:VEVENT
END:VCALENDAR
