BEGIN:VCALENDAR
VERSION:2.0
PRODID:-//EZFacility.com, Inc.//EZL 2.5.5.28621
BEGIN:VEVENT
UID:15320938@ezleagues.ezfacility.com
DTSTAMP:20260425T123908Z
CREATED:20260425T123908Z
DTSTART:20231024T010000Z
DTEND:20231024T020000Z
LOCATION:Field 1
CONTACT:Zelaya
SUMMARY:Inter VS. Baby Sharks
DESCRIPTION:League Name: Monday, October 16, 2023  Open Co-Ed\nGame Type: R
 egular\nGame Status: Complete\nHome Team: Inter\nAway Team: Baby Sharks\nH
 ome Score: 13\nAway Score: 5
END:VEVENT
BEGIN:VEVENT
UID:15320929@ezleagues.ezfacility.com
DTSTAMP:20260425T123908Z
CREATED:20260425T123908Z
DTSTART:20231031T000000Z
DTEND:20231031T010000Z
LOCATION:VA Army National Guard Field 2
CONTACT:Zelaya
SUMMARY:Baby Sharks VS. Super Kickers
DESCRIPTION:League Name: Monday, October 16, 2023  Open Co-Ed\nGame Type: R
 egular\nGame Status: Complete\nHome Team: Baby Sharks\nAway Team: Super Ki
 ckers\nHome Score: 11\nAway Score: 8
END:VEVENT
BEGIN:VEVENT
UID:15320932@ezleagues.ezfacility.com
DTSTAMP:20260425T123908Z
CREATED:20260425T123908Z
DTSTART:20231107T010000Z
DTEND:20231107T020000Z
LOCATION:VA Army National Guard Field 2
CONTACT:Martinez
SUMMARY:Baby Sharks VS. Machete FC
DESCRIPTION:League Name: Monday, October 16, 2023  Open Co-Ed\nGame Type: R
 egular\nGame Status: Complete\nHome Team: Baby Sharks\nAway Team: Machete 
 FC\nHome Score: 7\nAway Score: 7
END:VEVENT
BEGIN:VEVENT
UID:15320941@ezleagues.ezfacility.com
DTSTAMP:20260425T123908Z
CREATED:20260425T123908Z
DTSTART:20231107T030000Z
DTEND:20231107T040000Z
LOCATION:VA Army National Guard Field 2
CONTACT:Martinez
SUMMARY:Jetsetters VS. Baby Sharks
DESCRIPTION:League Name: Monday, October 16, 2023  Open Co-Ed\nGame Type: R
 egular\nGame Status: Complete\nHome Team: Jetsetters\nAway Team: Baby Shar
 ks\nHome Score: 4\nAway Score: 10
END:VEVENT
BEGIN:VEVENT
UID:15320926@ezleagues.ezfacility.com
DTSTAMP:20260425T123908Z
CREATED:20260425T123908Z
DTSTART:20231121T000000Z
DTEND:20231121T010000Z
LOCATION:Field 1
CONTACT:Landero Estrada
SUMMARY:Baby Sharks VS. Jetsetters
DESCRIPTION:League Name: Monday, October 16, 2023  Open Co-Ed\nGame Type: R
 egular\nGame Status: Complete\nHome Team: Baby Sharks\nAway Team: Jetsette
 rs\nHome Score: 3\nAway Score: 0
END:VEVENT
BEGIN:VEVENT
UID:15320935@ezleagues.ezfacility.com
DTSTAMP:20260425T123908Z
CREATED:20260425T123908Z
DTSTART:20231121T010000Z
DTEND:20231121T020000Z
LOCATION:Field 1
CONTACT:Landero Estrada
SUMMARY:Machete FC VS. Baby Sharks
DESCRIPTION:League Name: Monday, October 16, 2023  Open Co-Ed\nGame Type: R
 egular\nGame Status: Complete\nHome Team: Machete FC\nAway Team: Baby Shar
 ks\nHome Score: 9\nAway Score: 2
END:VEVENT
BEGIN:VEVENT
UID:15330413@ezleagues.ezfacility.com
DTSTAMP:20260425T123908Z
CREATED:20260425T123908Z
DTSTART:20231128T010000Z
DTEND:20231128T020000Z
LOCATION: Field 3
CONTACT:Martinez
SUMMARY:Machete FC VS. Baby Sharks
DESCRIPTION:League Name: Monday, October 16, 2023  Open Co-Ed\nGame Type: P
 ostseason\nGame Status: Complete\nHome Team: Machete FC\nAway Team: Baby S
 harks\nHome Score: 7\nAway Score: 4
END:VEVENT
END:VCALENDAR
