BEGIN:VCALENDAR
VERSION:2.0
PRODID:-//EZFacility.com, Inc.//EZL 2.5.5.28621
BEGIN:VEVENT
UID:15324021@ezleagues.ezfacility.com
DTSTAMP:20260422T152700Z
CREATED:20260422T152700Z
DTSTART:20231029T213200Z
DTEND:20231029T222400Z
LOCATION:Field   ID 1
CONTACT:
SUMMARY:Pink Panthers VS. Open Net Shankers
DESCRIPTION:League Name: Fall Indoor 2023 Girl's High School (Sundays) \nGa
 me Type: Regular\nGame Status: Complete\nHome Team: Pink Panthers\nAway Te
 am: Open Net Shankers\nHome Score: 6\nAway Score: 10
END:VEVENT
BEGIN:VEVENT
UID:15324024@ezleagues.ezfacility.com
DTSTAMP:20260422T152700Z
CREATED:20260422T152700Z
DTSTART:20231105T204800Z
DTEND:20231105T214000Z
LOCATION:Field   ID 1
CONTACT:
SUMMARY:Open Net Shankers VS. Noor FC
DESCRIPTION:League Name: Fall Indoor 2023 Girl's High School (Sundays) \nGa
 me Type: Regular\nGame Status: Complete\nHome Team: Open Net Shankers\nAwa
 y Team: Noor FC\nHome Score: 15\nAway Score: 0
END:VEVENT
BEGIN:VEVENT
UID:15324026@ezleagues.ezfacility.com
DTSTAMP:20260422T152700Z
CREATED:20260422T152700Z
DTSTART:20231112T214000Z
DTEND:20231112T223200Z
LOCATION:Field   ID 1
CONTACT:
SUMMARY:Open Net Shankers VS. Pesky Kid Sisters
DESCRIPTION:League Name: Fall Indoor 2023 Girl's High School (Sundays) \nGa
 me Type: Regular\nGame Status: Complete\nHome Team: Open Net Shankers\nAwa
 y Team: Pesky Kid Sisters\nHome Score: 9\nAway Score: 5
END:VEVENT
BEGIN:VEVENT
UID:15324028@ezleagues.ezfacility.com
DTSTAMP:20260422T152700Z
CREATED:20260422T152700Z
DTSTART:20231119T214000Z
DTEND:20231119T223200Z
LOCATION:Field   ID 1
CONTACT:
SUMMARY:Get Into The Grove VS. Open Net Shankers
DESCRIPTION:League Name: Fall Indoor 2023 Girl's High School (Sundays) \nGa
 me Type: Regular\nGame Status: Complete\nHome Team: Get Into The Grove\nAw
 ay Team: Open Net Shankers\nHome Score: 4\nAway Score: 8
END:VEVENT
BEGIN:VEVENT
UID:15324032@ezleagues.ezfacility.com
DTSTAMP:20260422T152700Z
CREATED:20260422T152700Z
DTSTART:20231126T204800Z
DTEND:20231126T214000Z
LOCATION:Field   ID 1
CONTACT:
SUMMARY:Open Net Shankers VS. Olimpia USA
DESCRIPTION:League Name: Fall Indoor 2023 Girl's High School (Sundays) \nGa
 me Type: Regular\nGame Status: Complete\nHome Team: Open Net Shankers\nAwa
 y Team: Olimpia USA\nHome Score: 16\nAway Score: 1
END:VEVENT
BEGIN:VEVENT
UID:15324039@ezleagues.ezfacility.com
DTSTAMP:20260422T152700Z
CREATED:20260422T152700Z
DTSTART:20231210T223200Z
DTEND:20231210T232400Z
LOCATION:Field   ID 3
CONTACT:
SUMMARY:Noor FC VS. Open Net Shankers
DESCRIPTION:League Name: Fall Indoor 2023 Girl's High School (Sundays) \nGa
 me Type: Regular\nGame Status: Complete\nHome Team: Noor FC\nAway Team: Op
 en Net Shankers\nHome Score: 0\nAway Score: 3
END:VEVENT
BEGIN:VEVENT
UID:15324041@ezleagues.ezfacility.com
DTSTAMP:20260422T152700Z
CREATED:20260422T152700Z
DTSTART:20231217T214000Z
DTEND:20231217T223200Z
LOCATION:Field   ID 3
CONTACT:
SUMMARY:Pesky Kid Sisters VS. Open Net Shankers
DESCRIPTION:League Name: Fall Indoor 2023 Girl's High School (Sundays) \nGa
 me Type: Regular\nGame Status: Complete\nHome Team: Pesky Kid Sisters\nAwa
 y Team: Open Net Shankers\nHome Score: 2\nAway Score: 5
END:VEVENT
BEGIN:VEVENT
UID:15324036@ezleagues.ezfacility.com
DTSTAMP:20260422T152700Z
CREATED:20260422T152700Z
DTSTART:20240106T204800Z
DTEND:20240106T214000Z
LOCATION:Field   ID 1
CONTACT:
SUMMARY:Open Net Shankers VS. Pink Panthers
DESCRIPTION:League Name: Fall Indoor 2023 Girl's High School (Sundays) \nGa
 me Type: Regular\nGame Status: Complete\nHome Team: Open Net Shankers\nAwa
 y Team: Pink Panthers\nHome Score: 12\nAway Score: 4
END:VEVENT
BEGIN:VEVENT
UID:15324043@ezleagues.ezfacility.com
DTSTAMP:20260422T152700Z
CREATED:20260422T152700Z
DTSTART:20240107T195600Z
DTEND:20240107T204800Z
LOCATION:Field   ID 2
CONTACT:
SUMMARY:Open Net Shankers VS. Get Into The Grove
DESCRIPTION:League Name: Fall Indoor 2023 Girl's High School (Sundays) \nGa
 me Type: Regular\nGame Status: Complete\nHome Team: Open Net Shankers\nAwa
 y Team: Get Into The Grove\nHome Score: 5\nAway Score: 3
END:VEVENT
END:VCALENDAR
