BEGIN:VCALENDAR
VERSION:2.0
PRODID:-//EZFacility.com, Inc.//EZL 2.5.5.28621
BEGIN:VEVENT
UID:15321128@ezleagues.ezfacility.com
DTSTAMP:20260420T112855Z
CREATED:20260420T112855Z
DTSTART:20231027T020000Z
DTEND:20231027T030000Z
LOCATION:Field 1
CONTACT:Wise
SUMMARY:Los Rufianes VS. Sporting
DESCRIPTION:League Name: Thursday, October 19, 2023 Men's Open\nGame Type: 
 Regular\nGame Status: Complete\nHome Team: Los Rufianes\nAway Team: Sporti
 ng\nHome Score: 3\nAway Score: 10
END:VEVENT
BEGIN:VEVENT
UID:15310772@ezleagues.ezfacility.com
DTSTAMP:20260420T112855Z
CREATED:20260420T112855Z
DTSTART:20231102T230000Z
DTEND:20231103T000000Z
LOCATION:Field 1
CONTACT:Zelaya
SUMMARY:King St VS. Sporting
DESCRIPTION:League Name: Thursday, October 19, 2023 Men's Open\nGame Type: 
 Regular\nGame Status: Complete\nHome Team: King St\nAway Team: Sporting\nH
 ome Score: 10\nAway Score: 19
END:VEVENT
BEGIN:VEVENT
UID:15310775@ezleagues.ezfacility.com
DTSTAMP:20260420T112855Z
CREATED:20260420T112855Z
DTSTART:20231110T010000Z
DTEND:20231110T020000Z
LOCATION:Field 1
CONTACT:Esquerre
SUMMARY:Sporting VS. Inter
DESCRIPTION:League Name: Thursday, October 19, 2023 Men's Open\nGame Type: 
 Regular\nGame Status: Complete\nHome Team: Sporting\nAway Team: Inter\nHom
 e Score: 3\nAway Score: 12
END:VEVENT
BEGIN:VEVENT
UID:15321131@ezleagues.ezfacility.com
DTSTAMP:20260420T112855Z
CREATED:20260420T112855Z
DTSTART:20231117T010000Z
DTEND:20231117T020000Z
LOCATION:VA Army National Guard Field 2
CONTACT:Landero Estrada
SUMMARY:Caballos FC VS. Sporting
DESCRIPTION:League Name: Thursday, October 19, 2023 Men's Open\nGame Type: 
 Regular\nGame Status: Complete\nHome Team: Caballos FC\nAway Team: Sportin
 g\nHome Score: 3\nAway Score: 0
END:VEVENT
BEGIN:VEVENT
UID:15323801@ezleagues.ezfacility.com
DTSTAMP:20260420T112855Z
CREATED:20260420T112855Z
DTSTART:20231117T030000Z
DTEND:20231117T040000Z
LOCATION:Field 1
CONTACT:Huber
SUMMARY:The Lions VS. Sporting
DESCRIPTION:League Name: Thursday, October 19, 2023 Men's Open\nGame Type: 
 Regular\nGame Status: Complete\nHome Team: The Lions\nAway Team: Sporting\
 nHome Score: 3\nAway Score: 0
END:VEVENT
BEGIN:VEVENT
UID:15321135@ezleagues.ezfacility.com
DTSTAMP:20260420T112855Z
CREATED:20260420T112855Z
DTSTART:20231201T020000Z
DTEND:20231201T030000Z
LOCATION:VA Army National Guard Field 2
CONTACT:Huber
SUMMARY:Sporting VS. Los Tigres
DESCRIPTION:League Name: Thursday, October 19, 2023 Men's Open\nGame Type: 
 Regular\nGame Status: Complete\nHome Team: Sporting\nAway Team: Los Tigres
 \nHome Score: 0\nAway Score: 3
END:VEVENT
BEGIN:VEVENT
UID:15330311@ezleagues.ezfacility.com
DTSTAMP:20260420T112855Z
CREATED:20260420T112855Z
DTSTART:20231208T010000Z
DTEND:20231208T020000Z
LOCATION:Field 1
CONTACT:Landero Estrada
SUMMARY:The Lions VS. Sporting
DESCRIPTION:League Name: Thursday, October 19, 2023 Men's Open\nGame Type: 
 Postseason\nGame Status: Complete\nHome Team: The Lions\nAway Team: Sporti
 ng\nHome Score: 3\nAway Score: 18
END:VEVENT
BEGIN:VEVENT
UID:15330314@ezleagues.ezfacility.com
DTSTAMP:20260420T112855Z
CREATED:20260420T112855Z
DTSTART:20231215T000000Z
DTEND:20231215T010000Z
LOCATION:Field 1
CONTACT:Landero Estrada
SUMMARY:Inter VS. Sporting
DESCRIPTION:League Name: Thursday, October 19, 2023 Men's Open\nGame Type: 
 Postseason\nGame Status: Complete\nHome Team: Inter\nAway Team: Sporting\n
 Home Score: 3\nAway Score: 0
END:VEVENT
END:VCALENDAR
