BEGIN:VCALENDAR
VERSION:2.0
PRODID:-//EZFacility.com, Inc.//EZL 2.5.5.28621
BEGIN:VEVENT
UID:15311270@ezleagues.ezfacility.com
DTSTAMP:20260424T043956Z
CREATED:20260424T043956Z
DTSTART:20231023T101500Z
DTEND:20231023T105500Z
LOCATION: 002 Maracana
CONTACT:Cooper
SUMMARY:The Fellas VS. Fresh Jalapeenbros
DESCRIPTION:League Name: Non Comp Summer Monday Men's 7s\nGame Type: Regula
 r\nGame Status: Complete\nHome Team: The Fellas\nAway Team: Fresh Jalapeen
 bros\nHome Score: 2\nAway Score: 2
END:VEVENT
END:VCALENDAR
