BEGIN:VCALENDAR
VERSION:2.0
PRODID:-//EZFacility.com, Inc.//EZL 2.5.5.28621
BEGIN:VEVENT
UID:15311269@ezleagues.ezfacility.com
DTSTAMP:20260424T044427Z
CREATED:20260424T044427Z
DTSTART:20231023T084500Z
DTEND:20231023T092500Z
LOCATION: 002 Maracana
CONTACT:Cooper
SUMMARY:Gangsters Allardyce VS. Mason Getafe Me
DESCRIPTION:League Name: Non Comp Summer Monday Men's 7s\nGame Type: Regula
 r\nGame Status: Complete\nHome Team: Gangsters Allardyce\nAway Team: Mason
  Getafe Me\nHome Score: 9\nAway Score: 4
END:VEVENT
END:VCALENDAR
