BEGIN:VCALENDAR
VERSION:2.0
PRODID:-//EZFacility.com, Inc.//EZL 2.5.5.28621
BEGIN:VEVENT
UID:15328236@ezleagues.ezfacility.com
DTSTAMP:20260426T034816Z
CREATED:20260426T034816Z
DTSTART:20231028T000000Z
DTEND:20231028T020000Z
LOCATION:Baseball Field 3
CONTACT:
SUMMARY:Berks Bulls - Red (8) VS. Philly Prime - Blue (11)
DESCRIPTION:League Name: Fall '23 Halloween Battle 14U\nGame Type: Regular\
 nGame Status: Complete\nHome Team: Berks Bulls - Red (8)\nAway Team: Phill
 y Prime - Blue (11)\nHome Score: 9\nAway Score: 1
END:VEVENT
BEGIN:VEVENT
UID:15328243@ezleagues.ezfacility.com
DTSTAMP:20260426T034816Z
CREATED:20260426T034816Z
DTSTART:20231028T201000Z
DTEND:20231028T221000Z
LOCATION:Baseball Field 3
CONTACT:
SUMMARY:SJ Ghost 2028 (2) VS. Philly Prime - Blue (11)
DESCRIPTION:League Name: Fall '23 Halloween Battle 14U\nGame Type: Regular\
 nGame Status: Complete\nHome Team: SJ Ghost 2028 (2)\nAway Team: Philly Pr
 ime - Blue (11)\nHome Score: 9\nAway Score: 1
END:VEVENT
BEGIN:VEVENT
UID:15328246@ezleagues.ezfacility.com
DTSTAMP:20260426T034816Z
CREATED:20260426T034816Z
DTSTART:20231029T120000Z
DTEND:20231029T140000Z
LOCATION:Baseball Field 3
CONTACT:
SUMMARY:ASBA Warminster - Blue (10) VS. Philly Prime - Blue (11)
DESCRIPTION:League Name: Fall '23 Halloween Battle 14U\nGame Type: Regular\
 nGame Status: Complete\nHome Team: ASBA Warminster - Blue (10)\nAway Team:
  Philly Prime - Blue (11)\nHome Score: 5\nAway Score: 12
END:VEVENT
END:VCALENDAR
