BEGIN:VCALENDAR
VERSION:2.0
PRODID:-//EZFacility.com, Inc.//EZL 2.5.5.28621
BEGIN:VEVENT
UID:15328243@ezleagues.ezfacility.com
DTSTAMP:20260425T225157Z
CREATED:20260425T225157Z
DTSTART:20231028T201000Z
DTEND:20231028T221000Z
LOCATION:Baseball Field 3
CONTACT:
SUMMARY:SJ Ghost 2028 (2) VS. Philly Prime - Blue (11)
DESCRIPTION:League Name: Fall '23 Halloween Battle 14U\nGame Type: Regular\
 nGame Status: Complete\nHome Team: SJ Ghost 2028 (2)\nAway Team: Philly Pr
 ime - Blue (11)\nHome Score: 9\nAway Score: 1
END:VEVENT
BEGIN:VEVENT
UID:15328245@ezleagues.ezfacility.com
DTSTAMP:20260425T225157Z
CREATED:20260425T225157Z
DTSTART:20231029T001000Z
DTEND:20231029T021000Z
LOCATION:Baseball Field 3
CONTACT:
SUMMARY:SJ Ghost 2028 (2) VS. Delco Mud Daubers (7)
DESCRIPTION:League Name: Fall '23 Halloween Battle 14U\nGame Type: Regular\
 nGame Status: Complete\nHome Team: SJ Ghost 2028 (2)\nAway Team: Delco Mud
  Daubers (7)\nHome Score: 9\nAway Score: 3
END:VEVENT
BEGIN:VEVENT
UID:15328249@ezleagues.ezfacility.com
DTSTAMP:20260425T225157Z
CREATED:20260425T225157Z
DTSTART:20231029T160500Z
DTEND:20231029T180500Z
LOCATION:Baseball Field 3
CONTACT:
SUMMARY:SJ Ghost 2028 (2) VS. Delco Mud Daubers (7)
DESCRIPTION:League Name: Fall '23 Halloween Battle 14U\nGame Type: Regular\
 nGame Status: Complete\nHome Team: SJ Ghost 2028 (2)\nAway Team: Delco Mud
  Daubers (7)\nHome Score: 11\nAway Score: 1
END:VEVENT
BEGIN:VEVENT
UID:15328252@ezleagues.ezfacility.com
DTSTAMP:20260425T225157Z
CREATED:20260425T225157Z
DTSTART:20231029T201000Z
DTEND:20231029T221000Z
LOCATION:Baseball Field 3
CONTACT:
SUMMARY:SJ Ghost 2028 (2) VS. WILD B.C. (3)
DESCRIPTION:League Name: Fall '23 Halloween Battle 14U\nGame Type: Regular\
 nGame Status: Complete\nHome Team: SJ Ghost 2028 (2)\nAway Team: WILD B.C.
  (3)\nHome Score: 5\nAway Score: 6
END:VEVENT
END:VCALENDAR
