BEGIN:VCALENDAR
VERSION:2.0
PRODID:-//EZFacility.com, Inc.//EZL 2.5.5.28621
BEGIN:VEVENT
UID:15321419@ezleagues.ezfacility.com
DTSTAMP:20260424T044412Z
CREATED:20260424T044412Z
DTSTART:20231029T203000Z
DTEND:20231029T213000Z
LOCATION:6v6 Field 2
CONTACT:
SUMMARY:TS Chargers VS. TS Patriots
DESCRIPTION:League Name: 1st Session 2023- Recreation- High School Girls Bo
 arded\nGame Type: Regular\nGame Status: Complete\nHome Team: TS Chargers\n
 Away Team: TS Patriots\nHome Score: 0\nAway Score: 8
END:VEVENT
BEGIN:VEVENT
UID:15321429@ezleagues.ezfacility.com
DTSTAMP:20260424T044412Z
CREATED:20260424T044412Z
DTSTART:20231112T193000Z
DTEND:20231112T203000Z
LOCATION:6v6 Field 2
CONTACT:
SUMMARY:TS Chargers VS. TS Galaxy
DESCRIPTION:League Name: 1st Session 2023- Recreation- High School Girls Bo
 arded\nGame Type: Regular\nGame Status: Complete\nHome Team: TS Chargers\n
 Away Team: TS Galaxy\nHome Score: 12\nAway Score: 2
END:VEVENT
BEGIN:VEVENT
UID:15321433@ezleagues.ezfacility.com
DTSTAMP:20260424T044412Z
CREATED:20260424T044412Z
DTSTART:20231119T193000Z
DTEND:20231119T203000Z
LOCATION:6v6 Field 2
CONTACT:
SUMMARY:TS Fury VS. TS Chargers
DESCRIPTION:League Name: 1st Session 2023- Recreation- High School Girls Bo
 arded\nGame Type: Regular\nGame Status: Complete\nHome Team: TS Fury\nAway
  Team: TS Chargers\nHome Score: 3\nAway Score: 7
END:VEVENT
BEGIN:VEVENT
UID:15321436@ezleagues.ezfacility.com
DTSTAMP:20260424T044412Z
CREATED:20260424T044412Z
DTSTART:20231126T203000Z
DTEND:20231126T213000Z
LOCATION:6v6 Field 2
CONTACT:
SUMMARY:Hooligans VS. TS Chargers
DESCRIPTION:League Name: 1st Session 2023- Recreation- High School Girls Bo
 arded\nGame Type: Regular\nGame Status: Complete\nHome Team: Hooligans\nAw
 ay Team: TS Chargers\nHome Score: 10\nAway Score: 3
END:VEVENT
BEGIN:VEVENT
UID:15321439@ezleagues.ezfacility.com
DTSTAMP:20260424T044412Z
CREATED:20260424T044412Z
DTSTART:20231203T203000Z
DTEND:20231203T213000Z
LOCATION:6v6 Field 2
CONTACT:
SUMMARY:TS Chargers VS. TS Send It!
DESCRIPTION:League Name: 1st Session 2023- Recreation- High School Girls Bo
 arded\nGame Type: Regular\nGame Status: Complete\nHome Team: TS Chargers\n
 Away Team: TS Send It!\nHome Score: 10\nAway Score: 8
END:VEVENT
BEGIN:VEVENT
UID:15340347@ezleagues.ezfacility.com
DTSTAMP:20260424T044412Z
CREATED:20260424T044412Z
DTSTART:20231208T233000Z
DTEND:20231209T003000Z
LOCATION:6v6 Field 2
CONTACT:
SUMMARY:TS Send It! VS. TS Chargers
DESCRIPTION:League Name: 1st Session 2023- Recreation- High School Girls Bo
 arded\nGame Type: Regular\nGame Status: Complete\nHome Team: TS Send It!\n
 Away Team: TS Chargers\nHome Score: 4\nAway Score: 7
END:VEVENT
BEGIN:VEVENT
UID:15321442@ezleagues.ezfacility.com
DTSTAMP:20260424T044412Z
CREATED:20260424T044412Z
DTSTART:20231210T193000Z
DTEND:20231210T203000Z
LOCATION:6v6 Field 2
CONTACT:
SUMMARY:TS Thunder VS. TS Chargers
DESCRIPTION:League Name: 1st Session 2023- Recreation- High School Girls Bo
 arded\nGame Type: Regular\nGame Status: Complete\nHome Team: TS Thunder\nA
 way Team: TS Chargers\nHome Score: 10\nAway Score: 2
END:VEVENT
BEGIN:VEVENT
UID:15321447@ezleagues.ezfacility.com
DTSTAMP:20260424T044412Z
CREATED:20260424T044412Z
DTSTART:20231217T203000Z
DTEND:20231217T213000Z
LOCATION:6v6 Field 2
CONTACT:
SUMMARY:TS Patriots VS. TS Chargers
DESCRIPTION:League Name: 1st Session 2023- Recreation- High School Girls Bo
 arded\nGame Type: Regular\nGame Status: Complete\nHome Team: TS Patriots\n
 Away Team: TS Chargers\nHome Score: 12\nAway Score: 3
END:VEVENT
END:VCALENDAR
