BEGIN:VCALENDAR
VERSION:2.0
PRODID:-//EZFacility.com, Inc.//EZL 2.5.5.28621
BEGIN:VEVENT
UID:15322852@ezleagues.ezfacility.com
DTSTAMP:20260423T124208Z
CREATED:20260423T124208Z
DTSTART:20231028T124000Z
DTEND:20231028T133000Z
LOCATION:PFFC Field House - Field B
CONTACT:
SUMMARY:FGSU U9 Girls T2 VS. GSC Mustangs
DESCRIPTION:League Name: GU9\nGame Type: Regular\nGame Status: Pending\nHom
 e Team: FGSU U9 Girls T2\nAway Team: GSC Mustangs\n
END:VEVENT
BEGIN:VEVENT
UID:15360804@ezleagues.ezfacility.com
DTSTAMP:20260423T124208Z
CREATED:20260423T124208Z
DTSTART:20231104T152500Z
DTEND:20231104T161500Z
LOCATION:PFFC Field House - Field C
CONTACT:
SUMMARY:FGSU U9 Girls T2 VS. FGSU U9 Girls T1
DESCRIPTION:League Name: GU9\nGame Type: Regular\nGame Status: Pending\nHom
 e Team: FGSU U9 Girls T2\nAway Team: FGSU U9 Girls T1\n
END:VEVENT
BEGIN:VEVENT
UID:15360808@ezleagues.ezfacility.com
DTSTAMP:20260423T124208Z
CREATED:20260423T124208Z
DTSTART:20231111T121500Z
DTEND:20231111T130500Z
LOCATION:PFFC Dome - Field #3
CONTACT:
SUMMARY:CNSC 2015    VS. FGSU U9 Girls T2
DESCRIPTION:League Name: GU9\nGame Type: Regular\nGame Status: Pending\nHom
 e Team: CNSC 2015   \nAway Team: FGSU U9 Girls T2\n
END:VEVENT
BEGIN:VEVENT
UID:15360812@ezleagues.ezfacility.com
DTSTAMP:20260423T124208Z
CREATED:20260423T124208Z
DTSTART:20231118T162500Z
DTEND:20231118T171500Z
LOCATION:PFFC Field House - Field C
CONTACT:
SUMMARY:FGSU U9 Girls T2 VS. Energy Green
DESCRIPTION:League Name: GU9\nGame Type: Regular\nGame Status: Pending\nHom
 e Team: FGSU U9 Girls T2\nAway Team: Energy Green\n
END:VEVENT
BEGIN:VEVENT
UID:15360816@ezleagues.ezfacility.com
DTSTAMP:20260423T124208Z
CREATED:20260423T124208Z
DTSTART:20231202T121500Z
DTEND:20231202T130500Z
LOCATION:PFFC Dome - Field #3
CONTACT:
SUMMARY:GSC Mustangs VS. FGSU U9 Girls T2
DESCRIPTION:League Name: GU9\nGame Type: Regular\nGame Status: Pending\nHom
 e Team: GSC Mustangs\nAway Team: FGSU U9 Girls T2\n
END:VEVENT
BEGIN:VEVENT
UID:15412827@ezleagues.ezfacility.com
DTSTAMP:20260423T124208Z
CREATED:20260423T124208Z
DTSTART:20231209T140500Z
DTEND:20231209T145500Z
LOCATION:PFFC Field House - Field C
CONTACT:
SUMMARY:Energy White VS. FGSU U9 Girls T2
DESCRIPTION:League Name: GU9\nGame Type: Regular\nGame Status: Pending\nHom
 e Team: Energy White\nAway Team: FGSU U9 Girls T2\n
END:VEVENT
BEGIN:VEVENT
UID:15412833@ezleagues.ezfacility.com
DTSTAMP:20260423T124208Z
CREATED:20260423T124208Z
DTSTART:20231216T134000Z
DTEND:20231216T143000Z
LOCATION:PFFC Field House - Field A
CONTACT:
SUMMARY:FGSU U9 Girls T2 VS. GSC Mustangs U9
DESCRIPTION:League Name: GU9\nGame Type: Regular\nGame Status: Pending\nHom
 e Team: FGSU U9 Girls T2\nAway Team: GSC Mustangs U9\n
END:VEVENT
BEGIN:VEVENT
UID:15412897@ezleagues.ezfacility.com
DTSTAMP:20260423T124208Z
CREATED:20260423T124208Z
DTSTART:20231223T150500Z
DTEND:20231223T155500Z
LOCATION:PFFC Field House - Field C
CONTACT:
SUMMARY:FGSU U9 Girls D1   VS. FGSU U9 Girls T2
DESCRIPTION:League Name: GU9\nGame Type: Regular\nGame Status: Pending\nHom
 e Team: FGSU U9 Girls D1  \nAway Team: FGSU U9 Girls T2\n
END:VEVENT
BEGIN:VEVENT
UID:15412856@ezleagues.ezfacility.com
DTSTAMP:20260423T124208Z
CREATED:20260423T124208Z
DTSTART:20240113T135000Z
DTEND:20240113T144000Z
LOCATION:PFFC Field House - Field A
CONTACT:
SUMMARY:Energy Green VS. FGSU U9 Girls T2
DESCRIPTION:League Name: GU9\nGame Type: Regular\nGame Status: Pending\nHom
 e Team: Energy Green\nAway Team: FGSU U9 Girls T2\n
END:VEVENT
BEGIN:VEVENT
UID:15412860@ezleagues.ezfacility.com
DTSTAMP:20260423T124208Z
CREATED:20260423T124208Z
DTSTART:20240120T121000Z
DTEND:20240120T130000Z
LOCATION:PFFC Field House - Field A
CONTACT:
SUMMARY:FGSU U9 Girls T2 VS. FGSU U9 Girls D1  
DESCRIPTION:League Name: GU9\nGame Type: Regular\nGame Status: Pending\nHom
 e Team: FGSU U9 Girls T2\nAway Team: FGSU U9 Girls D1  \n
END:VEVENT
BEGIN:VEVENT
UID:15412868@ezleagues.ezfacility.com
DTSTAMP:20260423T124208Z
CREATED:20260423T124208Z
DTSTART:20240203T180000Z
DTEND:20240203T185000Z
LOCATION:PFFC Field House - Field B
CONTACT:
SUMMARY:FGSU U9 Girls T2 VS. GSC Mustangs
DESCRIPTION:League Name: GU9\nGame Type: Regular\nGame Status: Pending\nHom
 e Team: FGSU U9 Girls T2\nAway Team: GSC Mustangs\n
END:VEVENT
BEGIN:VEVENT
UID:15412872@ezleagues.ezfacility.com
DTSTAMP:20260423T124208Z
CREATED:20260423T124208Z
DTSTART:20240210T144000Z
DTEND:20240210T153000Z
LOCATION:PFFC Field House - Field A
CONTACT:
SUMMARY:FGSU U9 Girls T2 VS. Energy White
DESCRIPTION:League Name: GU9\nGame Type: Regular\nGame Status: Pending\nHom
 e Team: FGSU U9 Girls T2\nAway Team: Energy White\n
END:VEVENT
BEGIN:VEVENT
UID:15412878@ezleagues.ezfacility.com
DTSTAMP:20260423T124208Z
CREATED:20260423T124208Z
DTSTART:20240217T130000Z
DTEND:20240217T135000Z
LOCATION:PFFC Field House - Field A
CONTACT:
SUMMARY:GSC Mustangs U9 VS. FGSU U9 Girls T2
DESCRIPTION:League Name: GU9\nGame Type: Regular\nGame Status: Pending\nHom
 e Team: GSC Mustangs U9\nAway Team: FGSU U9 Girls T2\n
END:VEVENT
BEGIN:VEVENT
UID:15412890@ezleagues.ezfacility.com
DTSTAMP:20260423T124208Z
CREATED:20260423T124208Z
DTSTART:20240302T144000Z
DTEND:20240302T153000Z
LOCATION:PFFC Field House - Field A
CONTACT:
SUMMARY:FGSU U9 Girls T1 VS. FGSU U9 Girls T2
DESCRIPTION:League Name: GU9\nGame Type: Regular\nGame Status: Pending\nHom
 e Team: FGSU U9 Girls T1\nAway Team: FGSU U9 Girls T2\n
END:VEVENT
BEGIN:VEVENT
UID:15412900@ezleagues.ezfacility.com
DTSTAMP:20260423T124208Z
CREATED:20260423T124208Z
DTSTART:20240309T154000Z
DTEND:20240309T163000Z
LOCATION:PFFC Field House - Field B
CONTACT:
SUMMARY:FGSU U9 Girls T2 VS. Energy Green
DESCRIPTION:League Name: GU9\nGame Type: Regular\nGame Status: Pending\nHom
 e Team: FGSU U9 Girls T2\nAway Team: Energy Green\n
END:VEVENT
BEGIN:VEVENT
UID:15412839@ezleagues.ezfacility.com
DTSTAMP:20260423T124208Z
CREATED:20260423T124208Z
DTSTART:20240330T120000Z
DTEND:20240330T125000Z
LOCATION:PFFC Field House - Field A
CONTACT:
SUMMARY:CNSC 2015    VS. FGSU U9 Girls T2
DESCRIPTION:League Name: GU9\nGame Type: Regular\nGame Status: Pending\nHom
 e Team: CNSC 2015   \nAway Team: FGSU U9 Girls T2\n
END:VEVENT
BEGIN:VEVENT
UID:15412845@ezleagues.ezfacility.com
DTSTAMP:20260423T124208Z
CREATED:20260423T124208Z
DTSTART:20240406T131000Z
DTEND:20240406T140000Z
LOCATION:CMCC Field 1
CONTACT:
SUMMARY:FGSU U9 Girls T2 VS. FGSU U9 Girls T1
DESCRIPTION:League Name: GU9\nGame Type: Regular\nGame Status: Pending\nHom
 e Team: FGSU U9 Girls T2\nAway Team: FGSU U9 Girls T1\n
END:VEVENT
BEGIN:VEVENT
UID:15412864@ezleagues.ezfacility.com
DTSTAMP:20260423T124208Z
CREATED:20260423T124208Z
DTSTART:20240413T133500Z
DTEND:20240413T142500Z
LOCATION:PFFC Field House - Field A
CONTACT:
SUMMARY:Force Soccer G U9 Black VS. FGSU U9 Girls T2
DESCRIPTION:League Name: GU9\nGame Type: Regular\nGame Status: Pending\nHom
 e Team: Force Soccer G U9 Black\nAway Team: FGSU U9 Girls T2\n
END:VEVENT
END:VCALENDAR
