BEGIN:VCALENDAR
VERSION:2.0
PRODID:-//EZFacility.com, Inc.//EZL 2.5.5.28621
BEGIN:VEVENT
UID:15322507@ezleagues.ezfacility.com
DTSTAMP:20260420T185213Z
CREATED:20260420T185213Z
DTSTART:20231112T151500Z
DTEND:20231112T161000Z
LOCATION:PFFC Dome - Full Field
CONTACT:
SUMMARY:Force Soccer M U13 Black VS. CNSC 2011 Red
DESCRIPTION:League Name: BU13 Target\nGame Type: Regular\nGame Status: Comp
 lete\nHome Team: Force Soccer M U13 Black\nAway Team: CNSC 2011 Red\nHome 
 Score: 1\nAway Score: 0
END:VEVENT
BEGIN:VEVENT
UID:15322519@ezleagues.ezfacility.com
DTSTAMP:20260420T185213Z
CREATED:20260420T185213Z
DTSTART:20231202T172000Z
DTEND:20231202T181500Z
LOCATION:PFFC Dome - Full Field
CONTACT:
SUMMARY:CNSC 2011 Red VS. Force Soccer M U13 Black
DESCRIPTION:League Name: BU13 Target\nGame Type: Regular\nGame Status: Comp
 lete\nHome Team: CNSC 2011 Red\nAway Team: Force Soccer M U13 Black\nHome 
 Score: 0\nAway Score: 1
END:VEVENT
BEGIN:VEVENT
UID:15429442@ezleagues.ezfacility.com
DTSTAMP:20260420T185213Z
CREATED:20260420T185213Z
DTSTART:20231223T180500Z
DTEND:20231223T190000Z
LOCATION:PFFC Dome - Full Field
CONTACT:
SUMMARY:CNSC 2011 Red VS. Gil Vicente U13 Boys
DESCRIPTION:League Name: BU13 Target\nGame Type: Regular\nGame Status: Comp
 lete\nHome Team: CNSC 2011 Red\nAway Team: Gil Vicente U13 Boys\nHome Scor
 e: 0\nAway Score: 1
END:VEVENT
BEGIN:VEVENT
UID:15429470@ezleagues.ezfacility.com
DTSTAMP:20260420T185213Z
CREATED:20260420T185213Z
DTSTART:20240127T200500Z
DTEND:20240127T210000Z
LOCATION:PFFC Field House - Full Field 
CONTACT:
SUMMARY:CNSC 2011 Red VS. First Touch Jaguars Yellow U13
DESCRIPTION:League Name: BU13 Target\nGame Type: Regular\nGame Status: Comp
 lete\nHome Team: CNSC 2011 Red\nAway Team: First Touch Jaguars Yellow U13\
 nHome Score: 0\nAway Score: 5
END:VEVENT
BEGIN:VEVENT
UID:15429481@ezleagues.ezfacility.com
DTSTAMP:20260420T185213Z
CREATED:20260420T185213Z
DTSTART:20240203T200500Z
DTEND:20240203T210000Z
LOCATION:PFFC Field House - Full Field 
CONTACT:
SUMMARY:FCT M 2011 U13 VS. CNSC 2011 Red
DESCRIPTION:League Name: BU13 Target\nGame Type: Regular\nGame Status: Comp
 lete\nHome Team: FCT M 2011 U13\nAway Team: CNSC 2011 Red\nHome Score: 1\n
 Away Score: 0
END:VEVENT
BEGIN:VEVENT
UID:15429486@ezleagues.ezfacility.com
DTSTAMP:20260420T185213Z
CREATED:20260420T185213Z
DTSTART:20240210T200500Z
DTEND:20240210T210000Z
LOCATION:PFFC Field House - Full Field 
CONTACT:
SUMMARY:Burlington Bayhawks M U 13  VS. CNSC 2011 Red
DESCRIPTION:League Name: BU13 Target\nGame Type: Regular\nGame Status: Comp
 lete\nHome Team: Burlington Bayhawks M U 13 \nAway Team: CNSC 2011 Red\nHo
 me Score: 3\nAway Score: 2
END:VEVENT
BEGIN:VEVENT
UID:15429449@ezleagues.ezfacility.com
DTSTAMP:20260420T185213Z
CREATED:20260420T185213Z
DTSTART:20240302T215500Z
DTEND:20240302T225000Z
LOCATION:PFFC Field House - Full Field 
CONTACT:
SUMMARY:CNSC 2011 Red VS. International SC Target
DESCRIPTION:League Name: BU13 Target\nGame Type: Regular\nGame Status: Comp
 lete\nHome Team: CNSC 2011 Red\nAway Team: International SC Target\nHome S
 core: 1\nAway Score: 1
END:VEVENT
BEGIN:VEVENT
UID:15429456@ezleagues.ezfacility.com
DTSTAMP:20260420T185213Z
CREATED:20260420T185213Z
DTSTART:20240316T180000Z
DTEND:20240316T185500Z
LOCATION:PFFC Dome - Full Field
CONTACT:
SUMMARY:CNSC 2011 Red VS. LFC IA Miss  M U13 
DESCRIPTION:League Name: BU13 Target\nGame Type: Regular\nGame Status: Comp
 lete\nHome Team: CNSC 2011 Red\nAway Team: LFC IA Miss  M U13 \nHome Score
 : 5\nAway Score: 1
END:VEVENT
BEGIN:VEVENT
UID:15429463@ezleagues.ezfacility.com
DTSTAMP:20260420T185213Z
CREATED:20260420T185213Z
DTSTART:20240323T185500Z
DTEND:20240323T195000Z
LOCATION:PFFC Dome - Full Field
CONTACT:
SUMMARY:CNSC 2011 Red VS. BSA U13
DESCRIPTION:League Name: BU13 Target\nGame Type: Regular\nGame Status: Comp
 lete\nHome Team: CNSC 2011 Red\nAway Team: BSA U13\nHome Score: 0\nAway Sc
 ore: 6
END:VEVENT
BEGIN:VEVENT
UID:15429496@ezleagues.ezfacility.com
DTSTAMP:20260420T185213Z
CREATED:20260420T185213Z
DTSTART:20240407T150000Z
DTEND:20240407T155500Z
LOCATION:PFFC - Outdoors #2
CONTACT:
SUMMARY:First Touch Jaguars White U13 VS. CNSC 2011 Red
DESCRIPTION:League Name: BU13 Target\nGame Type: Regular\nGame Status: Comp
 lete\nHome Team: First Touch Jaguars White U13\nAway Team: CNSC 2011 Red\n
 Home Score: 2\nAway Score: 0
END:VEVENT
BEGIN:VEVENT
UID:15429491@ezleagues.ezfacility.com
DTSTAMP:20260420T185213Z
CREATED:20260420T185213Z
DTSTART:20240420T123000Z
DTEND:20240420T132500Z
LOCATION:PFFC Dome - Full Field
CONTACT:
SUMMARY:Stella Rossa FC U13 VS. CNSC 2011 Red
DESCRIPTION:League Name: BU13 Target\nGame Type: Regular\nGame Status: Comp
 lete\nHome Team: Stella Rossa FC U13\nAway Team: CNSC 2011 Red\nHome Score
 : 5\nAway Score: 2
END:VEVENT
BEGIN:VEVENT
UID:15429476@ezleagues.ezfacility.com
DTSTAMP:20260420T185213Z
CREATED:20260420T185213Z
DTSTART:20240427T151500Z
DTEND:20240427T161000Z
LOCATION:PFFC Dome - Full Field
CONTACT:
SUMMARY:Clarkson M U13 2011  VS. CNSC 2011 Red
DESCRIPTION:League Name: BU13 Target\nGame Type: Regular\nGame Status: Comp
 lete\nHome Team: Clarkson M U13 2011 \nAway Team: CNSC 2011 Red\nHome Scor
 e: 0\nAway Score: 1
END:VEVENT
END:VCALENDAR
