BEGIN:VCALENDAR
VERSION:2.0
PRODID:-//EZFacility.com, Inc.//EZL 2.5.5.28621
BEGIN:VEVENT
UID:15332571@ezleagues.ezfacility.com
DTSTAMP:20260423T161240Z
CREATED:20260423T161240Z
DTSTART:20231111T172000Z
DTEND:20231111T181200Z
LOCATION:Field   ID 1
CONTACT:
SUMMARY:Club Oranje Raptors VS. Dublin Caoirighs
DESCRIPTION:League Name: Fall Indoor 2023 Boy's U10 (Saturdays) South\nGame
  Type: Regular\nGame Status: Complete\nHome Team: Club Oranje Raptors\nAwa
 y Team: Dublin Caoirighs\nHome Score: 6\nAway Score: 4
END:VEVENT
BEGIN:VEVENT
UID:15332579@ezleagues.ezfacility.com
DTSTAMP:20260423T161240Z
CREATED:20260423T161240Z
DTSTART:20231118T162800Z
DTEND:20231118T172000Z
LOCATION:Field   ID 1
CONTACT:
SUMMARY:Dublin Caoirighs VS. Hilliard FC U10B
DESCRIPTION:League Name: Fall Indoor 2023 Boy's U10 (Saturdays) South\nGame
  Type: Regular\nGame Status: Complete\nHome Team: Dublin Caoirighs\nAway T
 eam: Hilliard FC U10B\nHome Score: 1\nAway Score: 13
END:VEVENT
BEGIN:VEVENT
UID:15332587@ezleagues.ezfacility.com
DTSTAMP:20260423T161240Z
CREATED:20260423T161240Z
DTSTART:20231125T162800Z
DTEND:20231125T172000Z
LOCATION:Field   ID 1
CONTACT:
SUMMARY:Dublin Caoirighs VS. Classic Eagles Dragons
DESCRIPTION:League Name: Fall Indoor 2023 Boy's U10 (Saturdays) South\nGame
  Type: Regular\nGame Status: Complete\nHome Team: Dublin Caoirighs\nAway T
 eam: Classic Eagles Dragons\nHome Score: 3\nAway Score: 0
END:VEVENT
BEGIN:VEVENT
UID:15332594@ezleagues.ezfacility.com
DTSTAMP:20260423T161240Z
CREATED:20260423T161240Z
DTSTART:20231202T172000Z
DTEND:20231202T181200Z
LOCATION:Field   ID 1
CONTACT:
SUMMARY:Grasshoppers VS. Dublin Caoirighs
DESCRIPTION:League Name: Fall Indoor 2023 Boy's U10 (Saturdays) South\nGame
  Type: Regular\nGame Status: Complete\nHome Team: Grasshoppers\nAway Team:
  Dublin Caoirighs\nHome Score: 18\nAway Score: 2
END:VEVENT
BEGIN:VEVENT
UID:15332600@ezleagues.ezfacility.com
DTSTAMP:20260423T161240Z
CREATED:20260423T161240Z
DTSTART:20231209T181200Z
DTEND:20231209T190400Z
LOCATION:Field   ID 2
CONTACT:
SUMMARY:Delaware Knights 2014B VS. Dublin Caoirighs
DESCRIPTION:League Name: Fall Indoor 2023 Boy's U10 (Saturdays) South\nGame
  Type: Regular\nGame Status: Complete\nHome Team: Delaware Knights 2014B\n
 Away Team: Dublin Caoirighs\nHome Score: 8\nAway Score: 0
END:VEVENT
BEGIN:VEVENT
UID:15332606@ezleagues.ezfacility.com
DTSTAMP:20260423T161240Z
CREATED:20260423T161240Z
DTSTART:20231216T172000Z
DTEND:20231216T181200Z
LOCATION:Field   ID 1
CONTACT:
SUMMARY:Elite FC Winter Warriors VS. Dublin Caoirighs
DESCRIPTION:League Name: Fall Indoor 2023 Boy's U10 (Saturdays) South\nGame
  Type: Regular\nGame Status: Complete\nHome Team: Elite FC Winter Warriors
 \nAway Team: Dublin Caoirighs\nHome Score: 11\nAway Score: 1
END:VEVENT
BEGIN:VEVENT
UID:15332612@ezleagues.ezfacility.com
DTSTAMP:20260423T161240Z
CREATED:20260423T161240Z
DTSTART:20231223T162800Z
DTEND:20231223T172000Z
LOCATION:Field   ID 2
CONTACT:
SUMMARY:Dublin Caoirighs VS. Black Venom
DESCRIPTION:League Name: Fall Indoor 2023 Boy's U10 (Saturdays) South\nGame
  Type: Regular\nGame Status: Complete\nHome Team: Dublin Caoirighs\nAway T
 eam: Black Venom\nHome Score: 2\nAway Score: 16
END:VEVENT
BEGIN:VEVENT
UID:15332620@ezleagues.ezfacility.com
DTSTAMP:20260423T161240Z
CREATED:20260423T161240Z
DTSTART:20231230T135200Z
DTEND:20231230T144400Z
LOCATION:Field   ID 3
CONTACT:
SUMMARY:Dublin Caoirighs VS. Club Oranje Raptors
DESCRIPTION:League Name: Fall Indoor 2023 Boy's U10 (Saturdays) South\nGame
  Type: Regular\nGame Status: Complete\nHome Team: Dublin Caoirighs\nAway T
 eam: Club Oranje Raptors\nHome Score: 0\nAway Score: 3
END:VEVENT
BEGIN:VEVENT
UID:15332563@ezleagues.ezfacility.com
DTSTAMP:20260423T161240Z
CREATED:20260423T161240Z
DTSTART:20240106T172000Z
DTEND:20240106T181200Z
LOCATION:Field   ID 2
CONTACT:
SUMMARY:Black Venom VS. Dublin Caoirighs
DESCRIPTION:League Name: Fall Indoor 2023 Boy's U10 (Saturdays) South\nGame
  Type: Regular\nGame Status: Complete\nHome Team: Black Venom\nAway Team: 
 Dublin Caoirighs\nHome Score: 29\nAway Score: 1
END:VEVENT
END:VCALENDAR
