BEGIN:VCALENDAR
VERSION:2.0
PRODID:-//EZFacility.com, Inc.//EZL 2.5.5.28621
BEGIN:VEVENT
UID:15330130@ezleagues.ezfacility.com
DTSTAMP:20260426T033536Z
CREATED:20260426T033536Z
DTSTART:20231104T120000Z
DTEND:20231104T130000Z
LOCATION:Eastlake
CONTACT:
SUMMARY:Shaker BU11- Red 1 VS. Wick FC U11
DESCRIPTION:League Name: U11 Boys - (2013)\nGame Type: Regular\nGame Status
 : Complete\nHome Team: Shaker BU11- Red 1\nAway Team: Wick FC U11\nHome Sc
 ore: 7\nAway Score: 2
END:VEVENT
BEGIN:VEVENT
UID:15330139@ezleagues.ezfacility.com
DTSTAMP:20260426T033536Z
CREATED:20260426T033536Z
DTSTART:20231111T140000Z
DTEND:20231111T150000Z
LOCATION:Northfield Half (C & D)
CONTACT:
SUMMARY:Shaker BU11- Red 1 VS. Kenston Bombers
DESCRIPTION:League Name: U11 Boys - (2013)\nGame Type: Regular\nGame Status
 : Complete\nHome Team: Shaker BU11- Red 1\nAway Team: Kenston Bombers\nHom
 e Score: 1\nAway Score: 8
END:VEVENT
BEGIN:VEVENT
UID:15330168@ezleagues.ezfacility.com
DTSTAMP:20260426T033536Z
CREATED:20260426T033536Z
DTSTART:20231118T190000Z
DTEND:20231118T200000Z
LOCATION:Northfield Half (A & B)
CONTACT:
SUMMARY:Kenston Bombers VS. Shaker BU11- Red 1
DESCRIPTION:League Name: U11 Boys - (2013)\nGame Type: Regular\nGame Status
 : Complete\nHome Team: Kenston Bombers\nAway Team: Shaker BU11- Red 1\nHom
 e Score: 5\nAway Score: 2
END:VEVENT
BEGIN:VEVENT
UID:15330161@ezleagues.ezfacility.com
DTSTAMP:20260426T033536Z
CREATED:20260426T033536Z
DTSTART:20231202T170000Z
DTEND:20231202T180000Z
LOCATION:Eastlake
CONTACT:
SUMMARY:Shaker BU11- Red 1 VS. ESK U11 Boys
DESCRIPTION:League Name: U11 Boys - (2013)\nGame Type: Regular\nGame Status
 : Complete\nHome Team: Shaker BU11- Red 1\nAway Team: ESK U11 Boys\nHome S
 core: 1\nAway Score: 2
END:VEVENT
BEGIN:VEVENT
UID:15330175@ezleagues.ezfacility.com
DTSTAMP:20260426T033536Z
CREATED:20260426T033536Z
DTSTART:20231216T190000Z
DTEND:20231216T200000Z
LOCATION:Northfield Half (A & B)
CONTACT:
SUMMARY:Shaker BU11- Red 2 VS. Shaker BU11- Red 1
DESCRIPTION:League Name: U11 Boys - (2013)\nGame Type: Regular\nGame Status
 : Complete\nHome Team: Shaker BU11- Red 2\nAway Team: Shaker BU11- Red 1\n
 Home Score: 0\nAway Score: 2
END:VEVENT
BEGIN:VEVENT
UID:15330147@ezleagues.ezfacility.com
DTSTAMP:20260426T033536Z
CREATED:20260426T033536Z
DTSTART:20240106T130000Z
DTEND:20240106T140000Z
LOCATION:Eastlake
CONTACT:
SUMMARY:Orange U11 VS. Shaker BU11- Red 1
DESCRIPTION:League Name: U11 Boys - (2013)\nGame Type: Regular\nGame Status
 : Complete\nHome Team: Orange U11\nAway Team: Shaker BU11- Red 1\nHome Sco
 re: 4\nAway Score: 13
END:VEVENT
BEGIN:VEVENT
UID:15330121@ezleagues.ezfacility.com
DTSTAMP:20260426T033536Z
CREATED:20260426T033536Z
DTSTART:20240113T163000Z
DTEND:20240113T173000Z
LOCATION:Northfield Half (A & B)
CONTACT:
SUMMARY:Shaker BU11- Red 1 VS. Solon Boys U11- Konheim
DESCRIPTION:League Name: U11 Boys - (2013)\nGame Type: Regular\nGame Status
 : Complete\nHome Team: Shaker BU11- Red 1\nAway Team: Solon Boys U11- Konh
 eim\nHome Score: 3\nAway Score: 3
END:VEVENT
BEGIN:VEVENT
UID:15330154@ezleagues.ezfacility.com
DTSTAMP:20260426T033536Z
CREATED:20260426T033536Z
DTSTART:20240114T150000Z
DTEND:20240114T160000Z
LOCATION:Eastlake
CONTACT:
SUMMARY:GFSC 2013B VS. Shaker BU11- Red 1
DESCRIPTION:League Name: U11 Boys - (2013)\nGame Type: Regular\nGame Status
 : Complete\nHome Team: GFSC 2013B\nAway Team: Shaker BU11- Red 1\nHome Sco
 re: 0\nAway Score: 14
END:VEVENT
END:VCALENDAR
