BEGIN:VCALENDAR
VERSION:2.0
PRODID:-//EZFacility.com, Inc.//EZL 2.5.5.28621
BEGIN:VEVENT
UID:15334967@ezleagues.ezfacility.com
DTSTAMP:20260421T093556Z
CREATED:20260421T093556Z
DTSTART:20231027T023000Z
DTEND:20231027T032000Z
LOCATION:Field 2
CONTACT:
SUMMARY:MOCHOS FC VS. FC Hooligans
DESCRIPTION:League Name: Adult Soccer League Fall/Winter 2023\nGame Type: R
 egular\nGame Status: Complete\nHome Team: MOCHOS FC\nAway Team: FC Hooliga
 ns\nHome Score: 1\nAway Score: 5
END:VEVENT
BEGIN:VEVENT
UID:15334975@ezleagues.ezfacility.com
DTSTAMP:20260421T093556Z
CREATED:20260421T093556Z
DTSTART:20231103T030000Z
DTEND:20231103T035000Z
LOCATION:Field 2
CONTACT:
SUMMARY:Bufalos de Chicago VS. FC Hooligans
DESCRIPTION:League Name: Adult Soccer League Fall/Winter 2023\nGame Type: R
 egular\nGame Status: Complete\nHome Team: Bufalos de Chicago\nAway Team: F
 C Hooligans\nHome Score: 6\nAway Score: 2
END:VEVENT
BEGIN:VEVENT
UID:15335195@ezleagues.ezfacility.com
DTSTAMP:20260421T093556Z
CREATED:20260421T093556Z
DTSTART:20231110T040000Z
DTEND:20231110T045000Z
LOCATION:Field 1
CONTACT:
SUMMARY:AFC Richmond VS. FC Hooligans
DESCRIPTION:League Name: Adult Soccer League Fall/Winter 2023\nGame Type: R
 egular\nGame Status: Complete\nHome Team: AFC Richmond\nAway Team: FC Hool
 igans\nHome Score: 5\nAway Score: 8
END:VEVENT
BEGIN:VEVENT
UID:15335273@ezleagues.ezfacility.com
DTSTAMP:20260421T093556Z
CREATED:20260421T093556Z
DTSTART:20231117T040000Z
DTEND:20231117T045000Z
LOCATION:Field 2
CONTACT:
SUMMARY:Chicago Strikers VS. FC Hooligans
DESCRIPTION:League Name: Adult Soccer League Fall/Winter 2023\nGame Type: R
 egular\nGame Status: Complete\nHome Team: Chicago Strikers\nAway Team: FC 
 Hooligans\nHome Score: 1\nAway Score: 1
END:VEVENT
BEGIN:VEVENT
UID:15335275@ezleagues.ezfacility.com
DTSTAMP:20260421T093556Z
CREATED:20260421T093556Z
DTSTART:20231201T030500Z
DTEND:20231201T035500Z
LOCATION:Field 2
CONTACT:
SUMMARY:Bridge United VS. FC Hooligans
DESCRIPTION:League Name: Adult Soccer League Fall/Winter 2023\nGame Type: R
 egular\nGame Status: Complete\nHome Team: Bridge United\nAway Team: FC Hoo
 ligans\nHome Score: 3\nAway Score: 4
END:VEVENT
BEGIN:VEVENT
UID:15335278@ezleagues.ezfacility.com
DTSTAMP:20260421T093556Z
CREATED:20260421T093556Z
DTSTART:20231208T030500Z
DTEND:20231208T035500Z
LOCATION:Field 1
CONTACT:
SUMMARY:Eagles VS. FC Hooligans
DESCRIPTION:League Name: Adult Soccer League Fall/Winter 2023\nGame Type: R
 egular\nGame Status: Complete\nHome Team: Eagles\nAway Team: FC Hooligans\
 nHome Score: 2\nAway Score: 8
END:VEVENT
BEGIN:VEVENT
UID:15335284@ezleagues.ezfacility.com
DTSTAMP:20260421T093556Z
CREATED:20260421T093556Z
DTSTART:20231215T030500Z
DTEND:20231215T035500Z
LOCATION:Field 1
CONTACT:
SUMMARY:Ice FC VS. FC Hooligans
DESCRIPTION:League Name: Adult Soccer League Fall/Winter 2023\nGame Type: R
 egular\nGame Status: Complete\nHome Team: Ice FC\nAway Team: FC Hooligans\
 nHome Score: 6\nAway Score: 3
END:VEVENT
END:VCALENDAR
