BEGIN:VCALENDAR
VERSION:2.0
PRODID:-//EZFacility.com, Inc.//EZL 2.5.5.28621
BEGIN:VEVENT
UID:15478015@ezleagues.ezfacility.com
DTSTAMP:20260421T214230Z
CREATED:20260421T214230Z
DTSTART:20231216T020000Z
DTEND:20231216T024000Z
LOCATION:003 San Siro
CONTACT:
SUMMARY:Gerri Hattricks VS. REPLACED TEAM
DESCRIPTION:League Name: SUMMER 2023.24 Tuesday Mixed 5s Division 1\nGame T
 ype: Regular\nGame Status: Complete\nHome Team: Gerri Hattricks\nAway Team
 : REPLACED TEAM\nHome Score: 7\nAway Score: 3
END:VEVENT
BEGIN:VEVENT
UID:15478016@ezleagues.ezfacility.com
DTSTAMP:20260421T214230Z
CREATED:20260421T214230Z
DTSTART:20231216T020000Z
DTEND:20231216T024000Z
LOCATION:003 San Siro
CONTACT:
SUMMARY:Gerri Hattricks VS. REPLACED TEAM
DESCRIPTION:League Name: SUMMER 2023.24 Tuesday Mixed 5s Division 1\nGame T
 ype: Regular\nGame Status: Complete\nHome Team: Gerri Hattricks\nAway Team
 : REPLACED TEAM\nHome Score: 11\nAway Score: 3
END:VEVENT
BEGIN:VEVENT
UID:15478017@ezleagues.ezfacility.com
DTSTAMP:20260421T214230Z
CREATED:20260421T214230Z
DTSTART:20231216T020000Z
DTEND:20231216T024000Z
LOCATION:003 San Siro
CONTACT:
SUMMARY:Gerri Hattricks VS. REPLACED TEAM
DESCRIPTION:League Name: SUMMER 2023.24 Tuesday Mixed 5s Division 1\nGame T
 ype: Regular\nGame Status: Complete\nHome Team: Gerri Hattricks\nAway Team
 : REPLACED TEAM\nHome Score: 2\nAway Score: 2
END:VEVENT
BEGIN:VEVENT
UID:15478018@ezleagues.ezfacility.com
DTSTAMP:20260421T214230Z
CREATED:20260421T214230Z
DTSTART:20231216T020000Z
DTEND:20231216T024000Z
LOCATION:003 San Siro
CONTACT:
SUMMARY:Gerri Hattricks VS. REPLACED TEAM
DESCRIPTION:League Name: SUMMER 2023.24 Tuesday Mixed 5s Division 1\nGame T
 ype: Regular\nGame Status: Complete\nHome Team: Gerri Hattricks\nAway Team
 : REPLACED TEAM\nHome Score: 9\nAway Score: 6
END:VEVENT
BEGIN:VEVENT
UID:15478019@ezleagues.ezfacility.com
DTSTAMP:20260421T214230Z
CREATED:20260421T214230Z
DTSTART:20231216T020000Z
DTEND:20231216T024000Z
LOCATION:003 San Siro
CONTACT:
SUMMARY:Gerri Hattricks VS. REPLACED TEAM
DESCRIPTION:League Name: SUMMER 2023.24 Tuesday Mixed 5s Division 1\nGame T
 ype: Regular\nGame Status: Complete\nHome Team: Gerri Hattricks\nAway Team
 : REPLACED TEAM\nHome Score: 10\nAway Score: 5
END:VEVENT
BEGIN:VEVENT
UID:15478020@ezleagues.ezfacility.com
DTSTAMP:20260421T214230Z
CREATED:20260421T214230Z
DTSTART:20231216T020000Z
DTEND:20231216T024000Z
LOCATION:003 San Siro
CONTACT:
SUMMARY:Gerri Hattricks VS. REPLACED TEAM
DESCRIPTION:League Name: SUMMER 2023.24 Tuesday Mixed 5s Division 1\nGame T
 ype: Regular\nGame Status: Complete\nHome Team: Gerri Hattricks\nAway Team
 : REPLACED TEAM\nHome Score: 6\nAway Score: 2
END:VEVENT
BEGIN:VEVENT
UID:15478021@ezleagues.ezfacility.com
DTSTAMP:20260421T214230Z
CREATED:20260421T214230Z
DTSTART:20231216T020000Z
DTEND:20231216T024000Z
LOCATION:003 San Siro
CONTACT:
SUMMARY:Gerri Hattricks VS. REPLACED TEAM
DESCRIPTION:League Name: SUMMER 2023.24 Tuesday Mixed 5s Division 1\nGame T
 ype: Regular\nGame Status: Complete\nHome Team: Gerri Hattricks\nAway Team
 : REPLACED TEAM\nHome Score: 12\nAway Score: 2
END:VEVENT
BEGIN:VEVENT
UID:15343145@ezleagues.ezfacility.com
DTSTAMP:20260421T214230Z
CREATED:20260421T214230Z
DTSTART:20231219T080000Z
DTEND:20231219T084000Z
LOCATION:006 Estadio do Dragao
CONTACT:
SUMMARY:Gerri Hattricks VS. Unfit FC
DESCRIPTION:League Name: SUMMER 2023.24 Tuesday Mixed 5s Division 1\nGame T
 ype: Regular\nGame Status: Complete\nHome Team: Gerri Hattricks\nAway Team
 : Unfit FC\nHome Score: 3\nAway Score: 6
END:VEVENT
BEGIN:VEVENT
UID:15343155@ezleagues.ezfacility.com
DTSTAMP:20260421T214230Z
CREATED:20260421T214230Z
DTSTART:20240109T093000Z
DTEND:20240109T101000Z
LOCATION:004 La Bombonera
CONTACT:
SUMMARY:The Flaming Galahs VS. Gerri Hattricks
DESCRIPTION:League Name: SUMMER 2023.24 Tuesday Mixed 5s Division 1\nGame T
 ype: Regular\nGame Status: Complete\nHome Team: The Flaming Galahs\nAway T
 eam: Gerri Hattricks\nHome Score: 5\nAway Score: 7
END:VEVENT
BEGIN:VEVENT
UID:15343158@ezleagues.ezfacility.com
DTSTAMP:20260421T214230Z
CREATED:20260421T214230Z
DTSTART:20240116T093000Z
DTEND:20240116T101000Z
LOCATION:005 Nou Camp
CONTACT:
SUMMARY:Gerri Hattricks VS. Balls Deep
DESCRIPTION:League Name: SUMMER 2023.24 Tuesday Mixed 5s Division 1\nGame T
 ype: Regular\nGame Status: Complete\nHome Team: Gerri Hattricks\nAway Team
 : Balls Deep\nHome Score: 9\nAway Score: 3
END:VEVENT
BEGIN:VEVENT
UID:15343163@ezleagues.ezfacility.com
DTSTAMP:20260421T214230Z
CREATED:20260421T214230Z
DTSTART:20240123T101500Z
DTEND:20240123T105500Z
LOCATION:003 San Siro
CONTACT:
SUMMARY:Gerri Hattricks VS. Dominhoes
DESCRIPTION:League Name: SUMMER 2023.24 Tuesday Mixed 5s Division 1\nGame T
 ype: Regular\nGame Status: Complete\nHome Team: Gerri Hattricks\nAway Team
 : Dominhoes\nHome Score: 13\nAway Score: 10
END:VEVENT
BEGIN:VEVENT
UID:15343152@ezleagues.ezfacility.com
DTSTAMP:20260421T214230Z
CREATED:20260421T214230Z
DTSTART:20240130T093000Z
DTEND:20240130T101000Z
LOCATION:005 Nou Camp
CONTACT:
SUMMARY:Jess n Less VS. Gerri Hattricks
DESCRIPTION:League Name: SUMMER 2023.24 Tuesday Mixed 5s Division 1\nGame T
 ype: Regular\nGame Status: Complete\nHome Team: Jess n Less\nAway Team: Ge
 rri Hattricks\nHome Score: 3\nAway Score: 6
END:VEVENT
BEGIN:VEVENT
UID:15343149@ezleagues.ezfacility.com
DTSTAMP:20260421T214230Z
CREATED:20260421T214230Z
DTSTART:20240206T093000Z
DTEND:20240206T101000Z
LOCATION:006 Estadio do Dragao
CONTACT:
SUMMARY:KACHOW VS. Gerri Hattricks
DESCRIPTION:League Name: SUMMER 2023.24 Tuesday Mixed 5s Division 1\nGame T
 ype: Regular\nGame Status: Complete\nHome Team: KACHOW\nAway Team: Gerri H
 attricks\nHome Score: 6\nAway Score: 6
END:VEVENT
BEGIN:VEVENT
UID:15544564@ezleagues.ezfacility.com
DTSTAMP:20260421T214230Z
CREATED:20260421T214230Z
DTSTART:20240213T093000Z
DTEND:20240213T101000Z
LOCATION:006 Estadio do Dragao
CONTACT:
SUMMARY:Gerri Hattricks VS. Jess n Less
DESCRIPTION:League Name: SUMMER 2023.24 Tuesday Mixed 5s Division 1\nGame T
 ype: Postseason\nGame Status: Complete\nHome Team: Gerri Hattricks\nAway T
 eam: Jess n Less\nHome Score: 3\nAway Score: 7
END:VEVENT
END:VCALENDAR
