BEGIN:VCALENDAR
VERSION:2.0
PRODID:-//EZFacility.com, Inc.//EZL 2.5.5.28621
BEGIN:VEVENT
UID:15351282@ezleagues.ezfacility.com
DTSTAMP:20260426T034839Z
CREATED:20260426T034839Z
DTSTART:20231111T043000Z
DTEND:20231111T053000Z
LOCATION:RCF East - Rio
CONTACT:
SUMMARY:Man Shitty  VS. MACHO KICK
DESCRIPTION:League Name: RCF East AL Winter I 23'- Men's 40+ (M/F)\nGame Ty
 pe: Regular\nGame Status: Complete\nHome Team: Man Shitty \nAway Team: MAC
 HO KICK\nHome Score: 2\nAway Score: 9
END:VEVENT
BEGIN:VEVENT
UID:15351300@ezleagues.ezfacility.com
DTSTAMP:20260426T034839Z
CREATED:20260426T034839Z
DTSTART:20231128T025000Z
DTEND:20231128T035000Z
LOCATION:RCF East - Barcelona
CONTACT:
SUMMARY:MACHO KICK VS. Over the Hillenials
DESCRIPTION:League Name: RCF East AL Winter I 23'- Men's 40+ (M/F)\nGame Ty
 pe: Regular\nGame Status: Complete\nHome Team: MACHO KICK\nAway Team: Over
  the Hillenials\nHome Score: 5\nAway Score: 4
END:VEVENT
BEGIN:VEVENT
UID:15351306@ezleagues.ezfacility.com
DTSTAMP:20260426T034839Z
CREATED:20260426T034839Z
DTSTART:20231205T051000Z
DTEND:20231205T061000Z
LOCATION:RCF East - Portland
CONTACT:
SUMMARY:MACHO KICK VS. Heat Dome
DESCRIPTION:League Name: RCF East AL Winter I 23'- Men's 40+ (M/F)\nGame Ty
 pe: Regular\nGame Status: Complete\nHome Team: MACHO KICK\nAway Team: Heat
  Dome\nHome Score: 10\nAway Score: 3
END:VEVENT
BEGIN:VEVENT
UID:15351311@ezleagues.ezfacility.com
DTSTAMP:20260426T034839Z
CREATED:20260426T034839Z
DTSTART:20231212T041000Z
DTEND:20231212T051000Z
LOCATION:RCF East - Portland
CONTACT:
SUMMARY:Old Dudes  VS. MACHO KICK
DESCRIPTION:League Name: RCF East AL Winter I 23'- Men's 40+ (M/F)\nGame Ty
 pe: Regular\nGame Status: Complete\nHome Team: Old Dudes \nAway Team: MACH
 O KICK\nHome Score: 3\nAway Score: 9
END:VEVENT
BEGIN:VEVENT
UID:15351315@ezleagues.ezfacility.com
DTSTAMP:20260426T034839Z
CREATED:20260426T034839Z
DTSTART:20231219T023000Z
DTEND:20231219T033000Z
LOCATION:RCF East - Rio
CONTACT:
SUMMARY:Redwood Empire VS. MACHO KICK
DESCRIPTION:League Name: RCF East AL Winter I 23'- Men's 40+ (M/F)\nGame Ty
 pe: Regular\nGame Status: Complete\nHome Team: Redwood Empire\nAway Team: 
 MACHO KICK\nHome Score: 2\nAway Score: 2
END:VEVENT
BEGIN:VEVENT
UID:15351288@ezleagues.ezfacility.com
DTSTAMP:20260426T034839Z
CREATED:20260426T034839Z
DTSTART:20231222T021000Z
DTEND:20231222T031000Z
LOCATION:RCF East - Portland
CONTACT:
SUMMARY:MACHO KICK VS. RCP Jets 
DESCRIPTION:League Name: RCF East AL Winter I 23'- Men's 40+ (M/F)\nGame Ty
 pe: Regular\nGame Status: Complete\nHome Team: MACHO KICK\nAway Team: RCP 
 Jets \nHome Score: 4\nAway Score: 1
END:VEVENT
BEGIN:VEVENT
UID:15351319@ezleagues.ezfacility.com
DTSTAMP:20260426T034839Z
CREATED:20260426T034839Z
DTSTART:20240123T025000Z
DTEND:20240123T035000Z
LOCATION:RCF East - Barcelona
CONTACT:
SUMMARY:Real Mature VS. MACHO KICK
DESCRIPTION:League Name: RCF East AL Winter I 23'- Men's 40+ (M/F)\nGame Ty
 pe: Regular\nGame Status: Complete\nHome Team: Real Mature\nAway Team: MAC
 HO KICK\nHome Score: 4\nAway Score: 8
END:VEVENT
BEGIN:VEVENT
UID:15351294@ezleagues.ezfacility.com
DTSTAMP:20260426T034839Z
CREATED:20260426T034839Z
DTSTART:20240130T053000Z
DTEND:20240130T063000Z
LOCATION:RCF East - Rio
CONTACT:
SUMMARY:MACHO KICK VS. United PDX Board Meeting 
DESCRIPTION:League Name: RCF East AL Winter I 23'- Men's 40+ (M/F)\nGame Ty
 pe: Regular\nGame Status: Complete\nHome Team: MACHO KICK\nAway Team: Unit
 ed PDX Board Meeting \nHome Score: 5\nAway Score: 5
END:VEVENT
BEGIN:VEVENT
UID:15351323@ezleagues.ezfacility.com
DTSTAMP:20260426T034839Z
CREATED:20260426T034839Z
DTSTART:20240206T035000Z
DTEND:20240206T045000Z
LOCATION:RCF East - Barcelona
CONTACT:
SUMMARY:Man Shitty  VS. MACHO KICK
DESCRIPTION:League Name: RCF East AL Winter I 23'- Men's 40+ (M/F)\nGame Ty
 pe: Regular\nGame Status: Complete\nHome Team: Man Shitty \nAway Team: MAC
 HO KICK\nHome Score: 3\nAway Score: 6
END:VEVENT
BEGIN:VEVENT
UID:15351322@ezleagues.ezfacility.com
DTSTAMP:20260426T034839Z
CREATED:20260426T034839Z
DTSTART:20240210T033000Z
DTEND:20240210T043000Z
LOCATION:RCF East - Rio
CONTACT:
SUMMARY:Heat Dome VS. MACHO KICK
DESCRIPTION:League Name: RCF East AL Winter I 23'- Men's 40+ (M/F)\nGame Ty
 pe: Regular\nGame Status: Complete\nHome Team: Heat Dome\nAway Team: MACHO
  KICK\nHome Score: 0\nAway Score: 7
END:VEVENT
END:VCALENDAR
