BEGIN:VCALENDAR
VERSION:2.0
PRODID:-//EZFacility.com, Inc.//EZL 2.5.5.28621
BEGIN:VEVENT
UID:15359361@ezleagues.ezfacility.com
DTSTAMP:20260424T021344Z
CREATED:20260424T021344Z
DTSTART:20231108T024500Z
DTEND:20231108T034500Z
LOCATION:Kotler Ice Arena
CONTACT:Geiling
SUMMARY:Get Baked in the Fog VS. The MethBear sponsored by Guidepost Brewin
 g
DESCRIPTION:League Name: Pond (Tues) 23/24\nGame Type: Regular\nGame Status
 : Complete\nHome Team: Get Baked in the Fog\nAway Team: The MethBear spons
 ored by Guidepost Brewing\nHome Score: 0\nAway Score: 3
END:VEVENT
BEGIN:VEVENT
UID:15359370@ezleagues.ezfacility.com
DTSTAMP:20260424T021344Z
CREATED:20260424T021344Z
DTSTART:20231129T024500Z
DTEND:20231129T034500Z
LOCATION:Kotler Ice Arena
CONTACT:Geiling
SUMMARY:Tetonia Club Elders  Offspring VS. Get Baked in the Fog
DESCRIPTION:League Name: Pond (Tues) 23/24\nGame Type: Regular\nGame Status
 : Complete\nHome Team: Tetonia Club Elders  Offspring\nAway Team: Get Bake
 d in the Fog\nHome Score: 5\nAway Score: 4
END:VEVENT
BEGIN:VEVENT
UID:15359374@ezleagues.ezfacility.com
DTSTAMP:20260424T021344Z
CREATED:20260424T021344Z
DTSTART:20231206T051500Z
DTEND:20231206T061500Z
LOCATION:Kotler Ice Arena
CONTACT:Geiling
SUMMARY:Get Baked in the Fog VS. Sun Shine Day Dream
DESCRIPTION:League Name: Pond (Tues) 23/24\nGame Type: Regular\nGame Status
 : Complete\nHome Team: Get Baked in the Fog\nAway Team: Sun Shine Day Drea
 m\nHome Score: 2\nAway Score: 6
END:VEVENT
BEGIN:VEVENT
UID:15359384@ezleagues.ezfacility.com
DTSTAMP:20260424T021344Z
CREATED:20260424T021344Z
DTSTART:20231220T040000Z
DTEND:20231220T050000Z
LOCATION:Kotler Ice Arena
CONTACT:Geiling
SUMMARY:98 Electric VS. Get Baked in the Fog
DESCRIPTION:League Name: Pond (Tues) 23/24\nGame Type: Regular\nGame Status
 : Complete\nHome Team: 98 Electric\nAway Team: Get Baked in the Fog\nHome 
 Score: 6\nAway Score: 1
END:VEVENT
BEGIN:VEVENT
UID:15359404@ezleagues.ezfacility.com
DTSTAMP:20260424T021344Z
CREATED:20260424T021344Z
DTSTART:20240103T024500Z
DTEND:20240103T034500Z
LOCATION:Kotler Ice Arena
CONTACT:Watkins
SUMMARY:Get Baked in the Fog VS. Rack Attack
DESCRIPTION:League Name: Pond (Tues) 23/24\nGame Type: Regular\nGame Status
 : Complete\nHome Team: Get Baked in the Fog\nAway Team: Rack Attack\nHome 
 Score: 3\nAway Score: 5
END:VEVENT
BEGIN:VEVENT
UID:15359439@ezleagues.ezfacility.com
DTSTAMP:20260424T021344Z
CREATED:20260424T021344Z
DTSTART:20240110T051500Z
DTEND:20240110T061500Z
LOCATION:Kotler Ice Arena
CONTACT:Geiling
SUMMARY:Mash-ups VS. Get Baked in the Fog
DESCRIPTION:League Name: Pond (Tues) 23/24\nGame Type: Regular\nGame Status
 : Complete\nHome Team: Mash-ups\nAway Team: Get Baked in the Fog\nHome Sco
 re: 7\nAway Score: 2
END:VEVENT
BEGIN:VEVENT
UID:15359443@ezleagues.ezfacility.com
DTSTAMP:20260424T021344Z
CREATED:20260424T021344Z
DTSTART:20240117T040000Z
DTEND:20240117T050000Z
LOCATION:Kotler Ice Arena
CONTACT:Geiling
SUMMARY:Get Baked in the Fog VS. The MethBear sponsored by Guidepost Brewin
 g
DESCRIPTION:League Name: Pond (Tues) 23/24\nGame Type: Regular\nGame Status
 : Complete\nHome Team: Get Baked in the Fog\nAway Team: The MethBear spons
 ored by Guidepost Brewing\nHome Score: 2\nAway Score: 5
END:VEVENT
BEGIN:VEVENT
UID:15359450@ezleagues.ezfacility.com
DTSTAMP:20260424T021344Z
CREATED:20260424T021344Z
DTSTART:20240131T051500Z
DTEND:20240131T061500Z
LOCATION:Kotler Ice Arena
CONTACT:Geiling
SUMMARY:Sun Shine Day Dream VS. Get Baked in the Fog
DESCRIPTION:League Name: Pond (Tues) 23/24\nGame Type: Regular\nGame Status
 : Complete\nHome Team: Sun Shine Day Dream\nAway Team: Get Baked in the Fo
 g\nHome Score: 1\nAway Score: 3
END:VEVENT
BEGIN:VEVENT
UID:15359452@ezleagues.ezfacility.com
DTSTAMP:20260424T021344Z
CREATED:20260424T021344Z
DTSTART:20240207T040000Z
DTEND:20240207T050000Z
LOCATION:Kotler Ice Arena
CONTACT:Geiling
SUMMARY:Get Baked in the Fog VS. Knotty Pioneers
DESCRIPTION:League Name: Pond (Tues) 23/24\nGame Type: Regular\nGame Status
 : Complete\nHome Team: Get Baked in the Fog\nAway Team: Knotty Pioneers\nH
 ome Score: 1\nAway Score: 3
END:VEVENT
BEGIN:VEVENT
UID:15359537@ezleagues.ezfacility.com
DTSTAMP:20260424T021344Z
CREATED:20260424T021344Z
DTSTART:20240214T051500Z
DTEND:20240214T061500Z
LOCATION:Kotler Ice Arena
CONTACT:Geiling
SUMMARY:Sun Shine Day Dream VS. Get Baked in the Fog
DESCRIPTION:League Name: Pond (Tues) 23/24\nGame Type: Regular\nGame Status
 : Complete\nHome Team: Sun Shine Day Dream\nAway Team: Get Baked in the Fo
 g\nHome Score: 4\nAway Score: 3
END:VEVENT
BEGIN:VEVENT
UID:15359562@ezleagues.ezfacility.com
DTSTAMP:20260424T021344Z
CREATED:20260424T021344Z
DTSTART:20240228T040000Z
DTEND:20240228T050000Z
LOCATION:Kotler Ice Arena
CONTACT:Geiling
SUMMARY:Get Baked in the Fog VS. Mash-ups
DESCRIPTION:League Name: Pond (Tues) 23/24\nGame Type: Regular\nGame Status
 : Complete\nHome Team: Get Baked in the Fog\nAway Team: Mash-ups\nHome Sco
 re: 5\nAway Score: 5
END:VEVENT
BEGIN:VEVENT
UID:15359564@ezleagues.ezfacility.com
DTSTAMP:20260424T021344Z
CREATED:20260424T021344Z
DTSTART:20240306T024500Z
DTEND:20240306T034500Z
LOCATION:Kotler Ice Arena
CONTACT:Geiling
SUMMARY:Rack Attack VS. Get Baked in the Fog
DESCRIPTION:League Name: Pond (Tues) 23/24\nGame Type: Regular\nGame Status
 : Complete\nHome Team: Rack Attack\nAway Team: Get Baked in the Fog\nHome 
 Score: 3\nAway Score: 1
END:VEVENT
BEGIN:VEVENT
UID:15359588@ezleagues.ezfacility.com
DTSTAMP:20260424T021344Z
CREATED:20260424T021344Z
DTSTART:20240313T003000Z
DTEND:20240313T013000Z
LOCATION:Kotler Ice Arena
CONTACT:Neevel\, Watkins
SUMMARY:Sun Shine Day Dream VS. Get Baked in the Fog
DESCRIPTION:League Name: Pond (Tues) 23/24\nGame Type: Regular\nGame Status
 : Complete\nHome Team: Sun Shine Day Dream\nAway Team: Get Baked in the Fo
 g\nHome Score: 3\nAway Score: 4
END:VEVENT
BEGIN:VEVENT
UID:15359592@ezleagues.ezfacility.com
DTSTAMP:20260424T021344Z
CREATED:20260424T021344Z
DTSTART:20240314T231500Z
DTEND:20240315T001500Z
LOCATION:Kotler Ice Arena
CONTACT:Forester
SUMMARY:Get Baked in the Fog VS. Rack Attack
DESCRIPTION:League Name: Pond (Tues) 23/24\nGame Type: Regular\nGame Status
 : Complete\nHome Team: Get Baked in the Fog\nAway Team: Rack Attack\nHome 
 Score: 3\nAway Score: 4
END:VEVENT
END:VCALENDAR
