BEGIN:VCALENDAR
VERSION:2.0
PRODID:-//EZFacility.com, Inc.//EZL 2.5.5.28621
BEGIN:VEVENT
UID:15359367@ezleagues.ezfacility.com
DTSTAMP:20260424T221453Z
CREATED:20260424T221453Z
DTSTART:20231115T040000Z
DTEND:20231115T050000Z
LOCATION:Kotler Ice Arena
CONTACT:
SUMMARY:Mash-ups VS. Knotty Pioneers
DESCRIPTION:League Name: Pond (Tues) 23/24\nGame Type: Regular\nGame Status
 : Complete\nHome Team: Mash-ups\nAway Team: Knotty Pioneers\nHome Score: 1
 \nAway Score: 3
END:VEVENT
BEGIN:VEVENT
UID:15359372@ezleagues.ezfacility.com
DTSTAMP:20260424T221453Z
CREATED:20260424T221453Z
DTSTART:20231129T051500Z
DTEND:20231129T061500Z
LOCATION:Kotler Ice Arena
CONTACT:Geiling
SUMMARY:Rack Attack VS. Mash-ups
DESCRIPTION:League Name: Pond (Tues) 23/24\nGame Type: Regular\nGame Status
 : Complete\nHome Team: Rack Attack\nAway Team: Mash-ups\nHome Score: 5\nAw
 ay Score: 4
END:VEVENT
BEGIN:VEVENT
UID:15359376@ezleagues.ezfacility.com
DTSTAMP:20260424T221453Z
CREATED:20260424T221453Z
DTSTART:20231206T040000Z
DTEND:20231206T050000Z
LOCATION:Kotler Ice Arena
CONTACT:Geiling
SUMMARY:98 Electric VS. Mash-ups
DESCRIPTION:League Name: Pond (Tues) 23/24\nGame Type: Regular\nGame Status
 : Complete\nHome Team: 98 Electric\nAway Team: Mash-ups\nHome Score: 4\nAw
 ay Score: 3
END:VEVENT
BEGIN:VEVENT
UID:15359378@ezleagues.ezfacility.com
DTSTAMP:20260424T221453Z
CREATED:20260424T221453Z
DTSTART:20231213T024500Z
DTEND:20231213T034500Z
LOCATION:Kotler Ice Arena
CONTACT:Neevel
SUMMARY:Sun Shine Day Dream VS. Mash-ups
DESCRIPTION:League Name: Pond (Tues) 23/24\nGame Type: Regular\nGame Status
 : Complete\nHome Team: Sun Shine Day Dream\nAway Team: Mash-ups\nHome Scor
 e: 4\nAway Score: 2
END:VEVENT
BEGIN:VEVENT
UID:15359406@ezleagues.ezfacility.com
DTSTAMP:20260424T221453Z
CREATED:20260424T221453Z
DTSTART:20240103T051500Z
DTEND:20240103T061500Z
LOCATION:Kotler Ice Arena
CONTACT:Watkins
SUMMARY:The MethBear sponsored by Guidepost Brewing VS. Mash-ups
DESCRIPTION:League Name: Pond (Tues) 23/24\nGame Type: Regular\nGame Status
 : Complete\nHome Team: The MethBear sponsored by Guidepost Brewing\nAway T
 eam: Mash-ups\nHome Score: 2\nAway Score: 4
END:VEVENT
BEGIN:VEVENT
UID:15359439@ezleagues.ezfacility.com
DTSTAMP:20260424T221453Z
CREATED:20260424T221453Z
DTSTART:20240110T051500Z
DTEND:20240110T061500Z
LOCATION:Kotler Ice Arena
CONTACT:Geiling
SUMMARY:Mash-ups VS. Get Baked in the Fog
DESCRIPTION:League Name: Pond (Tues) 23/24\nGame Type: Regular\nGame Status
 : Complete\nHome Team: Mash-ups\nAway Team: Get Baked in the Fog\nHome Sco
 re: 7\nAway Score: 2
END:VEVENT
BEGIN:VEVENT
UID:15359446@ezleagues.ezfacility.com
DTSTAMP:20260424T221453Z
CREATED:20260424T221453Z
DTSTART:20240124T040000Z
DTEND:20240124T050000Z
LOCATION:Kotler Ice Arena
CONTACT:Watkins
SUMMARY:Mash-ups VS. Tetonia Club Elders  Offspring
DESCRIPTION:League Name: Pond (Tues) 23/24\nGame Type: Regular\nGame Status
 : Complete\nHome Team: Mash-ups\nAway Team: Tetonia Club Elders  Offspring
 \nHome Score: 4\nAway Score: 5
END:VEVENT
BEGIN:VEVENT
UID:15359448@ezleagues.ezfacility.com
DTSTAMP:20260424T221453Z
CREATED:20260424T221453Z
DTSTART:20240131T024500Z
DTEND:20240131T034500Z
LOCATION:Kotler Ice Arena
CONTACT:Geiling
SUMMARY:Knotty Pioneers VS. Mash-ups
DESCRIPTION:League Name: Pond (Tues) 23/24\nGame Type: Regular\nGame Status
 : Complete\nHome Team: Knotty Pioneers\nAway Team: Mash-ups\nHome Score: 5
 \nAway Score: 3
END:VEVENT
BEGIN:VEVENT
UID:15359451@ezleagues.ezfacility.com
DTSTAMP:20260424T221453Z
CREATED:20260424T221453Z
DTSTART:20240207T051500Z
DTEND:20240207T061500Z
LOCATION:Kotler Ice Arena
CONTACT:Geiling
SUMMARY:Mash-ups VS. Rack Attack
DESCRIPTION:League Name: Pond (Tues) 23/24\nGame Type: Regular\nGame Status
 : Complete\nHome Team: Mash-ups\nAway Team: Rack Attack\nHome Score: 6\nAw
 ay Score: 4
END:VEVENT
BEGIN:VEVENT
UID:15359542@ezleagues.ezfacility.com
DTSTAMP:20260424T221453Z
CREATED:20260424T221453Z
DTSTART:20240221T024500Z
DTEND:20240221T034500Z
LOCATION:Kotler Ice Arena
CONTACT:Forester
SUMMARY:Mash-ups VS. 98 Electric
DESCRIPTION:League Name: Pond (Tues) 23/24\nGame Type: Regular\nGame Status
 : Complete\nHome Team: Mash-ups\nAway Team: 98 Electric\nHome Score: 1\nAw
 ay Score: 2
END:VEVENT
BEGIN:VEVENT
UID:15359562@ezleagues.ezfacility.com
DTSTAMP:20260424T221453Z
CREATED:20260424T221453Z
DTSTART:20240228T040000Z
DTEND:20240228T050000Z
LOCATION:Kotler Ice Arena
CONTACT:Geiling
SUMMARY:Get Baked in the Fog VS. Mash-ups
DESCRIPTION:League Name: Pond (Tues) 23/24\nGame Type: Regular\nGame Status
 : Complete\nHome Team: Get Baked in the Fog\nAway Team: Mash-ups\nHome Sco
 re: 5\nAway Score: 5
END:VEVENT
BEGIN:VEVENT
UID:15359587@ezleagues.ezfacility.com
DTSTAMP:20260424T221453Z
CREATED:20260424T221453Z
DTSTART:20240306T051500Z
DTEND:20240306T061500Z
LOCATION:Kotler Ice Arena
CONTACT:Geiling
SUMMARY:Mash-ups VS. Knotty Pioneers
DESCRIPTION:League Name: Pond (Tues) 23/24\nGame Type: Regular\nGame Status
 : Complete\nHome Team: Mash-ups\nAway Team: Knotty Pioneers\nHome Score: 2
 \nAway Score: 2
END:VEVENT
BEGIN:VEVENT
UID:15359589@ezleagues.ezfacility.com
DTSTAMP:20260424T221453Z
CREATED:20260424T221453Z
DTSTART:20240313T014500Z
DTEND:20240313T024500Z
LOCATION:Kotler Ice Arena
CONTACT:Neevel\, Watkins
SUMMARY:Rack Attack VS. Mash-ups
DESCRIPTION:League Name: Pond (Tues) 23/24\nGame Type: Regular\nGame Status
 : Complete\nHome Team: Rack Attack\nAway Team: Mash-ups\nHome Score: 5\nAw
 ay Score: 1
END:VEVENT
END:VCALENDAR
