BEGIN:VCALENDAR
VERSION:2.0
PRODID:-//EZFacility.com, Inc.//EZL 2.5.5.28621
BEGIN:VEVENT
UID:15365942@ezleagues.ezfacility.com
DTSTAMP:20260423T192354Z
CREATED:20260423T192354Z
DTSTART:20231104T190000Z
DTEND:20231104T200000Z
LOCATION:7v7 Field #3
CONTACT:Vujaklija
SUMMARY:Bears - Martinez VS. Chargers - Shih  Hillis
DESCRIPTION:League Name: NFL Flag Football 2023/24 -NFL Flag Football Sessi
 on 1-12-14 Years Old NFL Flag Football\nGame Type: Regular\nGame Status: C
 omplete\nHome Team: Bears - Martinez\nAway Team: Chargers - Shih  Hillis\n
 Home Score: 34\nAway Score: 20
END:VEVENT
BEGIN:VEVENT
UID:15365947@ezleagues.ezfacility.com
DTSTAMP:20260423T192354Z
CREATED:20260423T192354Z
DTSTART:20231111T210000Z
DTEND:20231111T220000Z
LOCATION:7v7 Field #4
CONTACT:Zea
SUMMARY:49ers - Baldin VS. Chargers - Shih  Hillis
DESCRIPTION:League Name: NFL Flag Football 2023/24 -NFL Flag Football Sessi
 on 1-12-14 Years Old NFL Flag Football\nGame Type: Regular\nGame Status: C
 omplete\nHome Team: 49ers - Baldin\nAway Team: Chargers - Shih  Hillis\nHo
 me Score: 12\nAway Score: 38
END:VEVENT
BEGIN:VEVENT
UID:15365954@ezleagues.ezfacility.com
DTSTAMP:20260423T192354Z
CREATED:20260423T192354Z
DTSTART:20231118T210000Z
DTEND:20231118T220000Z
LOCATION:7v7 Field #4
CONTACT:Vazquez\, Meeks
SUMMARY:Chargers - Shih  Hillis VS. Raiders - Krugman
DESCRIPTION:League Name: NFL Flag Football 2023/24 -NFL Flag Football Sessi
 on 1-12-14 Years Old NFL Flag Football\nGame Type: Regular\nGame Status: C
 omplete\nHome Team: Chargers - Shih  Hillis\nAway Team: Raiders - Krugman\
 nHome Score: 40\nAway Score: 12
END:VEVENT
BEGIN:VEVENT
UID:15365961@ezleagues.ezfacility.com
DTSTAMP:20260423T192354Z
CREATED:20260423T192354Z
DTSTART:20231125T190000Z
DTEND:20231125T200000Z
LOCATION:7v7 Field #3
CONTACT:
SUMMARY:Texans - Schmeidl  Leithleiter VS. Chargers - Shih  Hillis
DESCRIPTION:League Name: NFL Flag Football 2023/24 -NFL Flag Football Sessi
 on 1-12-14 Years Old NFL Flag Football\nGame Type: Regular\nGame Status: C
 omplete\nHome Team: Texans - Schmeidl  Leithleiter\nAway Team: Chargers - 
 Shih  Hillis\nHome Score: 34\nAway Score: 22
END:VEVENT
BEGIN:VEVENT
UID:15365968@ezleagues.ezfacility.com
DTSTAMP:20260423T192354Z
CREATED:20260423T192354Z
DTSTART:20231202T220000Z
DTEND:20231202T230000Z
LOCATION:7v7 Field #4
CONTACT:Vujaklija
SUMMARY:Chargers - Shih  Hillis VS. Jets - Gomez  Messmer
DESCRIPTION:League Name: NFL Flag Football 2023/24 -NFL Flag Football Sessi
 on 1-12-14 Years Old NFL Flag Football\nGame Type: Regular\nGame Status: C
 omplete\nHome Team: Chargers - Shih  Hillis\nAway Team: Jets - Gomez  Mess
 mer\nHome Score: 28\nAway Score: 18
END:VEVENT
BEGIN:VEVENT
UID:15365975@ezleagues.ezfacility.com
DTSTAMP:20260423T192354Z
CREATED:20260423T192354Z
DTSTART:20231209T220000Z
DTEND:20231209T230000Z
LOCATION:7v7 Field #3
CONTACT:Chandler\, Vujaklija
SUMMARY:Chargers - Shih  Hillis VS. Cardinals - Hruby
DESCRIPTION:League Name: NFL Flag Football 2023/24 -NFL Flag Football Sessi
 on 1-12-14 Years Old NFL Flag Football\nGame Type: Regular\nGame Status: C
 omplete\nHome Team: Chargers - Shih  Hillis\nAway Team: Cardinals - Hruby\
 nHome Score: 36\nAway Score: 0
END:VEVENT
BEGIN:VEVENT
UID:15365982@ezleagues.ezfacility.com
DTSTAMP:20260423T192354Z
CREATED:20260423T192354Z
DTSTART:20231216T210000Z
DTEND:20231216T220000Z
LOCATION:7v7 Field #3
CONTACT:
SUMMARY:Chargers - Shih  Hillis VS. Broncos - Jaques
DESCRIPTION:League Name: NFL Flag Football 2023/24 -NFL Flag Football Sessi
 on 1-12-14 Years Old NFL Flag Football\nGame Type: Regular\nGame Status: C
 omplete\nHome Team: Chargers - Shih  Hillis\nAway Team: Broncos - Jaques\n
 Home Score: 28\nAway Score: 12
END:VEVENT
END:VCALENDAR
