BEGIN:VCALENDAR
VERSION:2.0
PRODID:-//EZFacility.com, Inc.//EZL 2.5.5.28621
BEGIN:VEVENT
UID:15365894@ezleagues.ezfacility.com
DTSTAMP:20260424T044018Z
CREATED:20260424T044018Z
DTSTART:20231104T200000Z
DTEND:20231104T204000Z
LOCATION:7v7 Field #2
CONTACT:Zakman\, Medina 
SUMMARY:Dolphins - Palmer (assistant) VS. Packers - Bombagetti  Schultz
DESCRIPTION:League Name: NFL Flag Football 2023/24 -10-11 Years Old NFL Fla
 g Football\nGame Type: Regular\nGame Status: Complete\nHome Team: Dolphins
  - Palmer (assistant)\nAway Team: Packers - Bombagetti  Schultz\nHome Scor
 e: 8\nAway Score: 14
END:VEVENT
BEGIN:VEVENT
UID:15365898@ezleagues.ezfacility.com
DTSTAMP:20260424T044018Z
CREATED:20260424T044018Z
DTSTART:20231111T200000Z
DTEND:20231111T204000Z
LOCATION:7v7 Field #2
CONTACT:Vazquez
SUMMARY:Cowboys - Hansen  VS. Packers - Bombagetti  Schultz
DESCRIPTION:League Name: NFL Flag Football 2023/24 -10-11 Years Old NFL Fla
 g Football\nGame Type: Regular\nGame Status: Complete\nHome Team: Cowboys 
 - Hansen \nAway Team: Packers - Bombagetti  Schultz\nHome Score: 7\nAway S
 core: 34
END:VEVENT
BEGIN:VEVENT
UID:15365902@ezleagues.ezfacility.com
DTSTAMP:20260424T044018Z
CREATED:20260424T044018Z
DTSTART:20231118T220000Z
DTEND:20231118T224000Z
LOCATION:7v7 Field #2
CONTACT:Vujaklija
SUMMARY:Bills - Kacmar (assistant) VS. Packers - Bombagetti  Schultz
DESCRIPTION:League Name: NFL Flag Football 2023/24 -10-11 Years Old NFL Fla
 g Football\nGame Type: Regular\nGame Status: Complete\nHome Team: Bills - 
 Kacmar (assistant)\nAway Team: Packers - Bombagetti  Schultz\nHome Score: 
 0\nAway Score: 34
END:VEVENT
BEGIN:VEVENT
UID:15365908@ezleagues.ezfacility.com
DTSTAMP:20260424T044018Z
CREATED:20260424T044018Z
DTSTART:20231125T190000Z
DTEND:20231125T194000Z
LOCATION:7v7 Field #2
CONTACT:
SUMMARY:Packers - Bombagetti  Schultz VS. Vikings
DESCRIPTION:League Name: NFL Flag Football 2023/24 -10-11 Years Old NFL Fla
 g Football\nGame Type: Regular\nGame Status: Complete\nHome Team: Packers 
 - Bombagetti  Schultz\nAway Team: Vikings\nHome Score: 12\nAway Score: 35
END:VEVENT
BEGIN:VEVENT
UID:15365914@ezleagues.ezfacility.com
DTSTAMP:20260424T044018Z
CREATED:20260424T044018Z
DTSTART:20231202T190000Z
DTEND:20231202T194000Z
LOCATION:7v7 Field #2
CONTACT:Medina \, Michaels
SUMMARY:Packers - Bombagetti  Schultz VS. Lions
DESCRIPTION:League Name: NFL Flag Football 2023/24 -10-11 Years Old NFL Fla
 g Football\nGame Type: Regular\nGame Status: Complete\nHome Team: Packers 
 - Bombagetti  Schultz\nAway Team: Lions\nHome Score: 28\nAway Score: 22
END:VEVENT
BEGIN:VEVENT
UID:15365920@ezleagues.ezfacility.com
DTSTAMP:20260424T044018Z
CREATED:20260424T044018Z
DTSTART:20231209T220000Z
DTEND:20231209T224000Z
LOCATION:7v7 Field #2
CONTACT:Zea
SUMMARY:Packers - Bombagetti  Schultz VS. Browns - Carper
DESCRIPTION:League Name: NFL Flag Football 2023/24 -10-11 Years Old NFL Fla
 g Football\nGame Type: Regular\nGame Status: Complete\nHome Team: Packers 
 - Bombagetti  Schultz\nAway Team: Browns - Carper\nHome Score: 14\nAway Sc
 ore: 12
END:VEVENT
BEGIN:VEVENT
UID:15365926@ezleagues.ezfacility.com
DTSTAMP:20260424T044018Z
CREATED:20260424T044018Z
DTSTART:20231216T200000Z
DTEND:20231216T204000Z
LOCATION:7v7 Field #2
CONTACT:Vazquez\, Zakman
SUMMARY:Packers - Bombagetti  Schultz VS. Jaguars - Piercy and Preston
DESCRIPTION:League Name: NFL Flag Football 2023/24 -10-11 Years Old NFL Fla
 g Football\nGame Type: Regular\nGame Status: Complete\nHome Team: Packers 
 - Bombagetti  Schultz\nAway Team: Jaguars - Piercy and Preston\nHome Score
 : 6\nAway Score: 34
END:VEVENT
END:VCALENDAR
