BEGIN:VCALENDAR
VERSION:2.0
PRODID:-//EZFacility.com, Inc.//EZL 2.5.5.28621
BEGIN:VEVENT
UID:15360334@ezleagues.ezfacility.com
DTSTAMP:20260424T044154Z
CREATED:20260424T044154Z
DTSTART:20231103T012500Z
DTEND:20231103T022000Z
LOCATION:North Field: Flat Branch Home 
CONTACT:Lamar
SUMMARY:Huskey's  VS. Snorting KC 
DESCRIPTION:League Name: 2023 Fall Thursday Men's Soccer — Recreational\n
 Game Type: Regular\nGame Status: Complete\nHome Team: Huskey's \nAway Team
 : Snorting KC \nHome Score: 10\nAway Score: 6
END:VEVENT
BEGIN:VEVENT
UID:15360354@ezleagues.ezfacility.com
DTSTAMP:20260424T044154Z
CREATED:20260424T044154Z
DTSTART:20231110T041500Z
DTEND:20231110T051000Z
LOCATION:North Field: Flat Branch Home 
CONTACT:Medrano
SUMMARY:Drive Fast FC VS. Snorting KC 
DESCRIPTION:League Name: 2023 Fall Thursday Men's Soccer — Recreational\n
 Game Type: Regular\nGame Status: Complete\nHome Team: Drive Fast FC\nAway 
 Team: Snorting KC \nHome Score: 14\nAway Score: 4
END:VEVENT
BEGIN:VEVENT
UID:15397712@ezleagues.ezfacility.com
DTSTAMP:20260424T044154Z
CREATED:20260424T044154Z
DTSTART:20231201T042000Z
DTEND:20231201T051500Z
LOCATION:North Field: Flat Branch Home 
CONTACT:Medrano
SUMMARY:Snorting KC  VS. The Squad
DESCRIPTION:League Name: 2023 Fall Thursday Men's Soccer — Recreational\n
 Game Type: Regular\nGame Status: Complete\nHome Team: Snorting KC \nAway T
 eam: The Squad\nHome Score: 13\nAway Score: 8
END:VEVENT
BEGIN:VEVENT
UID:15397716@ezleagues.ezfacility.com
DTSTAMP:20260424T044154Z
CREATED:20260424T044154Z
DTSTART:20231222T042000Z
DTEND:20231222T051500Z
LOCATION:North Field: Flat Branch Home 
CONTACT:Medrano\, Abrams
SUMMARY:Snorting KC  VS. Team Z Regen
DESCRIPTION:League Name: 2023 Fall Thursday Men's Soccer — Recreational\n
 Game Type: Regular\nGame Status: Complete\nHome Team: Snorting KC \nAway T
 eam: Team Z Regen\nHome Score: 5\nAway Score: 5
END:VEVENT
BEGIN:VEVENT
UID:15397717@ezleagues.ezfacility.com
DTSTAMP:20260424T044154Z
CREATED:20260424T044154Z
DTSTART:20231229T013000Z
DTEND:20231229T022500Z
LOCATION:North Field: Flat Branch Home 
CONTACT:Lamar\, Umar
SUMMARY:Team Z Regen VS. Snorting KC 
DESCRIPTION:League Name: 2023 Fall Thursday Men's Soccer — Recreational\n
 Game Type: Regular\nGame Status: Complete\nHome Team: Team Z Regen\nAway T
 eam: Snorting KC \nHome Score: 7\nAway Score: 0
END:VEVENT
BEGIN:VEVENT
UID:15397720@ezleagues.ezfacility.com
DTSTAMP:20260424T044154Z
CREATED:20260424T044154Z
DTSTART:20231229T024500Z
DTEND:20231229T034000Z
LOCATION:North Field: Flat Branch Home 
CONTACT:Lamar\, Umar
SUMMARY:Snorting KC  VS. Huskey's 
DESCRIPTION:League Name: 2023 Fall Thursday Men's Soccer — Recreational\n
 Game Type: Regular\nGame Status: Complete\nHome Team: Snorting KC \nAway T
 eam: Huskey's \nHome Score: 0\nAway Score: 3
END:VEVENT
END:VCALENDAR
