BEGIN:VCALENDAR
VERSION:2.0
PRODID:-//EZFacility.com, Inc.//EZL 2.5.5.28621
BEGIN:VEVENT
UID:15362374@ezleagues.ezfacility.com
DTSTAMP:20260426T033825Z
CREATED:20260426T033825Z
DTSTART:20231103T054500Z
DTEND:20231103T062500Z
LOCATION: 001 Wembley Stadium
CONTACT:Nick
SUMMARY:Night kickers VS. Dynamo Squad
DESCRIPTION:League Name: SUMMER 2023.24 JUNIOR LEAGUES Friday Under 5s/Unde
 r 6s\nGame Type: Regular\nGame Status: Complete\nHome Team: Night kickers\
 nAway Team: Dynamo Squad\nHome Score: 6\nAway Score: 0
END:VEVENT
BEGIN:VEVENT
UID:15362377@ezleagues.ezfacility.com
DTSTAMP:20260426T033825Z
CREATED:20260426T033825Z
DTSTART:20231110T054500Z
DTEND:20231110T062500Z
LOCATION: 002 Maracana
CONTACT:
SUMMARY:5’s on Fire VS. Night kickers
DESCRIPTION:League Name: SUMMER 2023.24 JUNIOR LEAGUES Friday Under 5s/Unde
 r 6s\nGame Type: Regular\nGame Status: Complete\nHome Team: 5’s on Fire\
 nAway Team: Night kickers\nHome Score: 0\nAway Score: 9
END:VEVENT
BEGIN:VEVENT
UID:15362382@ezleagues.ezfacility.com
DTSTAMP:20260426T033825Z
CREATED:20260426T033825Z
DTSTART:20231117T054500Z
DTEND:20231117T062500Z
LOCATION: 001 Wembley Stadium
CONTACT:Nick
SUMMARY:Young Guns VS. Night kickers
DESCRIPTION:League Name: SUMMER 2023.24 JUNIOR LEAGUES Friday Under 5s/Unde
 r 6s\nGame Type: Regular\nGame Status: Complete\nHome Team: Young Guns\nAw
 ay Team: Night kickers\nHome Score: 3\nAway Score: 4
END:VEVENT
BEGIN:VEVENT
UID:15362387@ezleagues.ezfacility.com
DTSTAMP:20260426T033825Z
CREATED:20260426T033825Z
DTSTART:20231124T054500Z
DTEND:20231124T062500Z
LOCATION: 001 Wembley Stadium
CONTACT:Jayden
SUMMARY:Goal Hunters VS. Night kickers
DESCRIPTION:League Name: SUMMER 2023.24 JUNIOR LEAGUES Friday Under 5s/Unde
 r 6s\nGame Type: Regular\nGame Status: Complete\nHome Team: Goal Hunters\n
 Away Team: Night kickers\nHome Score: 10\nAway Score: 1
END:VEVENT
BEGIN:VEVENT
UID:15362392@ezleagues.ezfacility.com
DTSTAMP:20260426T033825Z
CREATED:20260426T033825Z
DTSTART:20231201T054500Z
DTEND:20231201T062500Z
LOCATION: 002 Maracana
CONTACT:Jayden
SUMMARY:Goal Busters VS. Night kickers
DESCRIPTION:League Name: SUMMER 2023.24 JUNIOR LEAGUES Friday Under 5s/Unde
 r 6s\nGame Type: Regular\nGame Status: Complete\nHome Team: Goal Busters\n
 Away Team: Night kickers\nHome Score: 9\nAway Score: 3
END:VEVENT
BEGIN:VEVENT
UID:15362396@ezleagues.ezfacility.com
DTSTAMP:20260426T033825Z
CREATED:20260426T033825Z
DTSTART:20231208T024500Z
DTEND:20231208T032500Z
LOCATION: 002 Maracana
CONTACT:AA
SUMMARY:Night kickers VS. Wildcats
DESCRIPTION:League Name: SUMMER 2023.24 JUNIOR LEAGUES Friday Under 5s/Unde
 r 6s\nGame Type: Regular\nGame Status: Complete\nHome Team: Night kickers\
 nAway Team: Wildcats\nHome Score: 10\nAway Score: 0
END:VEVENT
BEGIN:VEVENT
UID:15362399@ezleagues.ezfacility.com
DTSTAMP:20260426T033825Z
CREATED:20260426T033825Z
DTSTART:20231215T054500Z
DTEND:20231215T062500Z
LOCATION: 002 Maracana
CONTACT:Nick
SUMMARY:Tigers VS. Night kickers
DESCRIPTION:League Name: SUMMER 2023.24 JUNIOR LEAGUES Friday Under 5s/Unde
 r 6s\nGame Type: Regular\nGame Status: Complete\nHome Team: Tigers\nAway T
 eam: Night kickers\nHome Score: 10\nAway Score: 0
END:VEVENT
BEGIN:VEVENT
UID:15362402@ezleagues.ezfacility.com
DTSTAMP:20260426T033825Z
CREATED:20260426T033825Z
DTSTART:20231222T054500Z
DTEND:20231222T062500Z
LOCATION: 001 Wembley Stadium
CONTACT:Nick
SUMMARY:Dynamo Squad VS. Night kickers
DESCRIPTION:League Name: SUMMER 2023.24 JUNIOR LEAGUES Friday Under 5s/Unde
 r 6s\nGame Type: Regular\nGame Status: Complete\nHome Team: Dynamo Squad\n
 Away Team: Night kickers\nHome Score: 1\nAway Score: 5
END:VEVENT
BEGIN:VEVENT
UID:15362415@ezleagues.ezfacility.com
DTSTAMP:20260426T033825Z
CREATED:20260426T033825Z
DTSTART:20240112T054500Z
DTEND:20240112T062500Z
LOCATION: 001 Wembley Stadium
CONTACT:Jayden
SUMMARY:Night kickers VS. Goal Hunters
DESCRIPTION:League Name: SUMMER 2023.24 JUNIOR LEAGUES Friday Under 5s/Unde
 r 6s\nGame Type: Regular\nGame Status: Complete\nHome Team: Night kickers\
 nAway Team: Goal Hunters\nHome Score: 0\nAway Score: 10
END:VEVENT
BEGIN:VEVENT
UID:15362420@ezleagues.ezfacility.com
DTSTAMP:20260426T033825Z
CREATED:20260426T033825Z
DTSTART:20240119T054500Z
DTEND:20240119T062500Z
LOCATION: 002 Maracana
CONTACT:Kian
SUMMARY:Night kickers VS. Goal Busters
DESCRIPTION:League Name: SUMMER 2023.24 JUNIOR LEAGUES Friday Under 5s/Unde
 r 6s\nGame Type: Regular\nGame Status: Complete\nHome Team: Night kickers\
 nAway Team: Goal Busters\nHome Score: 0\nAway Score: 10
END:VEVENT
BEGIN:VEVENT
UID:15362405@ezleagues.ezfacility.com
DTSTAMP:20260426T033825Z
CREATED:20260426T033825Z
DTSTART:20240202T034500Z
DTEND:20240202T042500Z
LOCATION: 002 Maracana
CONTACT:AA
SUMMARY:Night kickers VS. 5’s on Fire
DESCRIPTION:League Name: SUMMER 2023.24 JUNIOR LEAGUES Friday Under 5s/Unde
 r 6s\nGame Type: Regular\nGame Status: Complete\nHome Team: Night kickers\
 nAway Team: 5’s on Fire\nHome Score: 10\nAway Score: 0
END:VEVENT
BEGIN:VEVENT
UID:15362410@ezleagues.ezfacility.com
DTSTAMP:20260426T033825Z
CREATED:20260426T033825Z
DTSTART:20240209T054500Z
DTEND:20240209T062500Z
LOCATION: 001 Wembley Stadium
CONTACT:
SUMMARY:Night kickers VS. Young Guns
DESCRIPTION:League Name: SUMMER 2023.24 JUNIOR LEAGUES Friday Under 5s/Unde
 r 6s\nGame Type: Regular\nGame Status: Complete\nHome Team: Night kickers\
 nAway Team: Young Guns\nHome Score: 2\nAway Score: 7
END:VEVENT
BEGIN:VEVENT
UID:15362424@ezleagues.ezfacility.com
DTSTAMP:20260426T033825Z
CREATED:20260426T033825Z
DTSTART:20240216T054500Z
DTEND:20240216T062500Z
LOCATION: 002 Maracana
CONTACT:AA
SUMMARY:Wildcats VS. Night kickers
DESCRIPTION:League Name: SUMMER 2023.24 JUNIOR LEAGUES Friday Under 5s/Unde
 r 6s\nGame Type: Regular\nGame Status: Complete\nHome Team: Wildcats\nAway
  Team: Night kickers\nHome Score: 10\nAway Score: 0
END:VEVENT
BEGIN:VEVENT
UID:15556569@ezleagues.ezfacility.com
DTSTAMP:20260426T033825Z
CREATED:20260426T033825Z
DTSTART:20240301T054500Z
DTEND:20240301T062500Z
LOCATION: 001 Wembley Stadium
CONTACT:Kian
SUMMARY:Goal Busters VS. Night kickers
DESCRIPTION:League Name: SUMMER 2023.24 JUNIOR LEAGUES Friday Under 5s/Unde
 r 6s\nGame Type: Postseason\nGame Status: Complete\nHome Team: Goal Buster
 s\nAway Team: Night kickers\nHome Score: 1\nAway Score: 2
END:VEVENT
BEGIN:VEVENT
UID:15556573@ezleagues.ezfacility.com
DTSTAMP:20260426T033825Z
CREATED:20260426T033825Z
DTSTART:20240308T054500Z
DTEND:20240308T062500Z
LOCATION: 001 Wembley Stadium
CONTACT:
SUMMARY:Tigers VS. Night kickers
DESCRIPTION:League Name: SUMMER 2023.24 JUNIOR LEAGUES Friday Under 5s/Unde
 r 6s\nGame Type: Postseason\nGame Status: Pending\nHome Team: Tigers\nAway
  Team: Night kickers\n
END:VEVENT
END:VCALENDAR
