BEGIN:VCALENDAR
VERSION:2.0
PRODID:-//EZFacility.com, Inc.//EZL 2.5.5.28621
BEGIN:VEVENT
UID:15361781@ezleagues.ezfacility.com
DTSTAMP:20260426T035300Z
CREATED:20260426T035300Z
DTSTART:20231103T060000Z
DTEND:20231103T064000Z
LOCATION:007 Celtic Park
CONTACT:Jake
SUMMARY:Getting Messi VS. Aston Villa
DESCRIPTION:League Name: SUMMER 2023.24 JUNIOR LEAGUES Friday U9s Yellow\nG
 ame Type: Regular\nGame Status: Complete\nHome Team: Getting Messi\nAway T
 eam: Aston Villa\nHome Score: 3\nAway Score: 9
END:VEVENT
BEGIN:VEVENT
UID:15361786@ezleagues.ezfacility.com
DTSTAMP:20260426T035300Z
CREATED:20260426T035300Z
DTSTART:20231110T073000Z
DTEND:20231110T081000Z
LOCATION:003 San Siro
CONTACT:Jesse
SUMMARY:The Budgie Boys VS. Aston Villa
DESCRIPTION:League Name: SUMMER 2023.24 JUNIOR LEAGUES Friday U9s Yellow\nG
 ame Type: Regular\nGame Status: Complete\nHome Team: The Budgie Boys\nAway
  Team: Aston Villa\nHome Score: 4\nAway Score: 15
END:VEVENT
BEGIN:VEVENT
UID:15361791@ezleagues.ezfacility.com
DTSTAMP:20260426T035300Z
CREATED:20260426T035300Z
DTSTART:20231117T060000Z
DTEND:20231117T064000Z
LOCATION:006 Estadio do Dragao
CONTACT:
SUMMARY:Brighton VS. Aston Villa
DESCRIPTION:League Name: SUMMER 2023.24 JUNIOR LEAGUES Friday U9s Yellow\nG
 ame Type: Regular\nGame Status: Complete\nHome Team: Brighton\nAway Team: 
 Aston Villa\nHome Score: 3\nAway Score: 10
END:VEVENT
BEGIN:VEVENT
UID:15361795@ezleagues.ezfacility.com
DTSTAMP:20260426T035300Z
CREATED:20260426T035300Z
DTSTART:20231124T073000Z
DTEND:20231124T081000Z
LOCATION:008 Ibrox
CONTACT:
SUMMARY:Aston Villa VS. Ball Buster Juniors
DESCRIPTION:League Name: SUMMER 2023.24 JUNIOR LEAGUES Friday U9s Yellow\nG
 ame Type: Regular\nGame Status: Complete\nHome Team: Aston Villa\nAway Tea
 m: Ball Buster Juniors\nHome Score: 8\nAway Score: 0
END:VEVENT
BEGIN:VEVENT
UID:15361798@ezleagues.ezfacility.com
DTSTAMP:20260426T035300Z
CREATED:20260426T035300Z
DTSTART:20231201T060000Z
DTEND:20231201T064000Z
LOCATION:009 Anfield
CONTACT:
SUMMARY:Aston Villa VS. Lions
DESCRIPTION:League Name: SUMMER 2023.24 JUNIOR LEAGUES Friday U9s Yellow\nG
 ame Type: Regular\nGame Status: Complete\nHome Team: Aston Villa\nAway Tea
 m: Lions\nHome Score: 6\nAway Score: 6
END:VEVENT
BEGIN:VEVENT
UID:15361801@ezleagues.ezfacility.com
DTSTAMP:20260426T035300Z
CREATED:20260426T035300Z
DTSTART:20231208T060000Z
DTEND:20231208T064000Z
LOCATION:009 Anfield
CONTACT:
SUMMARY:Aston Villa VS. Inter Coastie FC
DESCRIPTION:League Name: SUMMER 2023.24 JUNIOR LEAGUES Friday U9s Yellow\nG
 ame Type: Regular\nGame Status: Complete\nHome Team: Aston Villa\nAway Tea
 m: Inter Coastie FC\nHome Score: 14\nAway Score: 4
END:VEVENT
BEGIN:VEVENT
UID:15361804@ezleagues.ezfacility.com
DTSTAMP:20260426T035300Z
CREATED:20260426T035300Z
DTSTART:20231215T073000Z
DTEND:20231215T081000Z
LOCATION:004 La Bombonera
CONTACT:Jeremy 
SUMMARY:Aston Villa VS. 59ers
DESCRIPTION:League Name: SUMMER 2023.24 JUNIOR LEAGUES Friday U9s Yellow\nG
 ame Type: Regular\nGame Status: Complete\nHome Team: Aston Villa\nAway Tea
 m: 59ers\nHome Score: 9\nAway Score: 1
END:VEVENT
BEGIN:VEVENT
UID:15361809@ezleagues.ezfacility.com
DTSTAMP:20260426T035300Z
CREATED:20260426T035300Z
DTSTART:20231222T064500Z
DTEND:20231222T072500Z
LOCATION:008 Ibrox
CONTACT:
SUMMARY:Aston Villa VS. Getting Messi
DESCRIPTION:League Name: SUMMER 2023.24 JUNIOR LEAGUES Friday U9s Yellow\nG
 ame Type: Regular\nGame Status: Complete\nHome Team: Aston Villa\nAway Tea
 m: Getting Messi\nHome Score: 5\nAway Score: 4
END:VEVENT
BEGIN:VEVENT
UID:15361823@ezleagues.ezfacility.com
DTSTAMP:20260426T035300Z
CREATED:20260426T035300Z
DTSTART:20240112T073000Z
DTEND:20240112T081000Z
LOCATION:004 La Bombonera
CONTACT:
SUMMARY:Ball Buster Juniors VS. Aston Villa
DESCRIPTION:League Name: SUMMER 2023.24 JUNIOR LEAGUES Friday U9s Yellow\nG
 ame Type: Regular\nGame Status: Complete\nHome Team: Ball Buster Juniors\n
 Away Team: Aston Villa\nHome Score: 0\nAway Score: 10
END:VEVENT
BEGIN:VEVENT
UID:15361826@ezleagues.ezfacility.com
DTSTAMP:20260426T035300Z
CREATED:20260426T035300Z
DTSTART:20240119T073000Z
DTEND:20240119T081000Z
LOCATION:003 San Siro
CONTACT:
SUMMARY:Lions VS. Aston Villa
DESCRIPTION:League Name: SUMMER 2023.24 JUNIOR LEAGUES Friday U9s Yellow\nG
 ame Type: Regular\nGame Status: Complete\nHome Team: Lions\nAway Team: Ast
 on Villa\nHome Score: 3\nAway Score: 12
END:VEVENT
BEGIN:VEVENT
UID:15361814@ezleagues.ezfacility.com
DTSTAMP:20260426T035300Z
CREATED:20260426T035300Z
DTSTART:20240202T051500Z
DTEND:20240202T055500Z
LOCATION:008 Ibrox
CONTACT:Jayden
SUMMARY:Aston Villa VS. The Budgie Boys
DESCRIPTION:League Name: SUMMER 2023.24 JUNIOR LEAGUES Friday U9s Yellow\nG
 ame Type: Regular\nGame Status: Complete\nHome Team: Aston Villa\nAway Tea
 m: The Budgie Boys\nHome Score: 13\nAway Score: 3
END:VEVENT
BEGIN:VEVENT
UID:15361819@ezleagues.ezfacility.com
DTSTAMP:20260426T035300Z
CREATED:20260426T035300Z
DTSTART:20240209T051500Z
DTEND:20240209T055500Z
LOCATION:010 Deepdale
CONTACT:
SUMMARY:Aston Villa VS. Brighton
DESCRIPTION:League Name: SUMMER 2023.24 JUNIOR LEAGUES Friday U9s Yellow\nG
 ame Type: Regular\nGame Status: Complete\nHome Team: Aston Villa\nAway Tea
 m: Brighton\nHome Score: 4\nAway Score: 2
END:VEVENT
BEGIN:VEVENT
UID:15361829@ezleagues.ezfacility.com
DTSTAMP:20260426T035300Z
CREATED:20260426T035300Z
DTSTART:20240216T064500Z
DTEND:20240216T072500Z
LOCATION:006 Estadio do Dragao
CONTACT:
SUMMARY:Inter Coastie FC VS. Aston Villa
DESCRIPTION:League Name: SUMMER 2023.24 JUNIOR LEAGUES Friday U9s Yellow\nG
 ame Type: Regular\nGame Status: Complete\nHome Team: Inter Coastie FC\nAwa
 y Team: Aston Villa\nHome Score: 1\nAway Score: 11
END:VEVENT
BEGIN:VEVENT
UID:15559050@ezleagues.ezfacility.com
DTSTAMP:20260426T035300Z
CREATED:20260426T035300Z
DTSTART:20240301T064500Z
DTEND:20240301T072500Z
LOCATION:007 Celtic Park
CONTACT:
SUMMARY:Aston Villa VS. Ball Buster Juniors
DESCRIPTION:League Name: SUMMER 2023.24 JUNIOR LEAGUES Friday U9s Yellow\nG
 ame Type: Postseason\nGame Status: Complete\nHome Team: Aston Villa\nAway 
 Team: Ball Buster Juniors\nHome Score: 10\nAway Score: 0
END:VEVENT
BEGIN:VEVENT
UID:15559054@ezleagues.ezfacility.com
DTSTAMP:20260426T035300Z
CREATED:20260426T035300Z
DTSTART:20240308T064500Z
DTEND:20240308T072500Z
LOCATION:004 La Bombonera
CONTACT:
SUMMARY:Aston Villa VS. Brighton
DESCRIPTION:League Name: SUMMER 2023.24 JUNIOR LEAGUES Friday U9s Yellow\nG
 ame Type: Postseason\nGame Status: Pending\nHome Team: Aston Villa\nAway T
 eam: Brighton\n
END:VEVENT
END:VCALENDAR
