BEGIN:VCALENDAR
VERSION:2.0
PRODID:-//EZFacility.com, Inc.//EZL 2.5.5.28621
BEGIN:VEVENT
UID:15361839@ezleagues.ezfacility.com
DTSTAMP:20260426T033401Z
CREATED:20260426T033401Z
DTSTART:20231103T064500Z
DTEND:20231103T072500Z
LOCATION:008 Ibrox
CONTACT:
SUMMARY:We Pay The Refs FC VS. Terrigal Gunners
DESCRIPTION:League Name: SUMMER 2023.24 JUNIOR LEAGUES Friday U10s Black\nG
 ame Type: Regular\nGame Status: Complete\nHome Team: We Pay The Refs FC\nA
 way Team: Terrigal Gunners\nHome Score: 1\nAway Score: 17
END:VEVENT
BEGIN:VEVENT
UID:15361842@ezleagues.ezfacility.com
DTSTAMP:20260426T033401Z
CREATED:20260426T033401Z
DTSTART:20231110T064500Z
DTEND:20231110T072500Z
LOCATION:010 Deepdale
CONTACT:Jeremy 
SUMMARY:We Pay The Refs FC VS. Athletico Madrid
DESCRIPTION:League Name: SUMMER 2023.24 JUNIOR LEAGUES Friday U10s Black\nG
 ame Type: Regular\nGame Status: Complete\nHome Team: We Pay The Refs FC\nA
 way Team: Athletico Madrid\nHome Score: 6\nAway Score: 9
END:VEVENT
BEGIN:VEVENT
UID:15361845@ezleagues.ezfacility.com
DTSTAMP:20260426T033401Z
CREATED:20260426T033401Z
DTSTART:20231117T073000Z
DTEND:20231117T081000Z
LOCATION:008 Ibrox
CONTACT:
SUMMARY:We Pay The Refs FC VS. Liquid FC
DESCRIPTION:League Name: SUMMER 2023.24 JUNIOR LEAGUES Friday U10s Black\nG
 ame Type: Regular\nGame Status: Complete\nHome Team: We Pay The Refs FC\nA
 way Team: Liquid FC\nHome Score: 0\nAway Score: 8
END:VEVENT
BEGIN:VEVENT
UID:15361848@ezleagues.ezfacility.com
DTSTAMP:20260426T033401Z
CREATED:20260426T033401Z
DTSTART:20231124T060000Z
DTEND:20231124T064000Z
LOCATION:003 San Siro
CONTACT:
SUMMARY:All Starz VS. We Pay The Refs FC
DESCRIPTION:League Name: SUMMER 2023.24 JUNIOR LEAGUES Friday U10s Black\nG
 ame Type: Regular\nGame Status: Complete\nHome Team: All Starz\nAway Team:
  We Pay The Refs FC\nHome Score: 15\nAway Score: 4
END:VEVENT
BEGIN:VEVENT
UID:15361853@ezleagues.ezfacility.com
DTSTAMP:20260426T033401Z
CREATED:20260426T033401Z
DTSTART:20231201T073000Z
DTEND:20231201T081000Z
LOCATION:006 Estadio do Dragao
CONTACT:
SUMMARY:Galaxy VS. We Pay The Refs FC
DESCRIPTION:League Name: SUMMER 2023.24 JUNIOR LEAGUES Friday U10s Black\nG
 ame Type: Regular\nGame Status: Complete\nHome Team: Galaxy\nAway Team: We
  Pay The Refs FC\nHome Score: 10\nAway Score: 0
END:VEVENT
BEGIN:VEVENT
UID:15361858@ezleagues.ezfacility.com
DTSTAMP:20260426T033401Z
CREATED:20260426T033401Z
DTSTART:20231208T060000Z
DTEND:20231208T064000Z
LOCATION:010 Deepdale
CONTACT:Roman
SUMMARY:Barcelona VS. We Pay The Refs FC
DESCRIPTION:League Name: SUMMER 2023.24 JUNIOR LEAGUES Friday U10s Black\nG
 ame Type: Regular\nGame Status: Complete\nHome Team: Barcelona\nAway Team:
  We Pay The Refs FC\nHome Score: 6\nAway Score: 4
END:VEVENT
BEGIN:VEVENT
UID:15361863@ezleagues.ezfacility.com
DTSTAMP:20260426T033401Z
CREATED:20260426T033401Z
DTSTART:20231215T073000Z
DTEND:20231215T081000Z
LOCATION:008 Ibrox
CONTACT:
SUMMARY:We Pay The Refs FC VS. Villareal
DESCRIPTION:League Name: SUMMER 2023.24 JUNIOR LEAGUES Friday U10s Black\nG
 ame Type: Regular\nGame Status: Complete\nHome Team: We Pay The Refs FC\nA
 way Team: Villareal\nHome Score: 6\nAway Score: 2
END:VEVENT
BEGIN:VEVENT
UID:15361867@ezleagues.ezfacility.com
DTSTAMP:20260426T033401Z
CREATED:20260426T033401Z
DTSTART:20231222T064500Z
DTEND:20231222T072500Z
LOCATION:009 Anfield
CONTACT:
SUMMARY:Terrigal Gunners VS. We Pay The Refs FC
DESCRIPTION:League Name: SUMMER 2023.24 JUNIOR LEAGUES Friday U10s Black\nG
 ame Type: Regular\nGame Status: Complete\nHome Team: Terrigal Gunners\nAwa
 y Team: We Pay The Refs FC\nHome Score: 11\nAway Score: 1
END:VEVENT
BEGIN:VEVENT
UID:15361876@ezleagues.ezfacility.com
DTSTAMP:20260426T033401Z
CREATED:20260426T033401Z
DTSTART:20240112T073000Z
DTEND:20240112T081000Z
LOCATION:007 Celtic Park
CONTACT:
SUMMARY:We Pay The Refs FC VS. All Starz
DESCRIPTION:League Name: SUMMER 2023.24 JUNIOR LEAGUES Friday U10s Black\nG
 ame Type: Regular\nGame Status: Complete\nHome Team: We Pay The Refs FC\nA
 way Team: All Starz\nHome Score: 2\nAway Score: 11
END:VEVENT
BEGIN:VEVENT
UID:15361870@ezleagues.ezfacility.com
DTSTAMP:20260426T033401Z
CREATED:20260426T033401Z
DTSTART:20240202T073000Z
DTEND:20240202T081000Z
LOCATION:003 San Siro
CONTACT:Roman
SUMMARY:Athletico Madrid VS. We Pay The Refs FC
DESCRIPTION:League Name: SUMMER 2023.24 JUNIOR LEAGUES Friday U10s Black\nG
 ame Type: Regular\nGame Status: Complete\nHome Team: Athletico Madrid\nAwa
 y Team: We Pay The Refs FC\nHome Score: 10\nAway Score: 2
END:VEVENT
BEGIN:VEVENT
UID:15361873@ezleagues.ezfacility.com
DTSTAMP:20260426T033401Z
CREATED:20260426T033401Z
DTSTART:20240209T073000Z
DTEND:20240209T081000Z
LOCATION:006 Estadio do Dragao
CONTACT:
SUMMARY:Liquid FC VS. We Pay The Refs FC
DESCRIPTION:League Name: SUMMER 2023.24 JUNIOR LEAGUES Friday U10s Black\nG
 ame Type: Regular\nGame Status: Complete\nHome Team: Liquid FC\nAway Team:
  We Pay The Refs FC\nHome Score: 7\nAway Score: 1
END:VEVENT
BEGIN:VEVENT
UID:15361886@ezleagues.ezfacility.com
DTSTAMP:20260426T033401Z
CREATED:20260426T033401Z
DTSTART:20240216T064500Z
DTEND:20240216T072500Z
LOCATION:008 Ibrox
CONTACT:
SUMMARY:We Pay The Refs FC VS. Barcelona
DESCRIPTION:League Name: SUMMER 2023.24 JUNIOR LEAGUES Friday U10s Black\nG
 ame Type: Regular\nGame Status: Complete\nHome Team: We Pay The Refs FC\nA
 way Team: Barcelona\nHome Score: 6\nAway Score: 2
END:VEVENT
BEGIN:VEVENT
UID:15559059@ezleagues.ezfacility.com
DTSTAMP:20260426T033401Z
CREATED:20260426T033401Z
DTSTART:20240301T073000Z
DTEND:20240301T081000Z
LOCATION:007 Celtic Park
CONTACT:
SUMMARY:Barcelona VS. We Pay The Refs FC
DESCRIPTION:League Name: SUMMER 2023.24 JUNIOR LEAGUES Friday U10s Black\nG
 ame Type: Postseason\nGame Status: Complete\nHome Team: Barcelona\nAway Te
 am: We Pay The Refs FC\nHome Score: 3\nAway Score: 7
END:VEVENT
BEGIN:VEVENT
UID:15559061@ezleagues.ezfacility.com
DTSTAMP:20260426T033401Z
CREATED:20260426T033401Z
DTSTART:20240308T064500Z
DTEND:20240308T072500Z
LOCATION:007 Celtic Park
CONTACT:
SUMMARY:Athletico Madrid VS. We Pay The Refs FC
DESCRIPTION:League Name: SUMMER 2023.24 JUNIOR LEAGUES Friday U10s Black\nG
 ame Type: Postseason\nGame Status: Pending\nHome Team: Athletico Madrid\nA
 way Team: We Pay The Refs FC\n
END:VEVENT
END:VCALENDAR
