BEGIN:VCALENDAR
VERSION:2.0
PRODID:-//EZFacility.com, Inc.//EZL 2.5.5.28621
BEGIN:VEVENT
UID:15362010@ezleagues.ezfacility.com
DTSTAMP:20260426T033403Z
CREATED:20260426T033403Z
DTSTART:20231103T064500Z
DTEND:20231103T072500Z
LOCATION:010 Deepdale
CONTACT:Jesse
SUMMARY:Mini Matilda’s VS. Bayern Munich
DESCRIPTION:League Name: SUMMER 2023.24 JUNIOR LEAGUES Friday U11s Yellow\n
 Game Type: Regular\nGame Status: Complete\nHome Team: Mini Matilda’s\nAw
 ay Team: Bayern Munich\nHome Score: 1\nAway Score: 19
END:VEVENT
BEGIN:VEVENT
UID:15362014@ezleagues.ezfacility.com
DTSTAMP:20260426T033403Z
CREATED:20260426T033403Z
DTSTART:20231110T081500Z
DTEND:20231110T085500Z
LOCATION:008 Ibrox
CONTACT:
SUMMARY:Liquid FC VS. Bayern Munich
DESCRIPTION:League Name: SUMMER 2023.24 JUNIOR LEAGUES Friday U11s Yellow\n
 Game Type: Regular\nGame Status: Complete\nHome Team: Liquid FC\nAway Team
 : Bayern Munich\nHome Score: 0\nAway Score: 10
END:VEVENT
BEGIN:VEVENT
UID:15362017@ezleagues.ezfacility.com
DTSTAMP:20260426T033403Z
CREATED:20260426T033403Z
DTSTART:20231117T081500Z
DTEND:20231117T085500Z
LOCATION:006 Estadio do Dragao
CONTACT:
SUMMARY:Bayern Munich VS. Black Rapids
DESCRIPTION:League Name: SUMMER 2023.24 JUNIOR LEAGUES Friday U11s Yellow\n
 Game Type: Regular\nGame Status: Complete\nHome Team: Bayern Munich\nAway 
 Team: Black Rapids\nHome Score: 17\nAway Score: 4
END:VEVENT
BEGIN:VEVENT
UID:15362019@ezleagues.ezfacility.com
DTSTAMP:20260426T033403Z
CREATED:20260426T033403Z
DTSTART:20231124T081500Z
DTEND:20231124T085500Z
LOCATION:009 Anfield
CONTACT:
SUMMARY:Bayern Munich VS. RB Leipzig
DESCRIPTION:League Name: SUMMER 2023.24 JUNIOR LEAGUES Friday U11s Yellow\n
 Game Type: Regular\nGame Status: Complete\nHome Team: Bayern Munich\nAway 
 Team: RB Leipzig\nHome Score: 9\nAway Score: 5
END:VEVENT
BEGIN:VEVENT
UID:15362021@ezleagues.ezfacility.com
DTSTAMP:20260426T033403Z
CREATED:20260426T033403Z
DTSTART:20231201T081500Z
DTEND:20231201T085500Z
LOCATION:005 Nou Camp
CONTACT:
SUMMARY:Barca bros VS. Bayern Munich
DESCRIPTION:League Name: SUMMER 2023.24 JUNIOR LEAGUES Friday U11s Yellow\n
 Game Type: Regular\nGame Status: Complete\nHome Team: Barca bros\nAway Tea
 m: Bayern Munich\nHome Score: 4\nAway Score: 14
END:VEVENT
BEGIN:VEVENT
UID:15362025@ezleagues.ezfacility.com
DTSTAMP:20260426T033403Z
CREATED:20260426T033403Z
DTSTART:20231208T081500Z
DTEND:20231208T085500Z
LOCATION:005 Nou Camp
CONTACT:
SUMMARY:Bayern Munich VS. Mini Matilda’s
DESCRIPTION:League Name: SUMMER 2023.24 JUNIOR LEAGUES Friday U11s Yellow\n
 Game Type: Regular\nGame Status: Complete\nHome Team: Bayern Munich\nAway 
 Team: Mini Matilda’s\nHome Score: 10\nAway Score: 0
END:VEVENT
BEGIN:VEVENT
UID:15362029@ezleagues.ezfacility.com
DTSTAMP:20260426T033403Z
CREATED:20260426T033403Z
DTSTART:20231215T081500Z
DTEND:20231215T085500Z
LOCATION:008 Ibrox
CONTACT:
SUMMARY:Bayern Munich VS. CROCS N SOCKS
DESCRIPTION:League Name: SUMMER 2023.24 JUNIOR LEAGUES Friday U11s Yellow\n
 Game Type: Regular\nGame Status: Complete\nHome Team: Bayern Munich\nAway 
 Team: CROCS N SOCKS\nHome Score: 10\nAway Score: 0
END:VEVENT
BEGIN:VEVENT
UID:15362032@ezleagues.ezfacility.com
DTSTAMP:20260426T033403Z
CREATED:20260426T033403Z
DTSTART:20231222T081500Z
DTEND:20231222T085500Z
LOCATION:008 Ibrox
CONTACT:
SUMMARY:Black Rapids VS. Bayern Munich
DESCRIPTION:League Name: SUMMER 2023.24 JUNIOR LEAGUES Friday U11s Yellow\n
 Game Type: Regular\nGame Status: Complete\nHome Team: Black Rapids\nAway T
 eam: Bayern Munich\nHome Score: 0\nAway Score: 10
END:VEVENT
BEGIN:VEVENT
UID:15362040@ezleagues.ezfacility.com
DTSTAMP:20260426T033403Z
CREATED:20260426T033403Z
DTSTART:20240112T081500Z
DTEND:20240112T085500Z
LOCATION:004 La Bombonera
CONTACT:
SUMMARY:Bayern Munich VS. Mini Matilda’s
DESCRIPTION:League Name: SUMMER 2023.24 JUNIOR LEAGUES Friday U11s Yellow\n
 Game Type: Regular\nGame Status: Complete\nHome Team: Bayern Munich\nAway 
 Team: Mini Matilda’s\nHome Score: 7\nAway Score: 1
END:VEVENT
BEGIN:VEVENT
UID:15362044@ezleagues.ezfacility.com
DTSTAMP:20260426T033403Z
CREATED:20260426T033403Z
DTSTART:20240119T073000Z
DTEND:20240119T081000Z
LOCATION:005 Nou Camp
CONTACT:Eli
SUMMARY:Bayern Munich VS. Real Madrid
DESCRIPTION:League Name: SUMMER 2023.24 JUNIOR LEAGUES Friday U11s Yellow\n
 Game Type: Regular\nGame Status: Complete\nHome Team: Bayern Munich\nAway 
 Team: Real Madrid\nHome Score: 10\nAway Score: 0
END:VEVENT
BEGIN:VEVENT
UID:15362034@ezleagues.ezfacility.com
DTSTAMP:20260426T033403Z
CREATED:20260426T033403Z
DTSTART:20240202T081500Z
DTEND:20240202T085500Z
LOCATION:008 Ibrox
CONTACT:Jayden
SUMMARY:RB Leipzig VS. Bayern Munich
DESCRIPTION:League Name: SUMMER 2023.24 JUNIOR LEAGUES Friday U11s Yellow\n
 Game Type: Regular\nGame Status: Complete\nHome Team: RB Leipzig\nAway Tea
 m: Bayern Munich\nHome Score: 7\nAway Score: 10
END:VEVENT
BEGIN:VEVENT
UID:15362036@ezleagues.ezfacility.com
DTSTAMP:20260426T033403Z
CREATED:20260426T033403Z
DTSTART:20240209T081500Z
DTEND:20240209T085500Z
LOCATION:009 Anfield
CONTACT:Kian
SUMMARY:Barca bros VS. Bayern Munich
DESCRIPTION:League Name: SUMMER 2023.24 JUNIOR LEAGUES Friday U11s Yellow\n
 Game Type: Regular\nGame Status: Complete\nHome Team: Barca bros\nAway Tea
 m: Bayern Munich\nHome Score: 5\nAway Score: 9
END:VEVENT
BEGIN:VEVENT
UID:15362047@ezleagues.ezfacility.com
DTSTAMP:20260426T033403Z
CREATED:20260426T033403Z
DTSTART:20240216T081500Z
DTEND:20240216T085500Z
LOCATION:007 Celtic Park
CONTACT:Roman
SUMMARY:Black Rapids VS. Bayern Munich
DESCRIPTION:League Name: SUMMER 2023.24 JUNIOR LEAGUES Friday U11s Yellow\n
 Game Type: Regular\nGame Status: Complete\nHome Team: Black Rapids\nAway T
 eam: Bayern Munich\nHome Score: 2\nAway Score: 8
END:VEVENT
BEGIN:VEVENT
UID:15559074@ezleagues.ezfacility.com
DTSTAMP:20260426T033403Z
CREATED:20260426T033403Z
DTSTART:20240301T081500Z
DTEND:20240301T085500Z
LOCATION:004 La Bombonera
CONTACT:Roman
SUMMARY:Bayern Munich VS. Black Rapids
DESCRIPTION:League Name: SUMMER 2023.24 JUNIOR LEAGUES Friday U11s Yellow\n
 Game Type: Postseason\nGame Status: Complete\nHome Team: Bayern Munich\nAw
 ay Team: Black Rapids\nHome Score: 7\nAway Score: 1
END:VEVENT
BEGIN:VEVENT
UID:15559077@ezleagues.ezfacility.com
DTSTAMP:20260426T033403Z
CREATED:20260426T033403Z
DTSTART:20240308T073000Z
DTEND:20240308T081000Z
LOCATION:006 Estadio do Dragao
CONTACT:
SUMMARY:Bayern Munich VS. RB Leipzig
DESCRIPTION:League Name: SUMMER 2023.24 JUNIOR LEAGUES Friday U11s Yellow\n
 Game Type: Postseason\nGame Status: Pending\nHome Team: Bayern Munich\nAwa
 y Team: RB Leipzig\n
END:VEVENT
END:VCALENDAR
