BEGIN:VCALENDAR
VERSION:2.0
PRODID:-//EZFacility.com, Inc.//EZL 2.5.5.28621
BEGIN:VEVENT
UID:15362336@ezleagues.ezfacility.com
DTSTAMP:20260421T172225Z
CREATED:20260421T172225Z
DTSTART:20231103T101500Z
DTEND:20231103T105500Z
LOCATION: 002 Maracana
CONTACT:
SUMMARY:Unathletico VS. SCFC
DESCRIPTION:League Name: SUMMER 2023.24 SENIOR LEAGUES Friday Men's 7s-Divi
 sion 2\nGame Type: Regular\nGame Status: Complete\nHome Team: Unathletico\
 nAway Team: SCFC\nHome Score: 13\nAway Score: 2
END:VEVENT
BEGIN:VEVENT
UID:15362338@ezleagues.ezfacility.com
DTSTAMP:20260421T172225Z
CREATED:20260421T172225Z
DTSTART:20231110T093000Z
DTEND:20231110T101000Z
LOCATION: 001 Wembley Stadium
CONTACT:
SUMMARY:Unathletico VS. Ron Dogs Regiment
DESCRIPTION:League Name: SUMMER 2023.24 SENIOR LEAGUES Friday Men's 7s-Divi
 sion 2\nGame Type: Regular\nGame Status: Complete\nHome Team: Unathletico\
 nAway Team: Ron Dogs Regiment\nHome Score: 6\nAway Score: 9
END:VEVENT
BEGIN:VEVENT
UID:15362340@ezleagues.ezfacility.com
DTSTAMP:20260421T172225Z
CREATED:20260421T172225Z
DTSTART:20231117T020000Z
DTEND:20231117T024000Z
LOCATION: 001 Wembley Stadium
CONTACT:AA
SUMMARY:Beamans Battalion VS. Unathletico
DESCRIPTION:League Name: SUMMER 2023.24 SENIOR LEAGUES Friday Men's 7s-Divi
 sion 2\nGame Type: Regular\nGame Status: Complete\nHome Team: Beamans Batt
 alion\nAway Team: Unathletico\nHome Score: 0\nAway Score: 10
END:VEVENT
BEGIN:VEVENT
UID:15362344@ezleagues.ezfacility.com
DTSTAMP:20260421T172225Z
CREATED:20260421T172225Z
DTSTART:20231124T093000Z
DTEND:20231124T101000Z
LOCATION: 001 Wembley Stadium
CONTACT:Greg
SUMMARY:Greek salad fc VS. Unathletico
DESCRIPTION:League Name: SUMMER 2023.24 SENIOR LEAGUES Friday Men's 7s-Divi
 sion 2\nGame Type: Regular\nGame Status: Complete\nHome Team: Greek salad 
 fc\nAway Team: Unathletico\nHome Score: 6\nAway Score: 5
END:VEVENT
BEGIN:VEVENT
UID:15362348@ezleagues.ezfacility.com
DTSTAMP:20260421T172225Z
CREATED:20260421T172225Z
DTSTART:20231201T093000Z
DTEND:20231201T101000Z
LOCATION: 001 Wembley Stadium
CONTACT:
SUMMARY:The Ballers VS. Unathletico
DESCRIPTION:League Name: SUMMER 2023.24 SENIOR LEAGUES Friday Men's 7s-Divi
 sion 2\nGame Type: Regular\nGame Status: Complete\nHome Team: The Ballers\
 nAway Team: Unathletico\nHome Score: 16\nAway Score: 6
END:VEVENT
BEGIN:VEVENT
UID:15362351@ezleagues.ezfacility.com
DTSTAMP:20260421T172225Z
CREATED:20260421T172225Z
DTSTART:20231208T093000Z
DTEND:20231208T101000Z
LOCATION: 002 Maracana
CONTACT:
SUMMARY:SCFC VS. Unathletico
DESCRIPTION:League Name: SUMMER 2023.24 SENIOR LEAGUES Friday Men's 7s-Divi
 sion 2\nGame Type: Regular\nGame Status: Complete\nHome Team: SCFC\nAway T
 eam: Unathletico\nHome Score: 4\nAway Score: 10
END:VEVENT
BEGIN:VEVENT
UID:15362353@ezleagues.ezfacility.com
DTSTAMP:20260421T172225Z
CREATED:20260421T172225Z
DTSTART:20231215T093000Z
DTEND:20231215T101000Z
LOCATION: 001 Wembley Stadium
CONTACT:Cooper
SUMMARY:Ron Dogs Regiment VS. Unathletico
DESCRIPTION:League Name: SUMMER 2023.24 SENIOR LEAGUES Friday Men's 7s-Divi
 sion 2\nGame Type: Regular\nGame Status: Complete\nHome Team: Ron Dogs Reg
 iment\nAway Team: Unathletico\nHome Score: 7\nAway Score: 3
END:VEVENT
BEGIN:VEVENT
UID:15362355@ezleagues.ezfacility.com
DTSTAMP:20260421T172225Z
CREATED:20260421T172225Z
DTSTART:20231222T101500Z
DTEND:20231222T105500Z
LOCATION: 001 Wembley Stadium
CONTACT:
SUMMARY:Unathletico VS. Beamans Battalion
DESCRIPTION:League Name: SUMMER 2023.24 SENIOR LEAGUES Friday Men's 7s-Divi
 sion 2\nGame Type: Regular\nGame Status: Complete\nHome Team: Unathletico\
 nAway Team: Beamans Battalion\nHome Score: 4\nAway Score: 5
END:VEVENT
BEGIN:VEVENT
UID:15362366@ezleagues.ezfacility.com
DTSTAMP:20260421T172225Z
CREATED:20260421T172225Z
DTSTART:20240112T093000Z
DTEND:20240112T101000Z
LOCATION: 002 Maracana
CONTACT:
SUMMARY:SCFC VS. Unathletico
DESCRIPTION:League Name: SUMMER 2023.24 SENIOR LEAGUES Friday Men's 7s-Divi
 sion 2\nGame Type: Regular\nGame Status: Complete\nHome Team: SCFC\nAway T
 eam: Unathletico\nHome Score: 10\nAway Score: 11
END:VEVENT
BEGIN:VEVENT
UID:15362368@ezleagues.ezfacility.com
DTSTAMP:20260421T172225Z
CREATED:20260421T172225Z
DTSTART:20240119T101500Z
DTEND:20240119T105500Z
LOCATION: 001 Wembley Stadium
CONTACT:
SUMMARY:Ron Dogs Regiment VS. Unathletico
DESCRIPTION:League Name: SUMMER 2023.24 SENIOR LEAGUES Friday Men's 7s-Divi
 sion 2\nGame Type: Regular\nGame Status: Complete\nHome Team: Ron Dogs Reg
 iment\nAway Team: Unathletico\nHome Score: 8\nAway Score: 5
END:VEVENT
BEGIN:VEVENT
UID:15362359@ezleagues.ezfacility.com
DTSTAMP:20260421T172225Z
CREATED:20260421T172225Z
DTSTART:20240202T101500Z
DTEND:20240202T105500Z
LOCATION: 001 Wembley Stadium
CONTACT:Greg
SUMMARY:Unathletico VS. Greek salad fc
DESCRIPTION:League Name: SUMMER 2023.24 SENIOR LEAGUES Friday Men's 7s-Divi
 sion 2\nGame Type: Regular\nGame Status: Complete\nHome Team: Unathletico\
 nAway Team: Greek salad fc\nHome Score: 10\nAway Score: 0
END:VEVENT
BEGIN:VEVENT
UID:15362363@ezleagues.ezfacility.com
DTSTAMP:20260421T172225Z
CREATED:20260421T172225Z
DTSTART:20240209T101500Z
DTEND:20240209T105500Z
LOCATION: 001 Wembley Stadium
CONTACT:Greg
SUMMARY:Unathletico VS. The Ballers
DESCRIPTION:League Name: SUMMER 2023.24 SENIOR LEAGUES Friday Men's 7s-Divi
 sion 2\nGame Type: Regular\nGame Status: Complete\nHome Team: Unathletico\
 nAway Team: The Ballers\nHome Score: 7\nAway Score: 18
END:VEVENT
BEGIN:VEVENT
UID:15362370@ezleagues.ezfacility.com
DTSTAMP:20260421T172225Z
CREATED:20260421T172225Z
DTSTART:20240216T084500Z
DTEND:20240216T092500Z
LOCATION: 002 Maracana
CONTACT:
SUMMARY:Unathletico VS. Beamans Battalion
DESCRIPTION:League Name: SUMMER 2023.24 SENIOR LEAGUES Friday Men's 7s-Divi
 sion 2\nGame Type: Regular\nGame Status: Complete\nHome Team: Unathletico\
 nAway Team: Beamans Battalion\nHome Score: 7\nAway Score: 4
END:VEVENT
BEGIN:VEVENT
UID:15556589@ezleagues.ezfacility.com
DTSTAMP:20260421T172225Z
CREATED:20260421T172225Z
DTSTART:20240223T084500Z
DTEND:20240223T092500Z
LOCATION: 002 Maracana
CONTACT:
SUMMARY:Ron Dogs Regiment VS. Unathletico
DESCRIPTION:League Name: SUMMER 2023.24 SENIOR LEAGUES Friday Men's 7s-Divi
 sion 2\nGame Type: Postseason\nGame Status: Complete\nHome Team: Ron Dogs 
 Regiment\nAway Team: Unathletico\nHome Score: 5\nAway Score: 3
END:VEVENT
END:VCALENDAR
