BEGIN:VCALENDAR
VERSION:2.0
PRODID:-//EZFacility.com, Inc.//EZL 2.5.5.28621
BEGIN:VEVENT
UID:15364290@ezleagues.ezfacility.com
DTSTAMP:20260424T044330Z
CREATED:20260424T044330Z
DTSTART:20231111T221000Z
DTEND:20231111T231000Z
LOCATION:RCF East - Portland
CONTACT:
SUMMARY:Kalif FC VS. RCF Select 2015 Boys
DESCRIPTION:League Name: Winter 1 5v5-Boys U10 D1\nGame Type: Regular\nGame
  Status: Complete\nHome Team: Kalif FC\nAway Team: RCF Select 2015 Boys\nH
 ome Score: 10\nAway Score: 4
END:VEVENT
BEGIN:VEVENT
UID:15364285@ezleagues.ezfacility.com
DTSTAMP:20260424T044330Z
CREATED:20260424T044330Z
DTSTART:20231119T173000Z
DTEND:20231119T183000Z
LOCATION:RCF West - Montevideo
CONTACT:
SUMMARY:Kalif FC VS. LOSC Team 2
DESCRIPTION:League Name: Winter 1 5v5-Boys U10 D1\nGame Type: Regular\nGame
  Status: Complete\nHome Team: Kalif FC\nAway Team: LOSC Team 2\nHome Score
 : 5\nAway Score: 6
END:VEVENT
BEGIN:VEVENT
UID:15364300@ezleagues.ezfacility.com
DTSTAMP:20260424T044330Z
CREATED:20260424T044330Z
DTSTART:20231203T183000Z
DTEND:20231203T193000Z
LOCATION:RCF East - Rio
CONTACT:
SUMMARY:Kalif FC VS. The Vicious Aardvarks
DESCRIPTION:League Name: Winter 1 5v5-Boys U10 D1\nGame Type: Regular\nGame
  Status: Complete\nHome Team: Kalif FC\nAway Team: The Vicious Aardvarks\n
 Home Score: 9\nAway Score: 2
END:VEVENT
BEGIN:VEVENT
UID:15364305@ezleagues.ezfacility.com
DTSTAMP:20260424T044330Z
CREATED:20260424T044330Z
DTSTART:20231210T203000Z
DTEND:20231210T213000Z
LOCATION:RCF West - Montevideo
CONTACT:
SUMMARY:Typical Gamers VS. Kalif FC
DESCRIPTION:League Name: Winter 1 5v5-Boys U10 D1\nGame Type: Regular\nGame
  Status: Complete\nHome Team: Typical Gamers\nAway Team: Kalif FC\nHome Sc
 ore: 2\nAway Score: 8
END:VEVENT
BEGIN:VEVENT
UID:15364310@ezleagues.ezfacility.com
DTSTAMP:20260424T044330Z
CREATED:20260424T044330Z
DTSTART:20231217T175000Z
DTEND:20231217T185000Z
LOCATION:RCF East - Barcelona
CONTACT:
SUMMARY:Starburst VS. Kalif FC
DESCRIPTION:League Name: Winter 1 5v5-Boys U10 D1\nGame Type: Regular\nGame
  Status: Complete\nHome Team: Starburst\nAway Team: Kalif FC\nHome Score: 
 0\nAway Score: 7
END:VEVENT
BEGIN:VEVENT
UID:15364295@ezleagues.ezfacility.com
DTSTAMP:20260424T044330Z
CREATED:20260424T044330Z
DTSTART:20240107T195000Z
DTEND:20240107T205000Z
LOCATION:RCF East - Barcelona
CONTACT:
SUMMARY:Kalif FC VS. SESC Raptors Blue
DESCRIPTION:League Name: Winter 1 5v5-Boys U10 D1\nGame Type: Regular\nGame
  Status: Complete\nHome Team: Kalif FC\nAway Team: SESC Raptors Blue\nHome
  Score: 8\nAway Score: 5
END:VEVENT
BEGIN:VEVENT
UID:15364320@ezleagues.ezfacility.com
DTSTAMP:20260424T044330Z
CREATED:20260424T044330Z
DTSTART:20240121T201000Z
DTEND:20240121T211000Z
LOCATION:RCF West - Buenos Aires
CONTACT:
SUMMARY:LYS Red 2014B VS. Kalif FC
DESCRIPTION:League Name: Winter 1 5v5-Boys U10 D1\nGame Type: Regular\nGame
  Status: Complete\nHome Team: LYS Red 2014B\nAway Team: Kalif FC\nHome Sco
 re: 4\nAway Score: 11
END:VEVENT
BEGIN:VEVENT
UID:15364315@ezleagues.ezfacility.com
DTSTAMP:20260424T044330Z
CREATED:20260424T044330Z
DTSTART:20240204T205000Z
DTEND:20240204T215000Z
LOCATION:RCF West - Tigard
CONTACT:
SUMMARY:Saints 14B Cruz VS. Kalif FC
DESCRIPTION:League Name: Winter 1 5v5-Boys U10 D1\nGame Type: Regular\nGame
  Status: Complete\nHome Team: Saints 14B Cruz\nAway Team: Kalif FC\nHome S
 core: 4\nAway Score: 10
END:VEVENT
END:VCALENDAR
