BEGIN:VCALENDAR
VERSION:2.0
PRODID:-//EZFacility.com, Inc.//EZL 2.5.5.28621
BEGIN:VEVENT
UID:15364661@ezleagues.ezfacility.com
DTSTAMP:20260423T071528Z
CREATED:20260423T071528Z
DTSTART:20231112T015000Z
DTEND:20231112T025000Z
LOCATION:RCF West - Tigard
CONTACT:
SUMMARY:Guards VS. Mountain Lions 10
DESCRIPTION:League Name: Winter 1 5v5-Boys U16\nGame Type: Regular\nGame St
 atus: Complete\nHome Team: Guards\nAway Team: Mountain Lions 10\nHome Scor
 e: 5\nAway Score: 7
END:VEVENT
BEGIN:VEVENT
UID:15364758@ezleagues.ezfacility.com
DTSTAMP:20260423T071528Z
CREATED:20260423T071528Z
DTSTART:20231210T031000Z
DTEND:20231210T041000Z
LOCATION:RCF West - Buenos Aires
CONTACT:
SUMMARY:RCF Select 2009 Boys VS. Mountain Lions 10
DESCRIPTION:League Name: Winter 1 5v5-Boys U16\nGame Type: Regular\nGame St
 atus: Complete\nHome Team: RCF Select 2009 Boys\nAway Team: Mountain Lions
  10\nHome Score: 4\nAway Score: 4
END:VEVENT
BEGIN:VEVENT
UID:15364686@ezleagues.ezfacility.com
DTSTAMP:20260423T071528Z
CREATED:20260423T071528Z
DTSTART:20231211T011000Z
DTEND:20231211T021000Z
LOCATION:RCF East - Portland
CONTACT:
SUMMARY:Mountain Lions 10 VS. Sunday League Strikers
DESCRIPTION:League Name: Winter 1 5v5-Boys U16\nGame Type: Regular\nGame St
 atus: Complete\nHome Team: Mountain Lions 10\nAway Team: Sunday League Str
 ikers\nHome Score: 3\nAway Score: 7
END:VEVENT
BEGIN:VEVENT
UID:15364781@ezleagues.ezfacility.com
DTSTAMP:20260423T071528Z
CREATED:20260423T071528Z
DTSTART:20231217T015000Z
DTEND:20231217T025000Z
LOCATION:RCF East - Barcelona
CONTACT:
SUMMARY:Mountain Lions 10 VS. Guards
DESCRIPTION:League Name: Winter 1 5v5-Boys U16\nGame Type: Regular\nGame St
 atus: Complete\nHome Team: Mountain Lions 10\nAway Team: Guards\nHome Scor
 e: 4\nAway Score: 4
END:VEVENT
BEGIN:VEVENT
UID:15364735@ezleagues.ezfacility.com
DTSTAMP:20260423T071528Z
CREATED:20260423T071528Z
DTSTART:20231218T015000Z
DTEND:20231218T025000Z
LOCATION:RCF East - Barcelona
CONTACT:
SUMMARY:SCA Team Joe VS. Mountain Lions 10
DESCRIPTION:League Name: Winter 1 5v5-Boys U16\nGame Type: Regular\nGame St
 atus: Complete\nHome Team: SCA Team Joe\nAway Team: Mountain Lions 10\nHom
 e Score: 10\nAway Score: 4
END:VEVENT
BEGIN:VEVENT
UID:15364711@ezleagues.ezfacility.com
DTSTAMP:20260423T071528Z
CREATED:20260423T071528Z
DTSTART:20240107T011000Z
DTEND:20240107T021000Z
LOCATION:RCF East - Portland
CONTACT:
SUMMARY:Kalif FC VS. Mountain Lions 10
DESCRIPTION:League Name: Winter 1 5v5-Boys U16\nGame Type: Regular\nGame St
 atus: Complete\nHome Team: Kalif FC\nAway Team: Mountain Lions 10\nHome Sc
 ore: 6\nAway Score: 6
END:VEVENT
BEGIN:VEVENT
UID:15364806@ezleagues.ezfacility.com
DTSTAMP:20260423T071528Z
CREATED:20260423T071528Z
DTSTART:20240108T013000Z
DTEND:20240108T023000Z
LOCATION:RCF West - Montevideo
CONTACT:
SUMMARY:Mountain Lions 10 VS. Sunday League Strikers
DESCRIPTION:League Name: Winter 1 5v5-Boys U16\nGame Type: Regular\nGame St
 atus: Complete\nHome Team: Mountain Lions 10\nAway Team: Sunday League Str
 ikers\nHome Score: 3\nAway Score: 9
END:VEVENT
BEGIN:VEVENT
UID:15364831@ezleagues.ezfacility.com
DTSTAMP:20260423T071528Z
CREATED:20260423T071528Z
DTSTART:20240217T235000Z
DTEND:20240218T005000Z
LOCATION:RCF West - Tigard
CONTACT:
SUMMARY:Mountain Lions 10 VS. Kalif FC
DESCRIPTION:League Name: Winter 1 5v5-Boys U16\nGame Type: Regular\nGame St
 atus: Complete\nHome Team: Mountain Lions 10\nAway Team: Kalif FC\nHome Sc
 ore: 5\nAway Score: 5
END:VEVENT
END:VCALENDAR
