BEGIN:VCALENDAR
VERSION:2.0
PRODID:-//EZFacility.com, Inc.//EZL 2.5.5.28621
BEGIN:VEVENT
UID:15372339@ezleagues.ezfacility.com
DTSTAMP:20260425T213249Z
CREATED:20260425T213249Z
DTSTART:20231111T030000Z
DTEND:20231111T040000Z
LOCATION:Harmans Premier Field #4
CONTACT:
SUMMARY:The International Ladies VS. Lightning - black
DESCRIPTION:League Name: Fri D2 Moms\nGame Type: Regular\nGame Status: Comp
 lete\nHome Team: The International Ladies\nAway Team: Lightning - black\nH
 ome Score: 8\nAway Score: 4
END:VEVENT
BEGIN:VEVENT
UID:15372343@ezleagues.ezfacility.com
DTSTAMP:20260425T213249Z
CREATED:20260425T213249Z
DTSTART:20231118T030000Z
DTEND:20231118T040000Z
LOCATION:Harmans Premier Field #4
CONTACT:
SUMMARY:Lightning - black VS. Lady Ballers - green
DESCRIPTION:League Name: Fri D2 Moms\nGame Type: Regular\nGame Status: Comp
 lete\nHome Team: Lightning - black\nAway Team: Lady Ballers - green\nHome 
 Score: 0\nAway Score: 0
END:VEVENT
BEGIN:VEVENT
UID:15372347@ezleagues.ezfacility.com
DTSTAMP:20260425T213249Z
CREATED:20260425T213249Z
DTSTART:20231202T010000Z
DTEND:20231202T020000Z
LOCATION:Harmans Premier Field #4
CONTACT:
SUMMARY:Lightning - black VS. Lady Ballers - green
DESCRIPTION:League Name: Fri D2 Moms\nGame Type: Regular\nGame Status: Comp
 lete\nHome Team: Lightning - black\nAway Team: Lady Ballers - green\nHome 
 Score: 2\nAway Score: 2
END:VEVENT
BEGIN:VEVENT
UID:15372346@ezleagues.ezfacility.com
DTSTAMP:20260425T213249Z
CREATED:20260425T213249Z
DTSTART:20231209T020000Z
DTEND:20231209T030000Z
LOCATION:Harmans Premier Field #4
CONTACT:
SUMMARY:Comets - neon orange VS. Lightning - black
DESCRIPTION:League Name: Fri D2 Moms\nGame Type: Regular\nGame Status: Comp
 lete\nHome Team: Comets - neon orange\nAway Team: Lightning - black\nHome 
 Score: 3\nAway Score: 3
END:VEVENT
BEGIN:VEVENT
UID:15372352@ezleagues.ezfacility.com
DTSTAMP:20260425T213249Z
CREATED:20260425T213249Z
DTSTART:20231216T010000Z
DTEND:20231216T020000Z
LOCATION:Harmans Premier Field #4
CONTACT:
SUMMARY:Los Toxicas - white/pink VS. Lightning - black
DESCRIPTION:League Name: Fri D2 Moms\nGame Type: Regular\nGame Status: Comp
 lete\nHome Team: Los Toxicas - white/pink\nAway Team: Lightning - black\nH
 ome Score: 2\nAway Score: 7
END:VEVENT
BEGIN:VEVENT
UID:15372357@ezleagues.ezfacility.com
DTSTAMP:20260425T213249Z
CREATED:20260425T213249Z
DTSTART:20240106T020000Z
DTEND:20240106T030000Z
LOCATION:Harmans Premier Field #4
CONTACT:
SUMMARY:Lightning - black VS. ADJE Athletics - gray
DESCRIPTION:League Name: Fri D2 Moms\nGame Type: Regular\nGame Status: Comp
 lete\nHome Team: Lightning - black\nAway Team: ADJE Athletics - gray\nHome
  Score: 2\nAway Score: 4
END:VEVENT
BEGIN:VEVENT
UID:15372362@ezleagues.ezfacility.com
DTSTAMP:20260425T213249Z
CREATED:20260425T213249Z
DTSTART:20240113T000000Z
DTEND:20240113T010000Z
LOCATION:Harmans Premier Field #4
CONTACT:
SUMMARY:Lightning - black VS. Union Azteca - black
DESCRIPTION:League Name: Fri D2 Moms\nGame Type: Regular\nGame Status: Comp
 lete\nHome Team: Lightning - black\nAway Team: Union Azteca - black\nHome 
 Score: 0\nAway Score: 3
END:VEVENT
BEGIN:VEVENT
UID:15372371@ezleagues.ezfacility.com
DTSTAMP:20260425T213249Z
CREATED:20260425T213249Z
DTSTART:20240127T010000Z
DTEND:20240127T020000Z
LOCATION:Harmans Premier Field #4
CONTACT:
SUMMARY:Lady Ballers - green VS. Lightning - black
DESCRIPTION:League Name: Fri D2 Moms\nGame Type: Regular\nGame Status: Comp
 lete\nHome Team: Lady Ballers - green\nAway Team: Lightning - black\nHome 
 Score: 2\nAway Score: 5
END:VEVENT
BEGIN:VEVENT
UID:15372367@ezleagues.ezfacility.com
DTSTAMP:20260425T213249Z
CREATED:20260425T213249Z
DTSTART:20240203T010000Z
DTEND:20240203T020000Z
LOCATION:Harmans Premier Field #4
CONTACT:
SUMMARY:Lightning - black VS. The International Ladies
DESCRIPTION:League Name: Fri D2 Moms\nGame Type: Regular\nGame Status: Comp
 lete\nHome Team: Lightning - black\nAway Team: The International Ladies\nH
 ome Score: 4\nAway Score: 9
END:VEVENT
END:VCALENDAR
