BEGIN:VCALENDAR
VERSION:2.0
PRODID:-//EZFacility.com, Inc.//EZL 2.5.5.28621
BEGIN:VEVENT
UID:15375963@ezleagues.ezfacility.com
DTSTAMP:20260424T082353Z
CREATED:20260424T082353Z
DTSTART:20231105T233000Z
DTEND:20231106T003000Z
LOCATION:Field B (Fronthalf)
CONTACT:
SUMMARY:Erskine VS. Morse HS
DESCRIPTION:League Name: Soccer - League - High School BOYS 8 v 8 - Session
  I 2023/24\nGame Type: Regular\nGame Status: Complete\nHome Team: Erskine\
 nAway Team: Morse HS\nHome Score: 2\nAway Score: 4
END:VEVENT
BEGIN:VEVENT
UID:15375959@ezleagues.ezfacility.com
DTSTAMP:20260424T082353Z
CREATED:20260424T082353Z
DTSTART:20231113T013000Z
DTEND:20231113T023000Z
LOCATION:Field B (Fronthalf)
CONTACT:
SUMMARY:Fuego United VS. Morse HS
DESCRIPTION:League Name: Soccer - League - High School BOYS 8 v 8 - Session
  I 2023/24\nGame Type: Regular\nGame Status: Complete\nHome Team: Fuego Un
 ited\nAway Team: Morse HS\nHome Score: 1\nAway Score: 2
END:VEVENT
BEGIN:VEVENT
UID:15375966@ezleagues.ezfacility.com
DTSTAMP:20260424T082353Z
CREATED:20260424T082353Z
DTSTART:20231120T010000Z
DTEND:20231120T020000Z
LOCATION:Field B (Fronthalf)
CONTACT:
SUMMARY:Junkyard dogs VS. Morse HS
DESCRIPTION:League Name: Soccer - League - High School BOYS 8 v 8 - Session
  I 2023/24\nGame Type: Regular\nGame Status: Complete\nHome Team: Junkyard
  dogs\nAway Team: Morse HS\nHome Score: 6\nAway Score: 4
END:VEVENT
BEGIN:VEVENT
UID:15375969@ezleagues.ezfacility.com
DTSTAMP:20260424T082353Z
CREATED:20260424T082353Z
DTSTART:20231126T170000Z
DTEND:20231126T180000Z
LOCATION:Field B (Fronthalf)
CONTACT:
SUMMARY:Morse HS VS. Ball Buster FC
DESCRIPTION:League Name: Soccer - League - High School BOYS 8 v 8 - Session
  I 2023/24\nGame Type: Regular\nGame Status: Complete\nHome Team: Morse HS
 \nAway Team: Ball Buster FC\nHome Score: 7\nAway Score: 6
END:VEVENT
BEGIN:VEVENT
UID:15375972@ezleagues.ezfacility.com
DTSTAMP:20260424T082353Z
CREATED:20260424T082353Z
DTSTART:20231203T230000Z
DTEND:20231204T000000Z
LOCATION:Field B (Fronthalf)
CONTACT:
SUMMARY:Morse HS VS. Islesboro
DESCRIPTION:League Name: Soccer - League - High School BOYS 8 v 8 - Session
  I 2023/24\nGame Type: Regular\nGame Status: Complete\nHome Team: Morse HS
 \nAway Team: Islesboro\nHome Score: 6\nAway Score: 6
END:VEVENT
BEGIN:VEVENT
UID:15375978@ezleagues.ezfacility.com
DTSTAMP:20260424T082353Z
CREATED:20260424T082353Z
DTSTART:20231211T010000Z
DTEND:20231211T020000Z
LOCATION:Field B (Fronthalf)
CONTACT:
SUMMARY:Morse HS VS. Hall-Dale
DESCRIPTION:League Name: Soccer - League - High School BOYS 8 v 8 - Session
  I 2023/24\nGame Type: Regular\nGame Status: Complete\nHome Team: Morse HS
 \nAway Team: Hall-Dale\nHome Score: 5\nAway Score: 2
END:VEVENT
BEGIN:VEVENT
UID:15375983@ezleagues.ezfacility.com
DTSTAMP:20260424T082353Z
CREATED:20260424T082353Z
DTSTART:20231218T020000Z
DTEND:20231218T030000Z
LOCATION:Field B (Fronthalf)
CONTACT:
SUMMARY:Morse HS VS. Medomak Monkeys
DESCRIPTION:League Name: Soccer - League - High School BOYS 8 v 8 - Session
  I 2023/24\nGame Type: Regular\nGame Status: Complete\nHome Team: Morse HS
 \nAway Team: Medomak Monkeys\nHome Score: 0\nAway Score: 4
END:VEVENT
END:VCALENDAR
